Workbook

Sheet Execução ABR-26
A1: NAV BRASIL — EXECUÇÃO FINANCEIRA DOS CONTRATOS | ATUALIZADO ATÉ ABRIL/2026 (com somas mensais e total executado 2026)
A2: Contratada | B2: Status Atual | C2: CNPJ | D2: Termo de Contrato | E2: Natureza do Contrato | F2: Início da Vigência | G2: Término da Vigência | H2: Vigência | I2: PA do Contrato | J2: Localidade | K2: Histórico Legado (Smart) | L2: Saldo Legado (Smart) | M2: Total Realizado de Jan/25 - Jun/25 | N2: Saldo junho/25 | O2: Realizado - Julho | P2: Saldo julho/25 | Q2: Realizado - Agosto | R2: Saldo de Agosto | S2: Realizado - Setembro | T2: Saldo de Setembro | U2: Realizado - Outubro | V2: Saldo de Outubro | W2: Realizado - Novembro | X2: Saldo de Novembro | Y2: Realizado - Dezembro | Z2: Saldo de Dezembro | AA2: Total realizado - 2025 | AB2: Realizado - Janeiro | AC2: Saldo de Janeiro | AD2: Realizado - Fevereiro | AE2: Saldo de Fevereiro | AF2: Realizado - Março | AG2: Saldo de Março | AH2: Realizado - Abril | AI2: Saldo de Abril | AJ2: Realizado 2026 (Jan–Abr/26)
A3: A. BORGES NETO & CIA. LTDA. | B3: ATIVO | C3: 05.081.243/0001-15 | D3: 0040-TG-2023/0044 | E3: PRESTAÇÃO DE SERVIÇO | F3: 09/10/2023 | G3: 09/10/2028 | H3: Vence após 180 dias | I3: SEDE-ADM-2023/01203 | J3: DNBW | K3: 0 | L3: 193172.26 | M3: 146448.4 | N3: 193172.26 | O3: 20921.2 | P3: 172251.06 | Q3: 20921.2 | R3: 151329.86 | S3: 20921.2 | T3: 130408.66 | U3: 20921.2 | V3: 109487.46 | W3: 20921.2 | X3: 88566.26 | Y3: 20921.2 | Z3: 67645.06 | AA3: 334739.2 | AB3: 20921.2 | AC3: 46723.86 | AD3: 20921.2 | AE3: 25802.66 | AF3: 20921.2 | AG3: 1255272 | AH3: 20921.2 | AI3: 1234350.8 | AJ3: =AB3+AD3+AF3+AH3 -> 83684.8
A4: ADDUNT SERVIÇOS DE CONSULTORIA E GESTÃO LTDA. | B4: ENCERRADO | C4: 17.887.641/0001-02 | D4: 0022-PS/2022/0001 | E4: PRESTAÇÃO DE SERVIÇO | F4: 03/10/2022 | G4: 03/01/2023 | H4: Vencido | I4: SEDE-ADM-2022/00968 | J4: SEDE | K4: 0 | L4: 0 | M4: 0 | N4: 0 | O4: 0 | P4: 0 | Q4: 0 | R4: 0 | S4: 0 | T4: 0 | U4: 0 | V4: 0 | W4: 0 | X4: 0 | Y4: 0 | Z4: 0 | AA4: 0 | AB4: 0 | AC4: 0 | AD4: 0 | AE4: 0 | AF4: 0 | AG4: 0 | AH4: 0 | AI4: 0 | AJ4: =AB4+AD4+AF4+AH4 -> 0
A5: AÉCIO OZÉIAS RIBEIRO DA SILVA | B5: ENCERRADO | C5: 00.499.359/0001-55 | D5: 0104-ML/2020/0035 | E5: PRESTAÇÃO DE SERVIÇO | F5: 11/10/2020 | G5: 10/10/2025 | H5: Vencido | I5: SEDE-ADM-2022/00138 | J5: DNLO | K5: 2023-04 11181,04|2023-05 12706,38|2023-06 11241,93|2023-07 10194,5|2023-08 12711,16|2023-09 11663,72|2023-10 10409,07|2023-11 13317,55|2023-12 10210,52|2024-01 11170,3|2024-02 12542,94|2024-03 10766,46|2024-04 9537,77|2024-05 25085,08|2024-06 10802,48|2024-07 10622,5|2024-08 11278,6|2024-09 10470,2|2024-10 10457,92|2024-11 13317,55|2024-12 11228,97|2025-01 10188,83|2025-02 10931,95|2025-03 10327,32|2025-04 9622,932025-05 12084,91|2025-06 49099,83 | L5: 379527.31 | M5: 118116.01 | N5: 379527.31 | O5: 12042.59 | P5: 367484.72 | Q5: 15860.24 | R5: 351624.48 | S5: 12361.57 | T5: 339262.91 | U5: 12103.25 | V5: 327159.66 | W5: 0 | X5: 327159.66 | Y5: 12249.43 | Z5: 314910.23 | AA5: 182733.09 | AB5: 0 | AC5: 0 | AD5: 0 | AE5: 0 | AF5: 0 | AG5: 0 | AH5: 0 | AI5: 0 | AJ5: =AB5+AD5+AF5+AH5 -> 0
A6: AGIL LTDA. | B6: ENCERRADO | C6: 26.427.482/0001-54 | D6: 0017-SL/2024/0021 | E6: PRESTAÇÃO DE SERVIÇO DE CONSERVAÇÃO E LIMPEZA | F6: 12/06/2024 | G6: 12/12/2026 | H6: Vence após 180 dias | I6: SEDE-ADM-2023/02158 | J6: DNCJ | K6: 2025-02 3735|2025-03 10236,67|2025-05 4150|2025-06 41502024-09 9054,62|2024-10 4527,31|2024-11 4527,31|2024-12 4527,31|2025-01 4527,31|2025-02 4527,31|2025-03 4527,31|2025-04 4527,31|2025-02 16200 | L6: 95073.44 | M6: 18409.24 | N6: 95073.44 | O6: 0 | P6: 95073.44 | Q6: 0 | R6: 95073.44 | S6: 0 | T6: 95073.44 | U6: 0 | V6: 95073.44 | W6: 0 | X6: 95073.44 | Y6: 4527.31 | Z6: 90546.13 | AA6: 22936.55 | AB6: 0 | AC6: 0 | AD6: 0 | AE6: 0 | AF6: 0 | AG6: 0 | AH6: 0 | AI6: 0 | AJ6: =AB6+AD6+AF6+AH6 -> 0
A7: AGIL LTDA. | B7: ENCERRADO | C7: 26.427.482/0001-54 | D7: 0028-SL/2024/0018 | E7: PRESTAÇÃO DE SERVIÇO DE CONSERVAÇÃO E LIMPEZA | F7: 04/10/2024 | G7: 04/04/2027 | H7: Vence após 180 dias | I7: SEDE-ADM-2023/02143 | J7: DNHT | K7: 2025-02 3735|2025-03 10236,67|2025-05 4150|2025-06 41502024-09 9054,62|2024-10 4527,31|2024-11 4527,31|2024-12 4527,31|2025-01 4527,31|2025-02 4527,31|2025-03 4527,31|2025-04 4527,31|2025-02 16200 | L7: 102228.33 | M7: 22271.67 | N7: 102228.33 | O7: 0 | P7: 102228.33 | Q7: 0 | R7: 102228.33 | S7: 0 | T7: 102228.33 | U7: 0 | V7: 102228.33 | W7: 0 | X7: 102228.33 | Y7: 0 | Z7: 102228.33 | AA7: 22271.67 | AB7: 0 | AC7: 0 | AD7: 0 | AE7: 0 | AF7: 0 | AG7: 0 | AH7: 0 | AI7: 0 | AJ7: =AB7+AD7+AF7+AH7 -> 0
A8: AIR LIQUIDE BRASIL LTDA. | B8: ATIVO | C8: 00.331.788/0093-37 | D8: 0009-FM/2025/0042 | E8: PRESTAÇÃO DE SERVIÇO | F8: 14/01/2025 | G8: 14/07/2027 | H8: Vence após 180 dias | I8: SEDE-ADM-2025/00038 | J8: DNUL | K8: 2025-02 16200|2025-03 24300|2025-04 24300|2025-05 8100|2025-06 16200|2025-07 243002025-04 172898,6|2025-07 293038,31|2023-05 591387,63|2023-08 269510,01|2023-10 258028,82|2023-12 228198,67|2024-02 230561,71|2024-05 260549,44|2024-06 335601,14|2024-09 229804,16|2024-11 266115,51|2023-05 694007,75|2023-08 247472,53|2023-10 265386,99|2023-12 379796,84|2024-02 245596,42|2024-04 244788,94|2024-05 455501,27|2024-06 412321,04|2024-09 311570,46|2024-11 372629,07 | L8: 1582650 | M8: 113400 | N8: 1582650 | O8: 24300 | P8: 1558350 | Q8: 16200 | R8: 1542150 | S8: 16200 | T8: 1525950 | U8: 16200 | V8: 1509750 | W8: 24300 | X8: 1485450 | Y8: 16200 | Z8: 1469250 | AA8: 267300 | AB8: 16200 | AC8: 1453050 | AD8: 8100 | AE8: 1444950 | AF8: 16200 | AG8: 1428750 | AH8: 16200 | AI8: 1412550 | AJ8: =AB8+AD8+AF8+AH8 -> 56700
A9: ALGAR TELECOM S/A | B9: ENCERRADO | C9: 71.208.516/0001-74 | D9: 0015-PS/2021/0001 | E9: PRESTAÇÃO DE SERVIÇO | F9: 16/04/2021 | G9: 15/04/2026 | H9: Vencido | I9: SEDE-ADM-2022/00101 | J9: DNUL- DNUR | K9: 2024-09 179,36|2024-10 178,77|2024-11 178,57|2024-12 178,98|2025-01 176,47|2025-02 177,24|2025-03 177,19|2025-04 177,39|2025-05 178,03|2025-06 223,41|2025-07 177,35 |2023-12 26583,21|2024-01 26583,21|2024-03 389906,02|2024-04 125086,1|2024-05 26583,21|2024-06 26583,21|2024-07 26583,21|2024-08 95340,96 | L9: 17864.69 | M9: 1287.08 | N9: 17864.69 | O9: 177.25 | P9: 17687.44 | Q9: 177.43 | R9: 17510.01 | S9: 177.52 | T9: 17332.49 | U9: 177.69 | V9: 17154.8 | W9: 46.24 | X9: 17108.56 | Y9: 131.26 | Z9: 16977.3 | AA9: 2621.83 | AB9: 92.48 | AC9: 0 | AD9: 177.45 | AE9: -177.45 | AF9: 177.43 | AG9: -354.88 | AH9: 308.74 | AI9: -663.62 | AJ9: =AB9+AD9+AF9+AH9 -> 756.1
A10: AMAZON DOCUMENTOS E TECNOLOGIA DA INFORMAÇÃO LTDA. | B10: ENCERRADO | C10: 00.734.255/0001-88 | D10: 0034-SF/2021/0001 | E10: PRESTAÇÃO DE SERVIÇO | F10: 31/03/2021 | G10: 30/03/2026 | H10: Vencido | I10: SEDE-ADM-2022/00061 | J10: SEDE | K10: 0 | L10: 247048.67 | M10: 342223.9 | N10: 247048.67 | O10: 0 | P10: 218985.28 | Q10: 0 | R10: 218985.28 | S10: 0 | T10: 218985.28 | U10: 0 | V10: 218985.28 | W10: 0 | X10: 218985.28 | Y10: 0 | Z10: 218985.28 | AA10: 342223.9 | AB10: 0 | AC10: 0 | AD10: 0 | AE10: 0 | AF10: 0 | AG10: 0 | AH10: 0 | AI10: 0 | AJ10: =AB10+AD10+AF10+AH10 -> 0
A11: ATM SERVIÇOS ESPECIALIZADOS LTDA. | B11: ENCERRADO | C11: 32.984.752/0001-20 | D11: 0045-SL/2023/0046 | E11: PRESTAÇÃO DE SERVIÇO DE CONSERVAÇÃO E LIMPEZA | F11: 21/11/2023 | G11: 21/05/2026 | H11: Vence em 30 dias | I11: SEDE-ADM-2023/01366 | J11: DNAT | K11: 2023-12 5268,63|2024-01 5268,63|2024-03 5268,63|2024-04 5268,63|2024-05 5268,63|2024-06 4741,77|2024-07 4741,77 | L11: 131013.42 | M11: 0 | N11: 131013.42 | O11: 0 | P11: 131013.42 | Q11: 0 | R11: 131013.42 | S11: 0 | T11: 131013.42 | U11: 0 | V11: 131013.42 | W11: 0 | X11: 131013.42 | Y11: 0 | Z11: 131013.42 | AA11: 0 | AB11: 0 | AC11: 0 | AD11: 0 | AE11: 0 | AF11: 0 | AG11: 0 | AH11: 0 | AI11: 0 | AJ11: =AB11+AD11+AF11+AH11 -> 0
A12: AZUL LINHAS AÉREAS BRASILEIRAS S/A | B12: ENCERRADO | C12: 09.740.766/0001-60 | D12: 05-2020-149-0001 | E12: PRESTAÇÃO DE SERVIÇO | F12: 10/10/2020 | G12: 09/10/2025 | H12: Vencido | I12: SEDE-ADM-2021/00067 | J12: DNSJ | K12: 0 | L12: 0 | M12: 0 | N12: 0 | O12: 0 | P12: 0 | Q12: 0 | R12: 0 | S12: 0 | T12: 0 | U12: 0 | V12: 0 | W12: 0 | X12: 0 | Y12: 0 | Z12: 0 | AA12: 0 | AB12: 0 | AC12: 0 | AD12: 0 | AE12: 0 | AF12: 0 | AG12: 0 | AH12: 0 | AI12: 0 | AJ12: =AB12+AD12+AF12+AH12 -> 0
A13: B CARVALHO LTDA. | B13: ATIVO | C13: 50.190.142/0001-37 | D13: 0018-SL/2024/0019 | E13: PRESTAÇÃO DE SERVIÇO DE CONSERVAÇÃO E LIMPEZA | F13: 30/07/2024 | G13: 30/01/2027 | H13: Vence após 180 dias | I13: SEDE-ADM-2024/00642 | J13: DNSN | K13: 2024-10 7638,9|2024-11 9166,67|2024-12 9166,67|2025-01 9166,67|2025-02 9166,67|2025-03 9166,67|2025-04 9166,67|2025-05 9166,67|2025-06 18333,34 | L13: 184861.07 | M13: 77038.88 | N13: 184861.07 | O13: 12872.19 | P13: 171988.88 | Q13: 12872.19 | R13: 159116.69 | S13: 0 | T13: 159116.69 | U13: 9604.12 | V13: 149512.57 | W13: 19208.24 | X13: 130304.33 | Y13: 28812.36 | Z13: 101491.97 | AA13: 179616.22 | AB13: 0 | AC13: 101491.97 | AD13: 9604.12 | AE13: 91887.85 | AF13: 9604.12 | AG13: 82283.73 | AH13: 9604.12 | AI13: 72679.61 | AJ13: =AB13+AD13+AF13+AH13 -> 28812.36
A14: B7 EMPREENDIMENTOS LTDA. | B14: ENCERRADO | C14: 17.298.685/0001-05 | D14: 0036-PS/2022/0001 | E14: PRESTAÇÃO DE SERVIÇO | F14: 15/12/2022 | G14: 15/06/2023 | H14: Vencido | I14: SEDE-ADM-2022/01172 | J14: SEDE | K14: 0 | L14: 0 | M14: 0 | N14: 0 | O14: 0 | P14: 0 | Q14: 0 | R14: 0 | S14: 0 | T14: 0 | U14: 0 | V14: 0 | W14: 0 | X14: 0 | Y14: 0 | Z14: 0 | AA14: 0 | AB14: 0 | AC14: 0 | AD14: 0 | AE14: 0 | AF14: 0 | AG14: 0 | AH14: 0 | AI14: 0 | AJ14: =AB14+AD14+AF14+AH14 -> 0
... A58: EXCEL ELEVADORES LTDA. | B58: ATIVO | C58: 02.590.254/0001-32 | D58: 0155-SM/2021/0062 | E58: PRESTAÇÃO DE SERVIÇO | F58: 20/10/2021 | G58: 20/10/2026 | H58: Vence em 180 dias | I58: SEDE-ADM-2022/00656 | J58: DNRJ | K58: 2024-05 3265,25|2024-06 25350,67|2024-07 3265,25|2024-08 3265,25|2024-09 3265,25|2024-10 4675,25|2024-11 3265,25|2024-12 3265,25|2025-01 3265,25|2025-02 3265,25|2025-03 3265,25|2025-04 3265,25|2025-05 3265,25|2025-06 3265,25|2025-07 3265,252025-07 49.300,00 | L58: 176858.29 | M58: 22856.75 | N58: 176858.29 | O58: 3265.25 | P58: 173593.04 | Q58: 3265.25 | R58: 170327.79 | S58: 3700.8 | T58: 166626.99 | U58: 4480.8 | V58: 162146.19 | W58: 3265.25 | X58: 158880.94 | Y58: 5931.87 | Z58: 152949.07 | AA58: 53296.47 | AB58: 0 | AC58: 152949.07 | AD58: 3265.25 | AE58: 149683.82 | AF58: 3265.25 | AG58: 146418.57 | AH58: 3265.25 | AI58: 143153.32 | AJ58: =AB58+AD58+AF58+AH58 -> 9795.75
A59: EXTRAMED ADMINISTRAÇÃO E SERVIÇOS MÉDICOS LTDA. | B59: ENCERRADO | C59: 01.747.987/0001-75 | D59: 0011_DSAD_2024 | E59: CONTRATO DE CREDENCIAMENTO | F59: 31/01/2020 | G59: 15/07/2025 | H59: Vencido | I59: SEDE-ADM-2023/00165 | J59: SEDE | K59: 0 | L59: 0 | N59: 0 | O59: 0 | P59: 0 | Q59: 0 | R59: 0 | S59: 0 | T59: 0 | U59: 0 | V59: 0 | W59: 0 | X59: 0 | Y59: 0 | Z59: 0 | AA59: 0 | AB59: 0 | AC59: 0 | AD59: 0 | AE59: 0 | AF59: 0 | AG59: 0 | AH59: 0 | AI59: 0 | AJ59: =AB59+AD59+AF59+AH59 -> 0
A60: EXTREME | B60: ENCERRADO | C60: 14.139.773/0001-68 | D60: 0004-TI/2022/0001 | E60: PRESTAÇÃO DE SERVIÇO | F60: 28/04/2022 | G60: 28/02/2025 | H60: Vencido | I60: SEDE-ADM-2022/00469 | J60: SEDE | K60: 0 | L60: 348310.05 | M60: 206896.69 | N60: 348310.05 | O60: 0 | P60: 0 | Q60: 0 | R60: 0 | S60: 0 | T60: 0 | U60: 0 | V60: 0 | W60: 0 | X60: 0 | Y60: 0 | Z60: 0 | AA60: 206896.69 | AB60: 0 | AC60: 0 | AD60: 0 | AE60: 0 | AF60: 0 | AG60: 0 | AH60: 0 | AI60: 0 | AJ60: =AB60+AD60+AF60+AH60 -> 0
A61: F&F DISTRIBUIDORA CORDEIRO LTDA. | B61: ATIVO | C61: 44.965.792/0001-04 | D61: 0005-FM/2025/0001 | E61: PRESTAÇÃO DE SERVIÇO | F61: 11/02/2025 | G61: 11/08/2027 | H61: Vence após 180 dias | I61: SEDE-ADM-2025/00033 | J61: SEDE | K61: 2025-07 49.300,00 2025-05 8615,45|2025-06 8615,45|2025-07 8615,45 | L61: 0 | M61: 0 | N61: 0 | O61: 49300 | P61: 160770 | Q61: 49300 | R61: 111470 | S61: 55650 | T61: 55820 | U61: 0 | V61: 55820 | W61: 1350 | X61: 54470 | Y61: 0 | Z61: 54470 | AA61: 162200 | AB61: 6600 | AC61: 47870 | AD61: 0 | AE61: 47870 | AF61: 0 | AG61: 47870 | AH61: 0 | AI61: 47870 | AJ61: =AB61+AD61+AF61+AH61 -> 6600
A62: FÊNIX ASSESSORIA & GESTÃO EMPRESARIAL LTDA. | B62: ATIVO | C62: 04.795.101/0001-57 | D62: 0023-SL/2022/0033 | E62: PRESTAÇÃO DE SERVIÇO DE CONSERVAÇÃO E LIMPEZA | F62: 31/10/2022 | G62: 30/10/2027 | H62: Vence após 180 dias | I62: SEDE-ADM-2022/01317 | J62: DNPJ | K62: 0 | L62: 249576.35 | M62: 60308.15 | N62: 249576.35 | O62: 8615.45 | P62: 240960.9 | Q62: 8615.45 | R62: 232345.45 | S62: 9738.44 | T62: 222607.01 | U62: 8941.52 | V62: 213665.49 | W62: 8941.52 | X62: 204723.97 | Y62: 8941.52 | Z62: 195782.45 | AA62: 143463.86 | AB62: 9818.77 | AC62: 185963.68 | AD62: 9724.27 | AE62: 176239.41 | AF62: 9818.77 | AG62: 166420.64 | AH62: 9818.77 | AI62: 156601.87 | AJ62: =AB62+AD62+AF62+AH62 -> 39180.58
A63: FERREIRA SERVIÇOS E MANUTENÇÃO LTDA. - Cadastrar Termo Aditivo de Prorrogação | B63: ATIVO | C63: 33.262.062/0001-20 | D63: 0036-SL/2023/0043 | E63: PRESTAÇÃO DE SERVIÇO DE CONSERVAÇÃO E LIMPEZA | F63: 12/09/2023 | G63: 12/09/2028 | H63: Vence após 180 dias | I63: SEDE-ADM-2023/01242 | J63: DNUR | K63: 2023-11 9610,22|2023-12 19220,44|2024-02 9610,22|2024-03 9610,22|2024-04 9610,22|2024-05 9610,22|2024-06 9610,22|2024-07 9610,22|2024-08 9610,22|2024-09 9610,22|2024-10 9610,22|2024-11 9610,22|2024-12 9610,22|2025-01 9610,22|2025-02 8987,582025-03 9244,43|2025-04 9604,02|2025-05 9604,02|2025-06 19208,04|2025-07 9604,02|2025-08 9604,02 | L63: 86572.94 | M63: 85466.35 | N63: 86572.94 | O63: 9604.02 | P63: 76968.92 | Q63: 9604.02 | R63: 292431.43 | S63: 9604.02 | T63: 282827.41 | U63: 9976.94 | V63: 293811.68 | W63: 13230.39 | X63: 280581.29 | Y63: 10149.39 | Z63: 270431.9 | AA63: 177068.37 | AB63: 9811.08 | AC63: 260620.82 | AD63: 9811.08 | AE63: 250809.74 | AF63: 9811.08 | AG63: 240998.66 | AH63: 10149.39 | AI63: 230849.27 | AJ63: =AB63+AD63+AF63+AH63 -> 39582.63
A64: FIBONACCI ENGENHARIA E SERVIÇOS LTDA. | B64: ENCERRADO | C64: 21.315.711/0001-25 | D64: 0209-SC/2020/0031 | E64: PRESTAÇÃO DE SERVIÇO | F64: 01/10/2020 | G64: 01/10/2025 | H64: Vencido | I64: SEDE-ADM-2022/00197 | J64: DNMQ | K64: 2023-07 4928,42|2023-08 4820,95|2023-09 4730,99|2023-10 4605,07|2023-11 5505,07|2023-12 4505,07|2024-01 4505,07|2024-02 4505,07|2024-03 4505,07|2024-04 4505,07|2024-05 4505,07|2024-06 5134,49|2024-07 4714,65|2024-08 4714,65|2024-09 4670,43|2024-10 4707,28|2024-11 4707,282024-12 4707,28|2025-01 4707,28|2025-02 4707,28|2025-03 4707,28|2025-04 4945,36|2025-05 4945,36|2025-06 4945,36|2025-07 4945,36 | L64: 64437.59 | M64: 33903.28 | N64: 64437.59 | O64: 4945.36 | P64: 59492.23 | Q64: 4945.35 | R64: 54546.88 | S64: 4945.36 | T64: 49601.52 | U64: 4945.36 | V64: 44656.16 | W64: 0 | X64: 44656.16 | Y64: 0 | Z64: 44656.16 | AA64: 53684.71 | AB64: 0 | AC64: 0 | AD64: 0 | AE64: 0 | AF64: 0 | AG64: 0 | AH64: 0 | AI64: 0 | AJ64: =AB64+AD64+AF64+AH64 -> 0
A65: FIRMIANO SEGURANÇA PATRIMONIAL EIRELI | B65: ATIVO | C65: 19.907.785/0001-09 | D65: 0040-SV/2021/0195 | E65: PRESTAÇÃO DE SERVIÇO DE VIGILÂNCIA | F65: 15/07/2021 | G65: 13/04/2026 | H65: Vencido | I65: SEDE-ADM-2021/00088 | J65: DNME | K65: 2023-12 49257,69|2024-01 49257,69|2024-02 49257,69|2024-03 49257,69|2024-04 49257,69|2024-05 49257,69|2024-06 49257,69|2024-07 49257,69|2024-08 49257,69|2024-09 49257,692024-10 68069,29|2024-11 51138,85|2024-12 51138,85|2025-01 51138,85|2025-02 51138,85|2025-03 51138,85|2025-04 51138,85|2025-05 51138,85|2025-06 51138,85 2025-07 67.839,10 | L65: 591351.51 | M65: 374672.2 | N65: 591351.51 | O65: 51138.85 | P65: 560654.13 | Q65: 67839.1 | R65: 492815.03 | S65: 53524.6 | T65: 439290.43 | U65: 53524.6 | V65: 385765.83 | W65: 53524.6 | X65: 332241.23 | Y65: 107049.2 | Z65: 225192.03 | AA65: 868322.35 | AB65: 0 | AC65: 225192.03 | AD65: 53524.6 | AE65: 171667.43 | AF65: 53524.6 | AG65: 118142.83 | AH65: 53524.6 | AI65: 64618.23 | AJ65: =AB65+AD65+AF65+AH65 -> 160573.8
A66: GENESIS – GERAÇÃO DE NOVAS EMPRESAS DE SISTEMA E SERVIÇO LTDA. | B66: ATIVO | C66: 41.662.936/0001-65 | D66: 0021-SV/2023/0035 | E66: PRESTAÇÃO DE SERVIÇO DE VIGILÂNCIA | F66: 30/06/2023 | G66: 30/06/2026 | H66: Vence em 60 dias | I66: SEDE-ADM-2022/00998 | J66: DNBH | K66: 45709 1216050|45709 1216050|45709 1216050|45709 1216050|45709 121605045328 18408118,8|45328 18408118,8|45328 18408118,8|45328 18408118,8|45328 18408118,8|45328 18408118,8|45328 18408118,8|45328 18408118,8|45328 18408118,8|45328 18408118,8|45328 18408118,8|45328 18408118,8|45328 18408118,8 | L66: 65051.54 | M66: 34159.16 | N66: 65051.54 | O66: 4972.22 | P66: 60079.32 | Q66: 4972.22 | R66: 55107.1 | S66: 4972.22 | T66: 50134.88 | U66: 4972.22 | V66: 45162.66 | W66: 5000.86 | X66: 40161.8 | Y66: 5251.91 | Z66: 34909.89 | AA66: 79793.94 | AB66: 4989.31 | AC66: 29920.58 | AD66: 5251.91 | AE66: 24668.67 | AF66: 5251.91 | AG66: 19416.76 | AH66: 5251.91 | AI66: 14164.85 | AJ66: =AB66+AD66+AF66+AH66 -> 20745.04
A67: GL OXIGENIO LTDA. | B67: ATIVO | C67: 12.520.836/0001-04 | D67: 0023-FM/2023/0046 | E67: PRESTAÇÃO DE SERVIÇO | F67: 11/07/2023 | G67: 07/01/2026 | H67: Vencido | I67: SEDE-ADM-2023/00500 | J67: DNAT | K67: 2025-02 68000|2025-04 68000|2025-06 68000|2025-07 680002023-07 84089,14|2023-08 75038,38|2023-09 74978,7|2023-10 74859,34|2023-11 74829,5|2023-12 74769,82|2024-01 132505,64|2024-02 100076,78|2024-03 99977,34|2024-04 99828,18|2024-05 136637,93 | L67: 680850 | M67: 272000 | N67: 680850 | O67: 0 | P67: 612850 | Q67: 68000 | R67: 544850 | S67: 68000 | T67: 476850 | U67: 68000 | V67: 408850 | W67: 68000 | X67: 340850 | Y67: 74331.2 | Z67: 266518.8 | AA67: 692662.4 | AB67: 0 | AC67: 266518.8 | AD67: 0 | AE67: 266518.8 | AF67: 74331.2 | AG67: 192187.6 | AH67: 121460.8 | AI67: 70726.8 | AJ67: =AB67+AD67+AF67+AH67 -> 195792
A68: GLR CONSULTORIA EM SISTEMAS LTDA. | B68: ATIVO | C68: 62.450.028/0001-88 | D68: 0251-PS/2019/0001 | E68: PRESTAÇÃO DE SERVIÇO | F68: 29/07/2019 | G68: 03/11/2025 | H68: Vencido | I68: SEDE-ADM-2021/00007 | J68: SEDE | K68: 2023-07 84089,14|2023-08 75038,38|2023-09 74978,7|2023-10 74859,34|2023-11 74829,5|2023-12 74769,82|2024-01 132505,64|2024-02 100076,78|2024-03 99977,34|2024-04 99828,18|2024-05 136637,932024-06 99629,3|2024-07 99480,14|2024-08 122267,97|2024-09 104641,43 2024-10 104719,1|2024-11 104045,96|2024-12 104356,64|2025-01 104173,54|2025-02 104123,63|2025-03 103968,29|2025-04 104020,07|2025-05 103864,73|2025-06 120384,33|2025-07 109579,37 | L68: 3185758.9 | M68: 750113.96 | N68: 3185758.9 | O68: 120384.33 | P68: 3076179.5 | Q68: 109579.37 | R68: 2966600.2 | S68: 109633.91 | T68: 2856966.3 | U68: 64938.38 | V68: 2792027.9 | W68: 0 | X68: 2792027.9 | Y68: 153102.29 | Z68: 2638925.6 | AA68: 1427494 | AB68: 0 | AC68: 2638925.6 | AD68: 0 | AE68: 2638925.6 | AF68: 119741.79 | AG68: 2519183.8 | AH68: 0 | AI68: 2519183.8 | AJ68: =AB68+AD68+AF68+AH68 -> 119741.79
A69: GPBR PARTICIPAÇÕES LTDA. | B69: ATIVO | C69: 15.664.649/0001-84 | D69: 0024-PS/2025/0001 | E69: PRESTAÇÃO DE SERVIÇO | F69: 09/04/2025 | G69: 09/04/2026 | H69: Vencido | I69: SEDE-ADM-2025/00408 | J69: SEDE | K69: 0 | L69: 834768 | M69: 0 | N69: 834768 | O69: 69564 | P69: 765204 | Q69: 56973 | R69: 708231 | S69: 63269 | T69: 644962 | U69: 0 | V69: 644962 | W69: 126538 | X69: 518424 | Y69: 63269 | Z69: 455155 | AA69: 569420 | AB69: 63269 | AC69: 391886 | AD69: 63269 | AE69: 328617 | AF69: 63269 | AG69: 1669536 | AH69: 63269 | AI69: 1606267 | AJ69: =AB69+AD69+AF69+AH69 -> 253076
A70: HAWK SERVIÇOS DE CONSERVAÇÃO E LIMPEZA LTDA. | B70: ENCERRADO | C70: 28.483.805/0001-52 | D70: 0043-PS/2023/0001 | E70: PRESTAÇÃO DE SERVIÇO | F70: 31/10/2023 | G70: 30/04/2026 | H70: Vencido | I70: SEDE-ADM-2023/01638 | J70: SEDE | K70: 2023-12 23775,71|2024-01 23775,71|2024-02 23775,71|2024-03 47551,42|2024-05 23775,71|2024-06 23775,71|2024-07 23775,712024-08 23775,71|2024-09 30881,57|2024-10 49920,04|2024-11 24960,02|2025-01 49920,04|2025-02 36433,58 2025-03 92303,78|2025-05 57799,8|2025-06 24564,92|2025-07 23119,92|2025-08 24564,92 | L70: 280355.7 | M70: 308706.96 | N70: 280355.7 | O70: 47684.84 | P70: 257235.78 | Q70: 24564.92 | R70: 232670.86 | S70: 0 | T70: 232670.86 | U70: 0 | V70: 232670.86 | W70: 0 | X70: 232670.86 | Y70: 19057.65 | Z70: 213613.21 | AA70: 400014.37 | AB70: 0 | AC70: 0 | AD70: 0 | AE70: 0 | AF70: 0 | AG70: 0 | AH70: 0 | AI70: 0 | AJ70: =AB70+AD70+AF70+AH70 -> 0
A71: HIGICLEAN III TECNOLOGIA E LIMPEZA EIRELI Cadastrar termo aditivo | B71: ATIVO | C71: 25.128.718/0001-99 | D71: 0021-SL/2025/0049 | E71: PRESTAÇÃO DE SERVIÇO DE CONSERVAÇÃO E LIMPEZA | F71: 01/04/2025 | G71: 01/04/2027 | H71: Vence após 180 dias | I71: SEDE-ADM-2024/00750 | J71: DNAR | K71: 2025-05 23135,28|2025-06 7711,76|2025-07 7711,762024-12 19271,32|2025-02 183952 | L71: 61311.4 | M71: 38558.8 | N71: 61311.4 | O71: 7711.76 | P71: 53599.64 | Q71: 7711.76 | R71: 45887.88 | S71: 7711.76 | T71: 38176.12 | U71: 7711.76 | V71: 30464.36 | W71: 7711.76 | X71: 22752.6 | Y71: 15423.52 | Z71: 7329.08 | AA71: 108806.86 | AB71: 0 | AC71: 7329.08 | AD71: 7711.76 | AE71: -382.68 | AF71: 8553.98 | AG71: 92158.44 | AH71: 8553.98 | AI71: 83604.46 | AJ71: =AB71+AD71+AF71+AH71 -> 24819.72
... A86: INFRAERO | B86: ENCERRADO | C86: 00.352.294/0001-10 | D86: 0026-PS/2023/0001 | E86: PRESTAÇÃO DE SERVIÇO | F86: 31/07/2023 | G86: 31/10/2024 | H86: Vencido | I86: SEDE-ADM-2023/01210 | J86: SEDE | K86: 2024-10 403.408,37 2025-02 1738847,42|2025-03 1675904,18|2025-04 1812176,33|2025-05 1742521,47|2025-06 1659412,52 | L86: 28805956 | M86: 10271470 | N86: 28805956 | O86: 0 | P86: 28805956 | Q86: 0 | R86: 28805956 | S86: 0 | T86: 28805956 | U86: 0 | V86: 28805956 | W86: 0 | X86: 28805956 | Y86: 0 | Z86: 28805956 | AA86: 10271470 | AB86: 0 | AC86: 0 | AD86: 0 | AE86: 0 | AF86: 0 | AG86: 0 | AH86: 0 | AI86: 0 | AJ86: =AB86+AD86+AF86+AH86 -> 0
A87: INFRAERO | B87: ENCERRADO | C87: 00.352.294/0001-10 | D87: 0001-PS/2022/0110 | F87: 14/01/2022 | G87: 30/06/2023 | H87: Vencido | I87: SEDE-ADM-2021/00072 | J87: SEDE | K87: 2023-09 | 3867354,59 2023-11 | 5370870,01 2023-12 | 6760728,47 2024-01 | 4166511,08 2024-03 | 4089576,27 2024-04 | 8161896,69 2024-05 | 1410309,6 2024-06 | 5236536,69 2024-07 | 1858878,31 2024-08 | 1660429,17 2024-09 | 1657669,31 2024-10 | 1689059,15 2024-11 | 1807614,97 2024-12 | 1617345,73 2025-01 | 1642607,92 2025-02 | 1738847,42 2025-03 | 1675904,18 2025-04 | 1812176,33 2025-05 | 1742521,47 2025-06 | 1659412,52 | L87: 2446278.2 | M87: 0 | N87: 2446278.2 | O87: 0 | P87: 2446278.2 | Q87: 0 | R87: 2446278.2 | S87: 0 | T87: 2446278.2 | U87: 0 | V87: 2446278.2 | W87: 0 | X87: 2446278.2 | Y87: 0 | Z87: 2446278.2 | AA87: 0 | AB87: 0 | AC87: 0 | AD87: 0 | AE87: 0 | AF87: 0 | AG87: 0 | AH87: 0 | AI87: 0 | AJ87: =AB87+AD87+AF87+AH87 -> 0
A88: INSTITUTO DE PROMOÇÃO HUMANA, APRENDIZAGEM E CULTURA - IPHAC | B88: ATIVO | C88: 11.595.331/0001-38 | D88: 0026-PS/2025/0001 | E88: PRESTAÇÃO DE SERVIÇO | F88: 09/05/2025 | G88: 09/11/2027 | H88: Vence após 180 dias | I88: SEDE-ADM-2025/00536 | J88: DNVT | K88: 0 | L88: 152145 | M88: 0 | N88: 152145 | O88: 0 | P88: 152145 | Q88: 0 | R88: 152145 | S88: 0 | T88: 152145 | U88: 0 | V88: 152145 | W88: 0 | X88: 152145 | Y88: 0 | Z88: 152145 | AA88: 0 | AB88: 0 | AC88: 152145 | AD88: 0 | AE88: 152145 | AF88: 0 | AG88: 152145 | AH88: 0 | AI88: 152145 | AJ88: =AB88+AD88+AF88+AH88 -> 0
A89: INSTITUTO DE PROMOÇÃO HUMANA, APRENDIZAGEM E CULTURA - IPHAC | B89: ATIVO | C89: 11.595.331/0001-38 | D89: 0027-PS/2025/0001 | E89: PRESTAÇÃO DE SERVIÇO | F89: 09/05/2025 | G89: 09/11/2027 | H89: Vence após 180 dias | I89: SEDE-ADM-2025/00539 | J89: DNGO | K89: 0 | L89: 100096.2 | M89: 0 | N89: 100096.2 | O89: 0 | P89: 100096.2 | Q89: 0 | R89: 100096.2 | S89: 0 | T89: 100096.2 | U89: 0 | V89: 100096.2 | W89: 2001.92 | X89: 98094.28 | Y89: 3336.54 | Z89: 94757.74 | AA89: 11955.93 | AB89: 0 | AC89: 94757.74 | AD89: 3336.54 | AE89: 91421.2 | AF89: 3280.93 | AG89: 88140.27 | AH89: 3392.15 | AI89: 84748.12 | AJ89: =AB89+AD89+AF89+AH89 -> 10009.62
A90: INSTITUTO DOS AUDITORES INTERNOS DO BRASIL | B90: ATIVO | C90: 62.070.115/0001-00 | D90: 0028-ST/2025/0001 | E90: PRESTAÇÃO DE SERVIÇO | F90: 01/07/2025 | G90: 01/07/2026 | H90: Vence em 60 dias | I90: SEDE-ADM-2025/00437 | J90: SEDE | K90: 0 | L90: 0 | M90: 0 | N90: 0 | O90: 0 | P90: 33825 | Q90: 0 | R90: 33825 | S90: 0 | T90: 33825 | U90: 8325 | V90: 25500 | W90: 17325 | X90: 8175 | Y90: 0 | Z90: 8175 | AA90: 25650 | AB90: 0 | AC90: 8175 | AD90: 0 | AE90: 8175 | AF90: 0 | AG90: 8175 | AH90: 0 | AI90: 8175 | AJ90: =AB90+AD90+AF90+AH90 -> 0
A91: JVP NETWORK & SERVIÇOS LTDA. | B91: ATIVO | C91: 20.599.605/0001-58 | D91: 0015-SV/2025/0016 | E91: PRESTAÇÃO DE SERVIÇO DE VIGILÂNCIA | F91: 21/02/2025 | G91: 21/02/2027 | H91: Vence após 180 dias | I91: SEDE-ADM-2024/01447 | J91: DNNF | K91: 2025-04 28588,12|2025-05 19945,2|2025-06 19945,2|2025-07 19945,22024-09 130.403,45 | L91: 170863.88 | M91: 88423.72 | N91: 170863.88 | O91: 19945.2 | P91: 150918.68 | Q91: 19945.2 | R91: 130973.48 | S91: 19945.2 | T91: 111028.28 | U91: 19945.2 | V91: 91083.08 | W91: 19945.2 | X91: 71137.88 | Y91: 19945.2 | Z91: 51192.68 | AA91: 247985.32 | AB91: 19945.2 | AC91: 31247.48 | AD91: 0 | AE91: 31247.48 | AF91: 19945.2 | AG91: 11302.28 | AH91: 0 | AI91: 11302.28 | AJ91: =AB91+AD91+AF91+AH91 -> 39890.4
A92: JUSTIZ TERCEIRIZAÇÃO DE MÃO DE OBRA LTDA. | B92: ENCERRADO | C92: 06.538.799/0001-50 | D92: 0006-SL/2022/0032 | E92: PRESTAÇÃO DE SERVIÇO DE CONSERVAÇÃO E LIMPEZA | F92: 16/06/2022 | G92: 17/06/2025 | H92: Vencido | I92: SEDE-ADM-2022/00481 | J92: DNBU | K92: 2024-12 16.974,12 2025-04 28588,12|2025-05 19945,2|2025-06 19945,2|2025-07 19945,2 | L92: 28817.1 | M92: 52074.95 | N92: 28817.1 | O92: 10274.75 | P92: 18542.35 | Q92: 0 | R92: 18542.35 | S92: 0 | T92: 18542.35 | U92: 0 | V92: 18542.35 | W92: 0 | X92: 18542.35 | Y92: 0 | Z92: 18542.35 | AA92: 62349.7 | AB92: 0 | AC92: 0 | AD92: 0 | AE92: 0 | AF92: 0 | AG92: 0 | AH92: 0 | AI92: 0 | AJ92: =AB92+AD92+AF92+AH92 -> 0
A93: JUSTIZ TERCEIRIZAÇÃO DE MÃO DE OBRA LTDA. | B93: ENCERRADO | C93: 06.538.799/0001-50 | D93: 0007-SL/2022/0029 | E93: PRESTAÇÃO DE SERVIÇO DE CONSERVAÇÃO E LIMPEZA | F93: 17/06/2022 | G93: 17/06/2025 | H93: Vencido | I93: SEDE-ADM-2022/00500 | J93: DNDN | K93: 2024-12 16.974,12 2025-04 28588,12|2025-05 19945,2|2025-06 19945,2|2025-07 19945,2 | L93: 0 | M93: 112546.71 | N93: 0 | O93: 18633.14 | P93: 45333.82 | Q93: 0 | R93: 45333.82 | S93: 0 | T93: 45333.82 | U93: 0 | V93: 45333.82 | W93: 0 | X93: 45333.82 | Y93: 0 | Z93: 45333.82 | AA93: 131179.85 | AB93: 0 | AC93: 0 | AD93: 0 | AE93: 0 | AF93: 0 | AG93: 0 | AH93: 0 | AI93: 0 | AJ93: =AB93+AD93+AF93+AH93 -> 0
A94: JUSTIZ TERCEIRIZAÇÃO DE MÃO DE OBRA LTDA. | B94: ENCERRADO | C94: 06.538.799/0001-50 | D94: 0010-SL/2022/0030 | E94: PRESTAÇÃO DE SERVIÇO DE CONSERVAÇÃO E LIMPEZA | F94: 21/07/2022 | G94: 20/01/2025 | H94: Vencido | I94: SEDE-ADM-2022/00817 | J94: DNGR | K94: 2024-12 16.974,12 2025-04 28588,12|2025-05 19945,2|2025-06 19945,2|2025-07 19945,2 | L94: 0 | M94: 33545.25 | N94: 0 | O94: 0 | P94: 0 | Q94: 0 | R94: 0 | S94: 0 | T94: 0 | U94: 0 | V94: 0 | W94: 0 | X94: 0 | Y94: 0 | Z94: 0 | AA94: 33545.25 | AB94: 0 | AC94: 0 | AD94: 0 | AE94: 0 | AF94: 0 | AG94: 0 | AH94: 0 | AI94: 0 | AJ94: =AB94+AD94+AF94+AH94 -> 0
A95: JUSTIZ TERCEIRIZAÇÃO DE MÃO DE OBRA LTDA. | B95: ENCERRADO | C95: 06.538.799/0001-50 | D95: 0011-SL/2022/0001 | E95: PRESTAÇÃO DE SERVIÇO DE CONSERVAÇÃO E LIMPEZA | F95: 29/07/2022 | G95: 29/07/2025 | H95: Vencido | I95: SEDE-ADM-2022/00818 | J95: DNKP | K95: 2024-12 16.974,12 2025-04 28588,12|2025-05 19945,2|2025-06 19945,2|2025-07 19945,2 | L95: 163267.05 | M95: 326730.67 | N95: 163267.05 | O95: 44044.13 | P95: 119222.92 | Q95: 55159.25 | R95: 64063.67 | S95: 27894.61 | T95: 36169.06 | U95: 0 | V95: 36169.06 | W95: 0 | X95: 36169.06 | Z95: 36169.06 | AA95: 453828.66 | AB95: 0 | AC95: 0 | AD95: 0 | AE95: 0 | AF95: 0 | AG95: 0 | AH95: 0 | AI95: 0 | AJ95: =AB95+AD95+AF95+AH95 -> 0
A96: KIARGOS SERVIÇOS E FACILITY LTDA. | B96: ATIVO | C96: 28.871.366/0001-55 | D96: 0064-SL/2025/0030 | E96: PRESTAÇÃO DE SERVIÇO DE CONSERVAÇÃO E LIMPEZA | F96: 20/10/2025 | G96: 20/04/2028 | H96: Vence após 180 dias | I96: SD-ADM-2025/01262 | J96: DNGR | K96: 0 | L96: 0 | M96: 0 | N96: 0 | O96: 0 | P96: 0 | Q96: 0 | R96: 0 | S96: 0 | T96: 0 | U96: 0 | V96: 1729999.8 | W96: 0 | X96: 1729999.8 | Y96: 13349.57 | Z96: 1716650.2 | AA96: 184986.92 | AB96: 114424.9 | AC96: 1602225.3 | AD96: 0 | AE96: 1602225.3 | AF96: 57212.45 | AG96: 1545012.9 | AH96: 57212.45 | AI96: 1487800.4 | AJ96: =AB96+AD96+AF96+AH96 -> 228849.8
A97: KOVR SEGURADORA S/A | B97: ATIVO | C97: 42.366.302/0001-28 | D97: 0017-SS/2022/0001 | E97: PRESTAÇÃO DE SERVIÇO | F97: 13/09/2022 | G97: 13/09/2026 | H97: Vence em 120 dias | I97: SEDE-ADM-2022/00887 | J97: DNRJ | K97: 2024-09 130.403,45 2025-07 209.725,31 | L97: 0 | M97: 0 | N97: 0 | O97: 0 | P97: 0 | Q97: 0 | R97: 0 | S97: 0 | T97: 0 | U97: 0 | V97: 0 | W97: 0 | X97: 0 | Y97: 0 | Z97: 0 | AA97: 0 | AB97: 0 | AC97: 0 | AD97: 0 | AE97: 0 | AF97: 0 | AG97: 0 | AH97: 0 | AI97: 0 | AJ97: =AB97+AD97+AF97+AH97 -> 0
A98: L.A. VIAGENS E TURISMO LTDA. | B98: ATIVO | C98: 04.613.668/0001-65 | D98: 0032-PS/2022/0001 | E98: PRESTAÇÃO DE SERVIÇO | F98: 30/11/2022 | G98: 30/11/2027 | H98: Vence após 180 dias | I98: SEDE-ADM-2022/01158 | J98: SEDE | K98: 0 | L98: 14758864 | M98: 1436281.1 | N98: 14758864 | O98: 341832.26 | P98: 14417032 | Q98: 140662.99 | R98: 14276369 | S98: 193927.71 | T98: 14082442 | U98: 324204.3 | V98: 13758237 | W98: 309342.52 | X98: 13448895 | Y98: 593306.79 | Z98: 12855588 | AA98: 3803551.5 | AB98: 109547.12 | AC98: 12746041 | AD98: 185336.1 | AE98: 12560705 | AF98: 169110.65 | AG98: 12391594 | AH98: 225574.42 | AI98: 12166020 | AJ98: =AB98+AD98+AF98+AH98 -> 689568.29
A99: LIDDERA GESTÃO EMPRESARIAL LTDA. | B99: ATIVO | C99: 32.853.748/0001-23 | D99: 0039-SL/2022/0014 | E99: PRESTAÇÃO DE SERVIÇO DE CONSERVAÇÃO E LIMPEZA | F99: 16/01/2023 | G99: 16/01/2028 | H99: Vence após 180 dias | I99: SEDE-ADM-2022/01724 | J99: DNMS | K99: 2025-06 48592,42|2025-07 17546,612025-05 11143,81|2025-06 5469,01|2025-07 5469,01 | L99: 313599.9 | M99: 31163.96 | N99: 313599.9 | O99: 5226.66 | P99: 308373.24 | Q99: 0 | R99: 308373.24 | S99: 0 | T99: 308373.24 | U99: 15627.71 | V99: 292745.53 | W99: 5226.66 | X99: 287518.87 | Y99: 10453.32 | Z99: 277065.55 | AA99: 83378.29 | AB99: 0 | AC99: 277065.55 | AD99: 0 | AE99: 277065.55 | AF99: 15679.98 | AG99: 261385.57 | AH99: 5226.66 | AI99: 256158.91 | AJ99: =AB99+AD99+AF99+AH99 -> 20906.64
A100: LEONARDO FALCÃO RIBEIRO ADVOGADOS ASSOCIADOS | B100: ENCERRADO | C100: 27.074.636/0001-34 | D100: 0015-JU/2023/0001 | E100: PRESTAÇÃO DE SERVIÇO | F100: 20/04/2023 | G100: 19/04/2025 | H100: Vencido | I100: SEDE-ADM-2022/01702 | J100: SEDE | K100: 0 | L100: 0 | M100: 0 | N100: 0 | O100: 0 | P100: 0 | Q100: 0 | R100: 0 | S100: 0 | T100: 0 | U100: 0 | V100: 0 | W100: 0 | X100: 0 | Y100: 0 | Z100: 0 | AA100: 0 | AB100: 0 | AC100: 0 | AD100: 0 | AE100: 0 | AF100: 0 | AG100: 0 | AH100: 0 | AI100: 0 | AJ100: =AB100+AD100+AF100+AH100 -> 0
A101: LIDDERA GESTÃO EMPRESARIAL LTDA. | B101: ATIVO | C101: 32.853.748/0001-23 | D101: 0040-SL/2022/0007 | E101: PRESTAÇÃO DE SERVIÇO DE CONSERVAÇÃO E LIMPEZA | F101: 01/02/2023 | G101: 01/02/2028 | H101: Vence após 180 dias | I101: SEDE-ADM-2022/01720 | J101: DNCZ | K101: 2025-06 48592,42|2025-07 17546,612025-05 11143,81|2025-06 5469,01|2025-07 5469,01 | L101: 5698.52 | M101: 36208.55 | N101: 5698.52 | O101: 5172.65 | P101: 311410.74 | Q101: 5172.65 | R101: 306238.09 | S101: 5172.65 | T101: 301065.44 | U101: 5172.65 | V101: 295892.79 | W101: 0 | X101: 295892.79 | Y101: 10345.3 | Z101: 285547.49 | AA101: 82762.4 | AB101: 0 | AC101: 285547.49 | AD101: 10345.3 | AE101: 275202.19 | AF101: 5172.65 | AG101: 270029.54 | AH101: 5142.65 | AI101: 264886.89 | AJ101: =AB101+AD101+AF101+AH101 -> 20660.6
A102: LIDDERA GESTÃO EMPRESARIAL LTDA. | B102: ENCERRADO | C102: 32.853.748/0001-23 | D102: 0001-SL/2023/0013 | E102: PRESTAÇÃO DE SERVIÇO DE CONSERVAÇÃO E LIMPEZA | F102: 01/02/2023 | G102: 01/08/2025 | H102: Vencido | I102: SEDE-ADM-2022/01722 | J102: DNKG | K102: 2025-06 48592,42|2025-07 17546,612025-05 11143,81|2025-06 5469,01|2025-07 5469,01 | L102: 1932.54 | M102: 34635.37 | N102: 1932.54 | O102: 4911.74 | P102: -2979.2 | Q102: 4861.1 | R102: -7840.3 | S102: 0 | T102: -7840.3 | U102: 0 | V102: -7840.3 | W102: 0 | X102: -7840.3 | Z102: -7840.3 | AA102: 44408.21 | AB102: 0 | AC102: 0 | AD102: 0 | AE102: 0 | AF102: 0 | AG102: 0 | AH102: 0 | AI102: 0 | AJ102: =AB102+AD102+AF102+AH102 -> 0
A103: LIDDERA GESTÃO EMPRESARIAL LTDA. | B103: ATIVO | C103: 32.853.748/0001-23 | D103: 0021-SL/2022/0005 | E103: PRESTAÇÃO DE SERVIÇO DE CONSERVAÇÃO E LIMPEZA | F103: 10/10/2022 | G103: 10/10/2027 | H103: Vence após 180 dias | I103: SEDE-ADM-2022/01305 | J103: DNTF | K103: 2025-06 48592,42|2025-07 17546,612025-05 11143,81|2025-06 5469,01|2025-07 5469,01 | L103: 150909.39 | M103: 38091.93 | N103: 150909.39 | O103: 10938.02 | P103: 145440.38 | Q103: 5469.01 | R103: 139971.37 | S103: 5469.01 | T103: 134502.36 | U103: 5469.01 | V103: 129033.35 | W103: 5469.01 | X103: 123564.34 | Y103: 5469.01 | Z103: 118095.33 | AA103: 109189.06 | AB103: 5469.01 | AC103: 112626.32 | AD103: 10938.02 | AE103: 101688.3 | AF103: 16407.03 | AG103: 85281.27 | AH103: 5469.01 | AI103: 79812.26 | AJ103: =AB103+AD103+AF103+AH103 -> 38283.07
A104: LIDDERA GESTÃO EMPRESARIAL LTDA. | B104: ATIVO | C104: 32.853.748/0001-23 | D104: 0025-SL/2022/0027 | E104: PRESTAÇÃO DE SERVIÇO DE CONSERVAÇÃO E LIMPEZA | F104: 24/10/2022 | G104: 24/10/2027 | H104: Vence após 180 dias | I104: SEDE-ADM-2022/01445 | J104: DNIH | K104: 2025-06 48592,42|2025-07 17546,612025-05 11143,81|2025-06 5469,01|2025-07 5469,01 | L104: 144710 | M104: 38589.34 | N104: 144710 | O104: 4990 | P104: 134730 | Q104: 4990 | R104: 129740 | S104: 0 | T104: 129740 | U104: 4990 | V104: 124750 | W104: 4990 | X104: 119760 | Y104: 9980 | Z104: 109780 | AA104: 88489.34 | AB104: 4990 | AC104: 104790 | AD104: 0 | AE104: 104790 | AF104: 14970 | AG104: 89820 | AH104: 4990 | AI104: 84830 | AJ104: =AB104+AD104+AF104+AH104 -> 24950
A105: LIDDERA GESTÃO EMPRESARIAL LTDA. | B105: ATIVO | C105: 32.853.748/0001-23 | D105: 0026-SL/2022/0002 | E105: PRESTAÇÃO DE SERVIÇO DE CONSERVAÇÃO E LIMPEZA | F105: 30/04/2025 | G105: 30/10/2027 | H105: Vence após 180 dias | I105: SEDE-ADM-2022/00934 | J105: DNRJ | K105: 2025-06 48592,42|2025-07 17546,612025-05 11143,81|2025-06 5469,01|2025-07 5469,01 | L105: 491305.15 | M105: 146128.98 | N105: 491305.15 | O105: 59542.42 | P105: 473758.54 | Q105: 17546.61 | R105: 456211.93 | S105: 17546.61 | T105: 438665.32 | U105: 17546.61 | V105: 421118.71 | W105: 17546.61 | X105: 403572.1 | Y105: 17546.61 | Z105: 386025.49 | AA105: 346044.28 | AB105: 17546.61 | AC105: 368478.88 | AD105: 17546.61 | AE105: 350932.27 | AF105: 17546.61 | AG105: 333385.66 | AH105: 17546.61 | AI105: 315839.05 | AJ105: =AB105+AD105+AF105+AH105 -> 70186.44
A106: LIDDERA GESTÃO EMPRESARIAL LTDA. | B106: ATIVO | C106: 32.853.748/0001-23 | D106: 0028-SL/2022/0026 | E106: PRESTAÇÃO DE SERVIÇO DE CONSERVAÇÃO E LIMPEZA | F106: 01/12/2022 | G106: 01/12/2027 | H106: Vence após 180 dias | I106: SEDE-ADM-2022/01523 | J106: DNPP | K106: 2025-06 48592,42|2025-07 17546,612025-05 11143,81|2025-06 5469,01|2025-07 5469,01 | L106: 0 | M106: 29842.98 | N106: 0 | O106: 0 | P106: 144241.07 | Q106: 4973.83 | R106: 139267.24 | S106: 0 | T106: 139267.24 | U106: 0 | V106: 139267.24 | W106: 0 | X106: 139267.24 | Y106: 0 | Z106: 139267.24 | AA106: 39273.44 | AB106: 0 | AC106: 139267.24 | AD106: 0 | AE106: 139267.24 | AF106: 4456.63 | AG106: 134810.61 | AH106: 39273.44 | AI106: 95537.17 | AJ106: =AB106+AD106+AF106+AH106 -> 43730.07
A107: LIDDERA GESTÃO EMPRESARIAL LTDA. | B107: ATIVO | C107: 32.853.748/0001-23 | D107: 0029-SL/2022/0004 | E107: PRESTAÇÃO DE SERVIÇO DE CONSERVAÇÃO E LIMPEZA | F107: 16/02/2023 | G107: 16/02/2028 | H107: Vence após 180 dias | I107: SEDE-ADM-2022/01597 | J107: DNJP | K107: 2025-06 48592,42|2025-07 17546,612025-05 11143,81|2025-06 5469,01|2025-07 5469,01 | L107: 3331.03 | M107: 37565.31 | N107: 3331.03 | O107: 5404.77 | P107: 324286.7 | Q107: 0 | R107: 324286.7 | S107: 0 | T107: 324286.7 | U107: 16106.21 | V107: 308180.49 | W107: 5404.77 | X107: 302775.72 | Y107: 10809.54 | Z107: 291966.18 | AA107: 86100.14 | AB107: 0 | AC107: 291966.18 | AD107: 5404.77 | AE107: 286561.41 | AF107: 5404.77 | AG107: 281156.64 | AH107: 5404.77 | AI107: 275751.87 | AJ107: =AB107+AD107+AF107+AH107 -> 16214.31
A108: LIDDERA GESTÃO EMPRESARIAL LTDA. | B108: ATIVO | C108: 32.853.748/0001-23 | D108: 0030-SL/2022/0012 | E108: PRESTAÇÃO DE SERVIÇO DE CONSERVAÇÃO E LIMPEZA | F108: 08/12/2022 | G108: 08/12/2027 | H108: Vence após 180 dias | I108: SEDE-ADM-2022/01605 | J108: DNPL | K108: 2025-06 48592,42|2025-07 17546,612025-05 11143,81|2025-06 5469,01|2025-07 5469,01 | L108: 0 | M108: 37208.71 | N108: 0 | O108: 1063.11 | P108: 149951.31 | Q108: 4252.42 | R108: 145698.89 | S108: 0 | T108: 145698.89 | U108: 14825.18 | V108: 130873.71 | W108: 5742.87 | X108: 125130.84 | Y108: 11601.76 | Z108: 113529.08 | AA108: 103698.45 | AB108: 0 | AC108: 113529.08 | AD108: 0 | AE108: 113529.08 | AF108: 29004.4 | AG108: 84524.68 | AH108: 11116.41 | AI108: 73408.27 | AJ108: =AB108+AD108+AF108+AH108 -> 40120.81
A109: LIDDERA GESTÃO EMPRESARIAL LTDA. | B109: ATIVO | C109: 32.853.748/0001-23 | D109: 0030-SL/2023/0044 | E109: PRESTAÇÃO DE SERVIÇO DE CONSERVAÇÃO E LIMPEZA | F109: 09/08/2023 | G109: 09/08/2028 | H109: Vence após 180 dias | I109: SEDE-ADM-2023/01124 | J109: DNBW | K109: 2025-06 48592,42|2025-07 17546,612025-05 11143,81|2025-06 5469,01|2025-07 5469,01 | L109: 41433.34 | M109: 38500 | N109: 41433.34 | O109: 5500 | P109: 35933.34 | Q109: 11000 | R109: 24933.34 | S109: 5500 | T109: 19433.34 | U109: 5500 | V109: 13933.34 | W109: 5500 | X109: 8433.34 | Y109: 5500 | Z109: 2933.34 | AA109: 93500 | AB109: 5500 | AC109: 330000 | AD109: 0 | AE109: 330000 | AF109: 11000 | AG109: 319000 | AH109: 0 | AI109: 319000 | AJ109: =AB109+AD109+AF109+AH109 -> 16500
A110: LIDDERA GESTÃO EMPRESARIAL LTDA. | B110: ATIVO | C110: 32.853.748/0001-23 | D110: 0054-PS/2025/0001 | E110: PRESTAÇÃO DE SERVIÇO | F110: 12/09/2025 | G110: 12/03/2028 | H110: Vence após 180 dias | I110: SD-ADM-2025/00873 | J110: SEDE | K110: 0 | L110: 0 | M110: 0 | N110: 0 | O110: 0 | P110: 0 | Q110: 0 | R110: 0 | S110: 39230 | T110: 2299999.6 | U110: 74936.4 | V110: 2225063.2 | W110: 0 | X110: 2225063.2 | Y110: 75839.83 | Z110: 2149223.4 | AA110: 414815.43 | AB110: 74936.4 | AC110: 2074287 | AD110: 74936.4 | AE110: 1999350.6 | AF110: 74936.4 | AG110: 1924414.2 | AH110: 74936.4 | AI110: 1849477.8 | AJ110: =AB110+AD110+AF110+AH110 -> 299745.6
A111: LUIZ HENRIQUE ALBERGARIA RODRIGUES – MEI. | B111: ATIVO | C111: 27.291.391/0001-05 | D111: 0052-PS/2025/0035 | E111: PRESTAÇÃO DE SERVIÇO | F111: 11/09/2025 | G111: 11/03/2028 | H111: Vence após 180 dias | I111: SEDE-ADM-2024/01752 | J111: DNBH | K111: 0 | L111: 0 | M111: 0 | N111: 0 | O111: 43790.1 | P111: 0 | Q111: 0 | R111: 0 | S111: 0 | T111: 543588.72 | U111: 0 | V111: 543588.72 | W111: 0 | X111: 543588.72 | Y111: 68274.51 | Z111: 475314.21 | AA111: 112064.61 | AB111: 0 | AC111: 475314.21 | AD111: 0 | AE111: 475314.21 | AF111: 0 | AG111: 475314.21 | AH111: 0 | AI111: 475314.21 | AJ111: =AB111+AD111+AF111+AH111 -> 0
A112: MANACAPURU LIMPEZA E CONSERVAÇÃO LTDA. | B112: ATIVO | C112: 17.303.236/0001-08 | D112: 0009-SL/2024/0016 | E112: PRESTAÇÃO DE SERVIÇO DE CONSERVAÇÃO E LIMPEZA | F112: 27/02/2024 | G112: 27/08/2026 | H112: Vence em 120 dias | I112: SEDE-ADM-2023/01842 | J112: DNNF | K112: 2024-05 16252,24|2024-06 3996,45|2024-07 2664,3|2024-08 7992,9|2024-09 3996,45|2024-10 7992,9|2024-12 7992,9|2025-01 3996,45|2025-03 7992,9|2025-04 3996,45|2025-05 3996,45|2025-06 3996,45|2025-07 3996,452025-04 2220,4|2025-05 5615,09|2025-06 5615,09|2025-07 11230,18 | L112: 45026.93 | M112: 27975.15 | N112: 45026.93 | O112: 3996.45 | P112: 41030.48 | Q112: 3996.45 | R112: 37034.03 | S112: 3996.45 | T112: 33037.58 | U112: 3996.45 | V112: 29041.13 | W112: 3996.45 | X112: 25044.68 | Y112: 3996.45 | Z112: 21048.23 | AA112: 67939.65 | AB112: 3996.45 | AC112: 17051.78 | AD112: 7992.9 | AE112: 9058.88 | AF112: 3996.45 | AG112: 5062.43 | AH112: 3996.45 | AI112: 1065.98 | AJ112: =AB112+AD112+AF112+AH112 -> 19982.25
A113: MANACAPURU LIMPEZA E CONSERVAÇÃO LTDA. | B113: ATIVO | C113: 17.303.236/0001-08 | D113: 0020-SL/2025/0046 | E113: PRESTAÇÃO DE SERVIÇO DE CONSERVAÇÃO E LIMPEZA | F113: 13/03/2025 | G113: 22/05/2026 | H113: Vence em 30 dias | I113: SEDE-ADM-2024/01953 | J113: DNAT | K113: 2024-05 16252,24|2024-06 3996,45|2024-07 2664,3|2024-08 7992,9|2024-09 3996,45|2024-10 7992,9|2024-12 7992,9|2025-01 3996,45|2025-03 7992,9|2025-04 3996,45|2025-05 3996,45|2025-06 3996,45|2025-07 3996,452025-04 2220,4|2025-05 5615,09|2025-06 5615,09|2025-07 11230,18 | L113: 76952.42 | M113: 24680.76 | N113: 76952.42 | O113: 5615.09 | P113: 65722.24 | Q113: 5615.09 | R113: 60107.15 | S113: 5615.09 | T113: 54492.06 | U113: 5615.09 | V113: 48876.97 | W113: 5615.09 | X113: 43261.88 | Y113: 5615.09 | Z113: 37646.79 | AA113: 75216.57 | AB113: 5615.09 | AC113: 32031.7 | AD113: 5615.09 | AE113: 26416.61 | AF113: 5615.09 | AG113: 20801.52 | AH113: 5615.09 | AI113: 15186.43 | AJ113: =AB113+AD113+AF113+AH113 -> 22460.36
A114: MAPFRE SEGUROS GERAIS S.A. | B114: ATIVO | C114: 61.074.175/0001-38 | D114: 0090-SS/2021/0001 | E114: PRESTAÇÃO DE SERVIÇO | F114: 30/06/2021 | G114: 30/06/2026 | H114: Vence em 60 dias | I114: SEDE-ADM-2022/00158 | J114: SEDE | K114: 0 | L114: 0 | M114: 0 | N114: 0 | O114: 0 | P114: 3458731.2 | Q114: 3458731.2 | R114: 0 | S114: 0 | T114: 0 | U114: 0 | V114: 0 | W114: 0 | X114: 0 | Y114: 0 | Z114: 0 | AA114: 3458731.2 | AB114: 0 | AC114: 0 | AD114: 0 | AE114: 0 | AF114: 0 | AG114: 0 | AH114: 0 | AI114: 0 | AJ114: =AB114+AD114+AF114+AH114 -> 0
... A123: MILAX COMÉRCIO DE MÓVEIS LTDA. | B123: ATIVO | C123: 02.837.984/0001-95 | D123: 0042-FM/2024/0001 | E123: PRESTAÇÃO DE SERVIÇO | F123: 08/01/2025 | G123: 08/07/2027 | H123: Vence após 180 dias | I123: SEDE-ADM-2024/01962 | J123: SEDE | K123: 2025-06 6969|2025-07 114462025-06 47500|2025-07 74879 | L123: 801432 | M123: 18415 | N123: 801432 | O123: 6969 | P123: 789986 | Q123: 4800 | R123: 785186 | S123: 75742 | T123: 709444 | U123: 4924 | V123: 704520 | W123: 0 | X123: 704520 | Y123: 26850 | Z123: 677670 | AA123: 137700 | AB123: 0 | AC123: 677670 | AD123: 0 | AE123: 677670 | AF123: 0 | AG123: 677670 | AH123: 16327 | AI123: 661343 | AJ123: =AB123+AD123+AF123+AH123 -> 16327
A124: MILANFLEX INDÚSTRIA E COMÉRCIO DE MÓVEIS E EQUIPAMENTOS | B124: ENCERRADO | C124: 86.729.324/0002-61 | D124: 0035-FM/2022/0001 | E124: PRESTAÇÃO DE SERVIÇO | F124: 29/12/2022 | G124: 29/06/2023 | H124: Vencido | I124: SEDE-ADM-2022/01071 | J124: DNRJ | K124: 0 | L124: 0 | M124: 0 | N124: 0 | O124: 0 | P124: 0 | Q124: 0 | R124: 0 | S124: 0 | T124: 0 | U124: 0 | V124: 0 | W124: 0 | X124: 0 | Z124: 0 | AA124: 0 | AB124: 0 | AC124: 0 | AD124: 0 | AE124: 0 | AF124: 0 | AG124: 0 | AH124: 0 | AI124: 0 | AJ124: =AB124+AD124+AF124+AH124 -> 0
A125: MILAX COMÉRCIO DE MÓVEIS LTDA. | B125: ATIVO | C125: 02.837.984/0001-95 | D125: 0043-FM/2024/0001 | E125: PRESTAÇÃO DE SERVIÇO | F125: 08/01/2025 | G125: 08/07/2027 | H125: Vence após 180 dias | I125: SEDE-ADM-2024/01963 | J125: SEDE | K125: 2025-06 6969|2025-07 114462025-06 47500|2025-07 74879 | L125: 228997 | M125: 122379 | N125: 228997 | O125: 0 | P125: 154118 | Q125: 35825 | R125: 118293 | S125: 9250 | T125: 109043 | U125: 0 | V125: 109043 | W125: 16714 | X125: 92329 | Y125: 13250 | Z125: 79079 | AA125: 197418 | AB125: 0 | AC125: 79079 | AD125: 0 | AE125: 79079 | AF125: 0 | AG125: 79079 | AH125: 0 | AI125: 79079 | AJ125: =AB125+AD125+AF125+AH125 -> 0
A126: MIRANTE TECNOLOGIA S/A | B126: ATIVO | C126: 02.306.220/0001-73 | D126: 0063-PS/2021/0001 | E126: PRESTAÇÃO DE SERVIÇO | F126: 28/05/2021 | G126: 27/05/2026 | H126: Vence em 30 dias | I126: SEDE-ADM-2022/00090 | J126: SEDE | K126: 2024-01 12163,64|2024-02 12163,64|2024-03 12163,64|2024-04 12163,64|2024-05 12163,64|2024-06 12163,64|2024-07 12163,64|2024-08 12163,64|2024-09 12163,64|2024-10 12163,64|2024-11 12163,64|2024-12 12163,64|2025-01 12163,64|2025-02 12163,64|2025-03 14837,01|2025-04 86025,58|2025-05 14837,01|2025-06 14837,01|2025-07 14837,012025-05 8481,9|2025-06 10739,34|2025-07 8858,14 | L126: 3123901.9 | M126: 169700.9 | N126: 3123901.9 | O126: 14837.01 | P126: 3109064.9 | Q126: 14837.01 | R126: 3094227.9 | S126: 14837.01 | T126: 3079390.9 | U126: 14837.01 | V126: 3064553.8 | W126: 14837.01 | X126: 3049716.8 | Y126: 14837.01 | Z126: 3034879.8 | AA126: 302783.99 | AB126: 14837.01 | AC126: 3020042.8 | AD126: 14387.01 | AE126: 3005655.8 | AF126: 14837.01 | AG126: 2990818.8 | AH126: 14837.01 | AI126: 2975981.8 | AJ126: =AB126+AD126+AF126+AH126 -> 58898.04
A127: MULTI REFORMAS CONSTRUÇÕES COMÉRCIO E SERVIÇOS LTDA. | B127: ATIVO | C127: 39.768.697/0001-80 | D127: 0060-PS/2025/0001 | E127: PRESTAÇÃO DE SERVIÇO | F127: 13/10/2025 | G127: 13/04/2026 | H127: Vencido | I127: SD-ADM-2025/01270 | J127: DNRJ | K127: 0 | L127: 0 | M127: 0 | N127: 0 | O127: 0 | P127: 0 | Q127: 0 | R127: 0 | S127: 0 | T127: 0 | U127: 0 | V127: 281494.14 | W127: 0 | X127: 281494.14 | Y127: 27866.43 | Z127: 253627.71 | AA127: 193177.08 | AB127: 0 | AC127: 253627.71 | AD127: 0 | AE127: 253627.71 | AF127: 165310.65 | AG127: 351761.12 | AH127: 205063.4 | AI127: 146697.72 | AJ127: =AB127+AD127+AF127+AH127 -> 370374.05
A128: MUTUAL SERVICOS DE LIMPEZA E CONSTRUÇÕES LTDA. | B128: ATIVO | C128: 10.659.927/0001-91 | D128: 0024-SL/2022/0031 | E128: PRESTAÇÃO DE SERVIÇO DE CONSERVAÇÃO E LIMPEZA | F128: 25/10/2022 | G128: 25/10/2027 | H128: Vence após 180 dias | I128: SEDE-ADM-2022/01474 | J128: DNTE | K128: 2025-05 8481,9|2025-06 10739,34|2025-07 8858,142025-07 105.842,87 | L128: 249254.26 | M128: 74071.98 | N128: 249254.26 | O128: 10739.34 | P128: 240396.12 | Q128: 8858.14 | R128: 231537.98 | S128: 8858.14 | T128: 222679.84 | U128: 8858.14 | V128: 213821.7 | W128: 8858.14 | X128: 204963.56 | Y128: 17716.28 | Z128: 187247.28 | AA128: 155676.44 | AB128: 0 | AC128: 187247.28 | AD128: 8858.14 | AE128: 178389.14 | AF128: 8858.14 | AG128: 169531 | AH128: 8858.14 | AI128: 160672.86 | AJ128: =AB128+AD128+AF128+AH128 -> 26574.42
A129: NET BENEFÍCIOS LTDA. | B129: ATIVO | C129: 25.136.184/0001-42 | D129: 0039-PS/2025/0001 | E129: CONTRATO DE CREDENCIAMENTO | F129: 27/06/2025 | G129: 27/09/2027 | H129: Vence após 180 dias | I129: SEDE-ADM-2025/00211 | J129: SEDE | K129: 2025-07 105.842,87 2024-12 50100|2025-02 25050|2025-03 25050|2025-04 25050|2025-05 25050|2025-06 25050|2025-07 25050 | L129: 0 | M129: 105842.87 | N129: 0 | O129: 107181.58 | P129: 2409794.3 | Q129: 106779.95 | R129: 2303014.4 | S129: 110317.72 | T129: 2192696.7 | U129: 115250.86 | V129: 2077445.8 | W129: 95152.91 | X129: 1982292.9 | Y129: 91781.43 | Z129: 1890511.5 | AA129: 1019150.4 | AB129: 91307.95 | AC129: 1799203.5 | AD129: 87550.89 | AE129: 1711652.6 | AF129: 107984.21 | AG129: 1603668.4 | AH129: 90318.73 | AI129: 1513349.7 | AJ129: =AB129+AD129+AF129+AH129 -> 377161.78
A130: NIBBLE TECNOLOGIA DA INFORMAÇÃO LTDA. | B130: ATIVO | C130: 38.877.148/0001-81 | D130: 0036-ST/2024/0001 | E130: PRESTAÇÃO DE SERVIÇO | F130: 11/11/2024 | G130: 11/11/2026 | H130: Vence em 180 dias | I130: SEDE-ADM-2024/01396 | J130: SEDE | K130: 2024-12 50100|2025-02 25050|2025-03 25050|2025-04 25050|2025-05 25050|2025-06 25050|2025-07 250502024-03 9457,55|2024-04 12896,66|2024-05 12896,66|2024-06 12896,66|2024-07 12896,66|2024-08 12896,66|2024-09 12896,66|2024-10 25793,32|2024-11 12896,66|2024-12 12896,66|2025-01 12896,66|2025-02 12896,66|2025-03 12896,66|2025-04 12896,66|2025-06 25793,32|2025-07 12896,66 | L130: 425850 | M130: 150300 | N130: 425850 | O130: 25050 | P130: 400800 | Q130: 25050 | R130: 375750 | S130: 25050 | T130: 350700 | U130: 25050 | V130: 325650 | W130: 25050 | X130: 300600 | Y130: 25050 | Z130: 275550 | AA130: 375750 | AB130: 25050 | AC130: 250500 | AD130: 25050 | AE130: 225450 | AF130: 25050 | AG130: 200400 | AH130: 25050 | AI130: 175350 | AJ130: =AB130+AD130+AF130+AH130 -> 100200
A131: NIBBLE TECNOLOGIA DA INFORMAÇÃO LTDA. | B131: ENCERRADO | C131: 38.877.148/0001-81 | D131: 0014-ST/2022/0001 | E131: PRESTAÇÃO DE SERVIÇO | F131: 01/09/2022 | G131: 01/09/2024 | H131: Vencido | I131: SEDE-ADM-2022/00837 | J131: SEDE | K131: 23581|2022-10 ; 23581|2022-11 ; 23581|2022-12 ; 23581|2023-01 ; 23581|2023-02 ; 23581|2023-03 ; 23581|2023-04 ; 23581|2023-05 ; 23581|2023-06 ; 23581|2023-07 ; 23581|2023-08 ; 23581|2023-10 | L131: 0 | M131: 0 | N131: 0 | O131: 0 | P131: 0 | Q131: 0 | R131: 0 | S131: 0 | T131: 0 | U131: 0 | V131: 0 | W131: 0 | X131: 0 | Y131: 0 | Z131: 0 | AA131: 0 | AB131: 0 | AC131: 0 | AD131: 0 | AE131: 0 | AF131: 0 | AG131: 0 | AH131: 0 | AI131: 0 | AJ131: =AB131+AD131+AF131+AH131 -> 0
A132: O. A. M. COMERCIAL E SERVIÇOS LTDA. | B132: ATIVO | C132: 02.819.827/0001-57 | D132: 0007-PS/2024/0001 | E132: PRESTAÇÃO DE SERVIÇO | F132: 08/02/2024 | G132: 08/08/2026 | H132: Vence em 90 dias | I132: SEDE-ADM-2023/01634 | J132: SEDE | K132: 2024-03 9457,55|2024-04 12896,66|2024-05 12896,66|2024-06 12896,66|2024-07 12896,66|2024-08 12896,66|2024-09 12896,66|2024-10 25793,32|2024-11 12896,66|2024-12 12896,66|2025-01 12896,66|2025-02 12896,66|2025-03 12896,66|2025-04 12896,66|2025-06 25793,32|2025-07 12896,662025-07 12553,17|2025-08 17933,1 | L132: 171095.69 | M132: 90276.62 | N132: 171095.69 | O132: 12896.66 | P132: 158199.03 | Q132: 12896.66 | R132: 145302.37 | S132: 12896.66 | T132: 132405.71 | U132: 17601.06 | V132: 114804.65 | W132: 13484.71 | X132: 101319.94 | Y132: 13484.71 | Z132: 87835.23 | AA132: 213991.21 | AB132: 13484.71 | AC132: 74350.52 | AD132: 13484.71 | AE132: 60865.81 | AF132: 13484.71 | AG132: 47381.1 | AH132: 13484.71 | AI132: 33896.39 | AJ132: =AB132+AD132+AF132+AH132 -> 53938.84
A133: OBJETIVA PROJETOS E SERVIÇOS LTDA. | B133: ATIVO | C133: 19.231.266/0001-73 | D133: 0019-ST/2025/0001 | E133: PRESTAÇÃO DE SERVIÇO | F133: 17/03/2025 | G133: 24/08/2026 | H133: Vence em 120 dias | I133: SEDE-ADM-2024/01529 | J133: DNRJ | K133: 0 | L133: 0 | M133: 0 | N133: 0 | O133: 0 | P133: 0 | Q133: 0 | R133: 0 | S133: 0 | T133: 0 | U133: 0 | V133: 0 | W133: 0 | X133: 0 | Y133: 0 | Z133: 0 | AA133: 0 | AB133: 0 | AC133: 0 | AD133: 0 | AE133: 0 | AF133: 0 | AG133: 400318.2 | AH133: 0 | AI133: 400318.2 | AJ133: =AB133+AD133+AF133+AH133 -> 0
A134: OFFICE SEGURANÇA LTDA. (FILIAL JOÃO PESSOA/PB) | B134: ATIVO | C134: 24.610.153/0002-08 | D134: 0029-SV/2025/0013 | E134: PRESTAÇÃO DE SERVIÇO DE VIGILÂNCIA | F134: 21/05/2025 | G134: 21/11/2027 | H134: Vence após 180 dias | I134: SEDE-ADM-2023/02179 | J134: DNKG | K134: 0 | L134: 0 | M134: 30486.27 | N134: 0 | O134: 12553.17 | P134: 525439.83 | Q134: 45025.27 | R134: 480414.56 | S134: 17933.1 | T134: 462481.46 | U134: 17933.1 | V134: 444548.36 | W134: 17933.1 | X134: 426615.26 | Y134: 17933.1 | Z134: 408682.16 | AA134: 213596.41 | AB134: 17933.1 | AC134: 390749.06 | AD134: 17933.1 | AE134: 372815.96 | AF134: 17933.1 | AG134: 354882.86 | AH134: 17933.1 | AI134: 336949.76 | AJ134: =AB134+AD134+AF134+AH134 -> 71732.4
A135: OI S/A | B135: ENCERRADO | C135: 76.535.764/0001-43 | D135: 0013-PS/2021/0001 | E135: PRESTAÇÃO DE SERVIÇO | F135: 16/04/2021 | G135: 15/04/2026 | H135: Vencido | I135: SEDE-ADM-2022/00399 | J135: DNRJ/ DNBH/ DNUL/DNUR/ DNMK/ DNPR/ DNGL/DNME/ DNCP/DNVT/ DNCP | L135: 0 | M135: 3019.8 | N135: 0 | O135: 503.3 | P135: 145782.74 | Q135: 503.3 | R135: 145279.44 | S135: 503.3 | T135: 144776.14 | U135: 503.3 | V135: 144272.84 | W135: 503.3 | X135: 143769.54 | Y135: 0 | Z135: 143769.54 | AA135: 5536.3 | AB135: 0 | AC135: 0 | AD135: 0 | AE135: 0 | AF135: 0 | AG135: 0 | AH135: 0 | AI135: 0 | AJ135: =AB135+AD135+AF135+AH135 -> 0
A136: OI SOLUÇÕES S/A | B136: ATIVO | C136: 09.719.875/0001-12 | D136: 0012-PS/2023/0001 | E136: PRESTAÇÃO DE SERVIÇO | F136: 03/07/2023 | G136: 03/07/2028 | H136: Vence após 180 dias | I136: SEDE-ADM-2022/01214 | J136: SEDE | K136: 2024-07 131431,84|2024-10 49286,64|2024-11 24643,322024-12 49286,64|2025-01 25464,8|2025-02 25464,8|2025-03 25464,8|2025-04 25464,8|2025-05 25464,8|2025-06 25464,8|2025-07 25464,8 | L136: 1149874 | M136: 178253.6 | N136: 1149874 | O136: 25464.8 | P136: 1124409.2 | Q136: 25464.8 | R136: 1098944.4 | S136: 25464.8 | T136: 1073479.6 | U136: 25464.8 | V136: 1048014.8 | W136: 25464.8 | X136: 1022550 | Y136: 25464.8 | Z136: 997085.16 | AA136: 381972 | AB136: 25464.8 | AC136: 971620.36 | AD136: 25464.8 | AE136: 946155.56 | AF136: 0 | AG136: 946155.56 | AH136: 25464.8 | AI136: 920690.76 | AJ136: =AB136+AD136+AF136+AH136 -> 76394.4
A137: OPERACIONAL PORTARIAS E SERVIÇOS LTDA. | B137: ATIVO | C137: 11.782.004/0001-95 | D137: 0039-SV/2023/0029 | E137: PRESTAÇÃO DE SERVIÇO DE VIGILÂNCIA | F137: 02/10/2023 | G137: 02/10/2028 | H137: Vence após 180 dias | I137: SEDE-ADM-2023/01209 | J137: DNDN | K137: 2024-03|52252,9 2024-04|35610,75 2024-05|35646,45 2024-06|17832,15 2024-07|17832,15 2024-08|17832,15 2024-09|17832,15 2024-10|17832,15 2024-12|35664,3 2025-01|17832,15 2025-02|17850 2025-03|17850 2025-04|17850 2025-05|17850 2025-06|17850 2025-07|17850 2025-08|17850 2025-09|17850 | L137: 180082.7 | M137: 124932.15 | N137: 180082.7 | O137: 17850 | P137: 162232.7 | Q137: 17850 | R137: 144382.7 | S137: 17850 | T137: 126532.7 | U137: 17850 | V137: 108682.7 | W137: 32017.35 | X137: 76665.35 | Y137: 19424.15 | Z137: 57241.2 | AA137: 306046.1 | AB137: 19424.15 | AC137: 37817.05 | AD137: 19424.15 | AE137: 18392.9 | AF137: 19424.15 | AG137: 1141941.7 | AH137: 19404.73 | AI137: 1122536.9 | AJ137: =AB137+AD137+AF137+AH137 -> 77677.18
A138: PERFIX ASSESSORIA & CONSULTORIA | B138: ATIVO | C138: 10.483.942/0001-21 | D138: 0046-PS/2023/0001 | E138: PRESTAÇÃO DE SERVIÇO | F138: 24/11/2023 | G138: 24/05/2026 | H138: Vence em 30 dias | I138: SEDE-ADM-2023/01738 | J138: SEDE | K138: 2023-12 5268,63|2024-01 5268,63|2024-03 5268,63|2024-04 5268,63|2024-05 5268,63|2024-06 4741,77|2024-07 4741,772024-10 7638,9|2024-11 9166,67|2024-12 9166,67|2025-01 9166,67|2025-02 9166,67|2025-03 9166,67|2025-04 9166,67|2025-05 9166,67|2025-06 18333,34 | L138: 0 | M138: 0 | N138: 0 | O138: 0 | P138: 59000 | Q138: 0 | R138: 59000 | S138: 0 | T138: 59000 | U138: 17700 | V138: 41300 | W138: 17700 | X138: 118000 | Y138: 4720 | Z138: 113280 | AA138: 54280 | AB138: 4720 | AC138: 108560 | AD138: 4720 | AE138: 103840 | AF138: 4720 | AG138: 99120 | AH138: 2360 | AI138: 96760 | AJ138: =AB138+AD138+AF138+AH138 -> 16520
A139: POLO ADMINISTRAÇÃO LTDA. | B139: ATIVO | C139: 08.720.790/0001-91 | D139: 0047-SL/2023/0028 | E139: PRESTAÇÃO DE SERVIÇO DE CONSERVAÇÃO E LIMPEZA | F139: 18/12/2023 | G139: 18/06/2026 | H139: Vence em 30 dias | I139: SEDE-ADM-2023/01662 | J139: DNJV | K139: 2024-04 3680,4|2024-05 7360,85|2024-06 7360,85|2024-07 7360,85|2024-08 7360,85|2024-09 7360,85|2024-10 7360,85|2024-11 7360,85|2024-12 14721,7|2025-02 7360,85|2025-03 7360,85|2025-04 7360,85|2025-05 7360,85|2025-06 7360,85|2025-07 7360,85|2025-08 7360,852023-11 9090,47|2023-12 9090,47|2024-01 9090,47|2024-02 9090,47|2024-03 9090,47|2024-04 7726,9|2024-05 8622,42|2024-06 8181,42|2024-07 8181,42|2024-08 8181,42|2024-09 8181,42|2024-10 8181,42 | L139: 100702.47 | M139: 49797.84 | N139: 100702.47 | O139: 8299.64 | P139: 92402.83 | Q139: 8299.64 | R139: 84103.19 | S139: 0 | T139: 84103.19 | U139: 8299.64 | V139: 75803.55 | W139: 16599.28 | X139: 59204.27 | Y139: 0 | Z139: 59204.27 | AA139: 116194.96 | AB139: 16599.28 | AC139: 42604.99 | AD139: 0 | AE139: 42604.99 | AF139: 8299.64 | AG139: 34305.35 | AH139: 8299.64 | AI139: 26005.71 | AJ139: =AB139+AD139+AF139+AH139 -> 33198.56
A140: POLO ADMINISTRAÇÃO LTDA. | B140: ATIVO | C140: 08.720.790/0001-91 | D140: 0008-SL/2024/0006 | E140: PRESTAÇÃO DE SERVIÇO DE CONSERVAÇÃO E LIMPEZA | F140: 27/02/2024 | G140: 27/08/2026 | H140: Vence em 120 dias | I140: SEDE-ADM-2023/01712 | J140: DNMQ | K140: 2024-04 3680,4|2024-05 7360,85|2024-06 7360,85|2024-07 7360,85|2024-08 7360,85|2024-09 7360,85|2024-10 7360,85|2024-11 7360,85|2024-12 14721,7|2025-02 7360,85|2025-03 7360,85|2025-04 7360,85|2025-05 7360,85|2025-06 7360,85|2025-07 7360,85|2025-08 7360,852023-11 9090,47|2023-12 9090,47|2024-01 9090,47|2024-02 9090,47|2024-03 9090,47|2024-04 7726,9|2024-05 8622,42|2024-06 8181,42|2024-07 8181,42|2024-08 8181,42|2024-09 8181,42|2024-10 8181,42 | L140: 0 | M140: 51525.95 | N140: 0 | O140: 7360.85 | P140: 106732.31 | Q140: 7360.85 | R140: 99371.46 | S140: 7360.85 | T140: 92010.61 | U140: 7360.85 | V140: 84649.76 | W140: 7360.85 | X140: 77288.91 | Y140: 14721.7 | Z140: 62567.21 | AA140: 117773.6 | AB140: 0 | AC140: 62567.21 | AD140: 7360.85 | AE140: 55206.36 | AF140: 7360.85 | AG140: 47845.51 | AH140: 7360.85 | AI140: 40484.66 | AJ140: =AB140+AD140+AF140+AH140 -> 22082.55
A141: POLO ADMINISTRAÇÃO LTDA. | B141: ATIVO | C141: 08.720.790/0001-91 | D141: 0035-SL/2023/0045 | E141: PRESTAÇÃO DE SERVIÇO DE CONSERVAÇÃO E LIMPEZA | F141: 11/09/2023 | G141: 11/03/2026 | H141: Vencido | I141: SEDE-ADM-2023/01306 | J141: DNGO | K141: 2024-04 3680,4|2024-05 7360,85|2024-06 7360,85|2024-07 7360,85|2024-08 7360,85|2024-09 7360,85|2024-10 7360,85|2024-11 7360,85|2024-12 14721,7|2025-02 7360,85|2025-03 7360,85|2025-04 7360,85|2025-05 7360,85|2025-06 7360,85|2025-07 7360,85|2025-08 7360,852023-11 9090,47|2023-12 9090,47|2024-01 9090,47|2024-02 9090,47|2024-03 9090,47|2024-04 7726,9|2024-05 8622,42|2024-06 8181,42|2024-07 8181,42|2024-08 8181,42|2024-09 8181,42|2024-10 8181,42 | L141: 111638.35 | M141: 51961.08 | N141: 111638.35 | O141: 17320.36 | P141: 123738.03 | Q141: 10013.86 | R141: 113724.17 | S141: 0 | T141: 113724.17 | U141: 21655.14 | V141: 92069.03 | W141: 22253.02 | X141: 69816.01 | Y141: 11126.51 | Z141: 58689.5 | AA141: 167709.5 | AB141: 11126.51 | AC141: 47562.99 | AD141: 0 | AE141: 47562.99 | AF141: 22253.02 | AG141: 25309.97 | AH141: 0 | AI141: 25309.97 | AJ141: =AB141+AD141+AF141+AH141 -> 33379.53
A142: PRATA SERVIÇOS ADMNISTRATIVOS LTDA. | B142: ATIVO | C142: 01.687.204/0001-05 | D142: 0032-SL/2024/0008 | E142: PRESTAÇÃO DE SERVIÇO DE CONSERVAÇÃO E LIMPEZA | F142: 17/10/2024 | G142: 17/04/2027 | H142: Vence após 180 dias | I142: SEDE-ADM-2024/01095 | J142: DNMA | K142: 2024-12 3004,7|2025-01 4507,05|2025-02 4507,05|2025-03 4870,48|2025-07 363,432025-04 4870,48|2025-05 4870,48|2025-06 4870,48|2025-07 5233,91|2025-08 4870,48 | L142: 105352.99 | M142: 38014.19 | N142: 105352.99 | O142: 738.47 | P142: 99831.98 | Q142: 4782.54 | R142: 95049.44 | S142: 4782.54 | T142: 90266.9 | U142: 4782.54 | V142: 85484.36 | W142: 4782.54 | X142: 80701.82 | Y142: 4782.54 | Z142: 75919.28 | AA142: 77100.92 | AB142: 4782.54 | AC142: 71136.74 | AD142: 4870.48 | AE142: 66266.26 | AF142: 4782.54 | AG142: 61483.72 | AH142: 4782.54 | AI142: 56701.18 | AJ142: =AB142+AD142+AF142+AH142 -> 19218.1
A143: POSITIVO INFORMATICA S/A | B143: ENCERRADO | C143: 81.243.735/0019-77 | D143: 0031-FM/2024/0001 | E143: PRESTAÇÃO DE SERVIÇO | F143: #N/D | G143: #N/D | H143: Vencido | I143: SEDE-ADM-2024/01313 | J143: SEDE | K143: 2025-02 77.077,502024-12 3004,7|2025-01 4507,05|2025-02 4507,05|2025-03 4870,48|2025-07 363,43 | L143: 0 | M143: 77077.5 | N143: 0 | O143: 0 | P143: 0 | Q143: 0 | R143: 0 | S143: 0 | T143: 0 | U143: 0 | V143: 0 | W143: 0 | X143: 0 | Z143: 0 | AA143: 77077.5 | AB143: 0 | AC143: 0 | AD143: 0 | AE143: 0 | AF143: 0 | AG143: 0 | AH143: 0 | AI143: 0 | AJ143: =AB143+AD143+AF143+AH143 -> 0
A144: PRATA SERVIÇOS ADMNISTRATIVOS LTDA. | B144: ATIVO | C144: 01.687.204/0001-05 | D144: 0033-SL/2024/0009 | E144: PRESTAÇÃO DE SERVIÇO DE CONSERVAÇÃO E LIMPEZA | F144: 23/10/2024 | G144: 23/04/2027 | H144: Vence após 180 dias | I144: SEDE-ADM-2024/00537 | J144: DNUF | K144: 2024-12 3004,7|2025-01 4507,05|2025-02 4507,05|2025-03 4870,48|2025-07 363,432025-04 4870,48|2025-05 4870,48|2025-06 4870,48|2025-07 5233,91|2025-08 4870,48 | L144: 113082.38 | M144: 38963.84 | N144: 113082.38 | O144: 14974.87 | P144: 117958.79 | Q144: 4870.48 | R144: 113088.31 | S144: 4870.48 | T144: 108217.83 | U144: 0 | V144: 108217.83 | W144: 9740.96 | X144: 98476.87 | Y144: 4870.48 | Z144: 93606.39 | AA144: 88032.07 | AB144: 4870.48 | AC144: 88735.91 | AD144: 4870.48 | AE144: 83865.43 | AF144: 0 | AG144: 83865.43 | AH144: 4870.48 | AI144: 78994.95 | AJ144: =AB144+AD144+AF144+AH144 -> 14611.44
A145: PRIME CONSULTORIA E ASSESSORIA EMPRESARIAL LTDA. | B145: ATIVO | C145: 05.340.639/0001-30 | D145: 0003-PS/2024/0001 | E145: PRESTAÇÃO DE SERVIÇO | F145: 05/02/2024 | G145: 05/08/2026 | H145: Vence em 90 dias | I145: SEDE-ADM-2023/01942 | J145: SEDE | K145: 2024-03 5039,83|2024-04 7572,43|2024-05 11418,16|2024-06 10804,4|2024-07 7750,33|2024-08 12851,6|2024-09 11831,89|2024-10 10395,35|2024-11 9078,59|2024-12 14016,39|2025-01 13118,11|2025-02 8085,35|2025-03 9014,66|2025-04 10019,78|2025-05 8404,8|2025-06 10844,06|2025-07 13146,33|2025-08 9956,812023-05 21725,42|2023-06 21725,42|2023-07 21725,42|2023-08 21725,42|2023-09 21725,42|2023-10 21725,42|2023-11 21725,42|2023-12 21725,42|2024-01 21725,42|2024-02 21725,42|2024-03 21725,42|2024-04 21725,42|2024-06 43450,84|2024-07 21725,42|2024-08 21725,42|2024-09 21725,42|2024-10 21725,42|2024-11 21725,42|2024-12 21725,42|2025-01 21725,42|2025-02 21725,42|2025-03 21725,42|2025-04 21725,42|2025-05 21725,42|2025-06 21725,42 | L145: 302157.58 | M145: 82589.9 | N145: 302157.58 | O145: 23990.39 | P145: 289011.25 | Q145: 9956.81 | R145: 279054.44 | S145: 6576.3 | T145: 272478.14 | U145: 8918.06 | V145: 263560.08 | W145: 12657.9 | X145: 250902.18 | Y145: 12993.86 | Z145: 237908.32 | AA145: 182801.42 | AB145: 0 | AC145: 237908.32 | AD145: 17601.6 | AE145: 220306.72 | AF145: 7516.6 | AG145: 212790.12 | AH145: 11498.56 | AI145: 201291.56 | AJ145: =AB145+AD145+AF145+AH145 -> 36616.76
A146: PROTAQUE SEGURANÇA E VIGILÂNCIA EIRELI | B146: ENCERRADO | C146: 05.883.831/0001-72 | D146: 0017-SV-2023/0002 | E146: PRESTAÇÃO DE SERVIÇO DE VIGILÂNCIA | F146: 28/04/2023 | G146: 28/10/2025 | H146: Vencido | I146: SEDE-ADM-2023/00206 | J146: DNRJ | K146: 2023-05 21725,42|2023-06 21725,42|2023-07 21725,42|2023-08 21725,42|2023-09 21725,42|2023-10 21725,42|2023-11 21725,42|2023-12 21725,42|2024-01 21725,42|2024-02 21725,42|2024-03 21725,42|2024-04 21725,42|2024-06 43450,84|2024-07 21725,42|2024-08 21725,42|2024-09 21725,42|2024-10 21725,42|2024-11 21725,42|2024-12 21725,42|2025-01 21725,42|2025-02 21725,42|2025-03 21725,42|2025-04 21725,42|2025-05 21725,42|2025-06 21725,422023-12 4653,47|2024-01 8133,33|2024-02 8133,33|2024-03 8133,33|2024-04 8133,33|2024-05 8133,33|2024-06 8133,33|2024-07 16266,66|2024-08 8133,33|2024-09 8133,33|2024-10 8133,33|2024-11 8133,33 | L146: 86901.68 | M146: 152077.94 | N146: 86901.68 | O146: 21725.42 | P146: 65176.26 | Q146: 21725.42 | R146: 43450.84 | S146: 21725.42 | T146: 21725.42 | U146: 21725.42 | V146: 0 | W146: 0 | X146: 0 | Y146: 0 | Z146: 0 | AA146: 238979.62 | AB146: 0 | AC146: 0 | AD146: 0 | AE146: 0 | AF146: 0 | AG146: 0 | AH146: 0 | AI146: 0 | AJ146: =AB146+AD146+AF146+AH146 -> 0
A147: QUALICORP ADMINISTRADORA DE BENEFÍCIOS S.A. | B147: ENCERRADO | C147: 07.658.098/0001-18 | D147: 0011_DSAD_2022 | E147: CONTRATO DE CREDENCIAMENTO | F147: 31/01/2020 | G147: 15/07/2025 | H147: Vencido | I147: SEDE-ADM-2023/00169 | J147: SEDE | K147: 0 | L147: 0 | M147: 0 | N147: 0 | O147: 0 | P147: 0 | Q147: 0 | R147: 0 | S147: 0 | T147: 0 | U147: 0 | V147: 0 | W147: 0 | X147: 0 | Y147: 0 | Z147: 0 | AA147: 0 | AB147: 0 | AC147: 0 | AD147: 0 | AE147: 0 | AF147: 0 | AG147: 0 | AH147: 0 | AI147: 0 | AJ147: =AB147+AD147+AF147+AH147 -> 0
A148: QUATRO - ADMINISTRAÇÃO E SERVIÇOS LTDA. | B148: ENCERRADO | C148: 23.856.751/0001-00 | D148: 0044-SL/2023/0035 | E148: PRESTAÇÃO DE SERVIÇO DE CONSERVAÇÃO E LIMPEZA | F148: 31/10/2023 | G148: 30/04/2026 | H148: Vencido | I148: SEDE-ADM-2023/01230 | J148: DNBH | K148: 2023-12 4653,47|2024-01 8133,33|2024-02 8133,33|2024-03 8133,33|2024-04 8133,33|2024-05 8133,33|2024-06 8133,33|2024-07 16266,66|2024-08 8133,33|2024-09 8133,33|2024-10 8133,33|2024-11 8133,332024-12 8133,33|2025-01 8576,13|2025-02 8178,04|2025-03 8178,04|2025-04 8337,03|2025-05 8178,04|2025-06 8178,04|2025-07 8178,04 | L148: 96386.36 | M148: 57803.36 | N148: 96386.36 | O148: 8178.04 | P148: 88208.32 | Q148: 8178.04 | R148: 80030.28 | S148: 9826.59 | T148: 70203.69 | U148: 8433.87 | V148: 61769.82 | W148: 7582.05 | X148: 54187.77 | Y148: 8433.87 | Z148: 45753.9 | AA148: 108435.82 | AB148: 0 | AC148: 0 | AD148: 0 | AE148: 0 | AF148: 0 | AG148: 0 | AH148: 0 | AI148: 0 | AJ148: =AB148+AD148+AF148+AH148 -> 0
A149: REDE NACIONAL DE APRENDIZAGEM, PROMOÇÃO SOCIAL E INTEGRAÇÃO | B149: ATIVO | C149: 37.381.902/0001-25 | D149: 0038-PS/2025/0001 | E149: PRESTAÇÃO DE SERVIÇO DE CONTRATAÇÃO DE JOVEM APRENDIZ | F149: 16/06/2025 | G149: 16/12/2027 | H149: Vence após 180 dias | I149: SD-ADM-2025/00924 | J149: DNIZ | K149: 0 | L149: 54190.2 | M149: 0 | N149: 54190.2 | O149: 907.42 | P149: 53282.78 | Q149: 1518.35 | R149: 51764.43 | S149: 0 | T149: 51764.43 | U149: 0 | V149: 51764.43 | W149: 0 | X149: 51764.43 | Y149: 0 | Z149: 51764.43 | AA149: 2425.77 | AB149: 0 | AC149: 51764.43 | AD149: 0 | AE149: 51764.43 | AF149: 0 | AG149: 51764.43 | AH149: 0 | AI149: 51764.43 | AJ149: =AB149+AD149+AF149+AH149 -> 0
A150: REDE NACIONAL DE APRENDIZAGEM, PROMOÇÃO SOCIAL E INTEGRAÇÃO | B150: ATIVO | C150: 37.381.902/0001-25 | D150: 0030-PS/2025/0001 | E150: PRESTAÇÃO DE SERVIÇO DE CONTRATAÇÃO DE JOVEM APRENDIZ | F150: 21/05/2025 | G150: 21/11/2027 | H150: Vence após 180 dias | I150: SEDE-ADM-2025/00857 | J150: DNPJ | K150: 0 | L150: 108380.4 | M150: 907.42 | N150: 108380.4 | O150: 907.42 | P150: 107472.98 | Q150: 3612.66 | R150: 103860.32 | S150: 3593.26 | T150: 100267.06 | U150: 3593.26 | V150: 96673.8 | W150: 3612.66 | X150: 93061.14 | Y150: 7043.33 | Z150: 86017.81 | AA150: 29968.24 | AB150: 0 | AC150: 86017.81 | AD150: 3511.69 | AE150: 82506.12 | AF150: 3186.54 | AG150: 79319.58 | AH150: 3460.32 | AI150: 75859.26 | AJ150: =AB150+AD150+AF150+AH150 -> 10158.55
A151: REDE NACIONAL DE APRENDIZAGEM, PROMOÇÃO SOCIAL E INTEGRAÇÃO | B151: ATIVO | C151: 37.381.902/0001-25 | D151: 0031-PS/2025/0001 | E151: PRESTAÇÃO DE SERVIÇO DE CONTRATAÇÃO DE JOVEM APRENDIZ | F151: 20/05/2025 | G151: 20/11/2027 | H151: Vence após 180 dias | I151: SD-ADM-2025/00862 | J151: DNAR | K151: 0 | L151: 0 | M151: 1518.35 | N151: 0 | O151: 0 | P151: 52671.85 | Q151: 1518.35 | R151: 51153.5 | S151: 1797.33 | T151: 49356.17 | U151: 1797.33 | V151: 47558.84 | W151: 1724.06 | X151: 45834.78 | Y151: 6973.9 | Z151: 38860.88 | AA151: 18896.96 | AB151: 0 | AC151: 38860.88 | AD151: 1797.32 | AE151: 37063.56 | AF151: 1770.32 | AG151: 35293.24 | AH151: 1797.32 | AI151: 33495.92 | AJ151: =AB151+AD151+AF151+AH151 -> 5364.96
A152: REDE NACIONAL DE APRENDIZAGEM, PROMOÇÃO SOCIAL E INTEGRAÇÃO | B152: ATIVO | C152: 37.381.902/0001-25 | D152: 0032-PS/2025/0001 | E152: PRESTAÇÃO DE SERVIÇO DE CONTRATAÇÃO DE JOVEM APRENDIZ | F152: 09/06/2025 | G152: 09/12/2027 | H152: Vence após 180 dias | I152: SD-ADM-2025/00871 | J152: DNTF | K152: 0 | L152: 0 | M152: 0 | N152: 0 | O152: 0 | P152: 53140.5 | Q152: 0 | R152: 53140.5 | S152: 0 | T152: 53140.5 | U152: 1654.76 | V152: 51485.74 | W152: 0 | X152: 51485.74 | Y152: 3100.24 | Z152: 48385.5 | AA152: 9405.36 | AB152: 1550.12 | AC152: 46835.38 | AD152: 0 | AE152: 46835.38 | AF152: 3100.24 | AG152: 43735.14 | AH152: 1550.12 | AI152: 42185.02 | AJ152: =AB152+AD152+AF152+AH152 -> 6200.48
A153: REDE NACIONAL DE APRENDIZAGEM, PROMOÇÃO SOCIAL E INTEGRAÇÃO | B153: ATIVO | C153: 37.381.902/0001-25 | D153: 0033-PS/2025/0001 | E153: PRESTAÇÃO DE SERVIÇO DE CONTRATAÇÃO DE JOVEM APRENDIZ | F153: 30/05/2025 | G153: 30/11/2027 | H153: Vence após 180 dias | I153: SD-ADM-2025/00875 | J153: DNPK | K153: 0 | L153: 0 | M153: 1281.2 | N153: 0 | O153: 0 | P153: 53765.8 | Q153: 1281.2 | R153: 52484.6 | S153: 1760.21 | T153: 50724.39 | U153: 1906.71 | V153: 48817.68 | W153: 3813.43 | X153: 45004.25 | Y153: 3813.43 | Z153: 41190.82 | AA153: 17669.62 | AB153: 0 | AC153: 41190.82 | AD153: 1906.72 | AE153: 39284.1 | AF153: 1906.72 | AG153: 37377.38 | AH153: 1906.72 | AI153: 35470.66 | AJ153: =AB153+AD153+AF153+AH153 -> 5720.16
A154: REDE NACIONAL DE APRENDIZAGEM, PROMOÇÃO SOCIAL E INTEGRAÇÃO | B154: ATIVO | C154: 37.381.902/0001-25 | D154: 0034-PS/2025/0001 | E154: PRESTAÇÃO DE SERVIÇO DE CONTRATAÇÃO DE JOVEM APRENDIZ | F154: 30/05/2025 | G154: 30/11/2027 | H154: Vence após 180 dias | I154: SD-ADM-2025/00892 | J154: DNTE | K154: 0 | L154: 0 | M154: 0 | N154: 0 | O154: 0 | P154: 54190.2 | Q154: 0 | R154: 54190.2 | S154: 1549.88 | T154: 52640.32 | U154: 1649.67 | V154: 50990.65 | W154: 3249.28 | X154: 47741.37 | Y154: 3505.08 | Z154: 44236.29 | AA154: 13257.39 | AB154: 0 | AC154: 44236.29 | AD154: 1630.35 | AE154: 42605.94 | AF154: 1673.13 | AG154: 40932.81 | AH154: 1673.13 | AI154: 39259.68 | AJ154: =AB154+AD154+AF154+AH154 -> 4976.61
A155: REDE NACIONAL DE APRENDIZAGEM, PROMOÇÃO SOCIAL E INTEGRAÇÃO | B155: ATIVO | C155: 37.381.902/0001-25 | D155: 0035-PS/2025/0001 | E155: PRESTAÇÃO DE SERVIÇO DE CONTRATAÇÃO DE JOVEM APRENDIZ | F155: 10/06/2025 | G155: 10/12/2027 | H155: Vence após 180 dias | I155: SD-ADM-2025/00874 | J155: DNMQ | K155: 0 | L155: 108380.4 | M155: 0 | N155: 108380.4 | O155: 0 | P155: 108380.4 | Q155: 0 | R155: 108380.4 | S155: 0 | T155: 108380.4 | U155: 2695.01 | V155: 105685.39 | W155: 7225.32 | X155: 98460.07 | Y155: 3612.66 | Z155: 94847.41 | AA155: 20684.31 | AB155: 0 | AC155: 94847.41 | AD155: 3597.86 | AE155: 91249.55 | AF155: 3553.46 | AG155: 87696.09 | AH155: 3597.86 | AI155: 84098.23 | AJ155: =AB155+AD155+AF155+AH155 -> 10749.18
... A165: ROTA LIVRE TURISMO LTDA. | B165: ENCERRADO | C165: 39.151.848/0001-57 | D165: 0037-TG/2023/0021 | E165: PRESTAÇÃO DE SERVIÇO | F165: 06/09/2023 | G165: 06/03/2026 | H165: Vencido | I165: SEDE-ADM-2023/01200 | J165: DNCJ | K165: 0 | L165: 181057.66 | M165: 114526.5 | N165: 181057.66 | O165: 0 | P165: 164268.16 | Q165: 0 | R165: 164268.16 | S165: 0 | T165: 164268.16 | U165: 0 | V165: 164268.16 | W165: 0 | X165: 164268.16 | Y165: 0 | Z165: 164268.16 | AA165: 114526.5 | AB165: 0 | AC165: 0 | AD165: 0 | AE165: 0 | AF165: 0 | AG165: 0 | AH165: 0 | AI165: 0 | AJ165: =AB165+AD165+AF165+AH165 -> 0
A166: ROAL INDÚSTRIA METALÚRGICA LTDA. | B166: ENCERRADO | C166: 94.622.230/0001-36 | D166: 0034-FM/2022/0001 | E166: PRESTAÇÃO DE SERVIÇO | F166: 14/02/2023 | G166: 14/02/2024 | H166: Vencido | I166: SEDE-ADM-2022/01647 | J166: DNRJ | K166: 0 | L166: 0 | M166: 0 | N166: 0 | O166: 0 | P166: 0 | Q166: 0 | R166: 0 | S166: 0 | T166: 0 | U166: 0 | V166: 0 | W166: 0 | X166: 0 | Z166: 0 | AA166: 0 | AB166: 0 | AC166: 0 | AD166: 0 | AE166: 0 | AF166: 0 | AG166: 0 | AH166: 0 | AI166: 0 | AJ166: =AB166+AD166+AF166+AH166 -> 0
A167: RUSSELL BEDFORD GM AUDITORES INDEPENDENTES S/S | B167: ATIVO | C167: 13.098.174/0001-80 | D167: 0005-ST/2023/0001 | E167: PRESTAÇÃO DE SERVIÇO | F167: 20/03/2023 | G167: 20/03/2026 | H167: Vencido | I167: SEDE-ADM-2023/00161 | J167: SEDE | K167: 0 | L167: 504430.32 | M167: 0 | N167: 504430.32 | O167: 0 | P167: 504430.32 | Q167: 64474.2 | R167: 439956.12 | S167: 0 | T167: 439956.12 | U167: 0 | V167: 439956.12 | W167: 20200 | X167: 419756.12 | Y167: 9400 | Z167: 410356.12 | AA167: 200190.16 | AB167: 0 | AC167: 410356.12 | AD167: 49269.99 | AE167: 361086.13 | AF167: 56845.97 | AG167: 304240.16 | AH167: 0 | AI167: 304240.16 | AJ167: =AB167+AD167+AF167+AH167 -> 106115.96
A168: S F DA S ALMEIDA LTDA. | B168: ATIVO | C168: 31.795.132/0001-80 | D168: 0065-PS/2025/0015 | E168: PRESTAÇÃO DE SERVIÇO | F168: 21/10/2025 | G168: 21/04/2028 | H168: Vence após 180 dias | I168: SEDE-ADM-2025/00055 | J168: DNIZ | K168: 0 | L168: 0 | M168: 0 | N168: 0 | O168: 0 | P168: 0 | Q168: 0 | R168: 0 | S168: 0 | T168: 0 | U168: 0 | V168: 617880 | W168: 0 | X168: 617880 | Y168: 9611.42 | Z168: 608268.58 | AA168: 71399.42 | AB168: 20596 | AC168: 587672.58 | AD168: 20596 | AE168: 567076.58 | AF168: 20596 | AG168: 546480.58 | AH168: 20596 | AI168: 525884.58 | AJ168: =AB168+AD168+AF168+AH168 -> 82384
A169: SAIPHER ATC LTDA. | B169: ATIVO | C169: 00.628.447/0001-00 | D169: 0002-PS/2023/0001 | E169: PRESTAÇÃO DE SERVIÇO | F169: 08/02/2023 | G169: 08/02/2028 | H169: Vence após 180 dias | I169: SEDE-ADM-2023/00047 | J169: SEDE | K169: 2023-03 57477,23|2023-04 57477,23|2023-05 57477,23|2023-06 57477,23|2023-07 71846,54|2023-08 71846,54|2023-09 71846,54|2023-11 172431,68|2023-12 86215,84|2024-01 114954,46|2024-02 114954,46|2024-03 129323,77|2024-04 129323,77|2024-05 129323,77|2024-06 129323,77|2024-07 129323,77|2024-08 143693,07|2024-09 143693,07|2024-10 143693,07|2024-11 143693,07|2024-12 143693,07|2025-01 143693,07|2025-03 287386,14|2025-05 287386,14|2025-06 143693,07|2025-07 99412,68|2025-08 143693,072025-02 8089|2025-06 13944 | L169: 9511061.5 | M169: 1105264.2 | N169: 9511061.5 | O169: 143693.07 | P169: 9411648.8 | Q169: 243105.75 | R169: 9168543.1 | S169: 143693.1 | T169: 9024849.9 | U169: 158062.38 | V169: 8866787.6 | W169: 158062.38 | X169: 8708725.2 | Y169: 171519.91 | Z169: 8537205.3 | AA169: 2781171.4 | AB169: 171519.91 | AC169: 8365685.4 | AD169: 314730.84 | AE169: 23555310 | AF169: 171519.91 | AG169: 23383790 | AH169: 171519.91 | AI169: 23212270 | AJ169: =AB169+AD169+AF169+AH169 -> 829290.57
A170: SERRA MOBILE INDÚSTRIA E COMÉRCIO LTDA. | B170: ATIVO | C170: 07.875.146/0001-20 | D170: 0041-FM/2024/0001 | E170: PRESTAÇÃO DE SERVIÇO | F170: 09/12/2024 | G170: 09/06/2027 | H170: Vence após 180 dias | I170: SEDE-ADM-2024/01957 | J170: SEDE | K170: 2025-02 8089|2025-06 13944 | 2023-07 14382,3|2023-08 14941,89|2023-09 14377,47|2023-10 15234,19|2023-11 15822,08|2023-12 15051,75|2024-01 14932,6 | L170: 514256 | M170: 22033 | N170: 514256 | O170: 13944 | P170: 500312 | Q170: 0 | R170: 500312 | S170: 47917 | T170: 452395 | U170: 0 | V170: 452395 | W170: 0 | X170: 452395 | Y170: 40237 | Z170: 412158 | AA170: 144376 | AB170: 0 | AC170: 412158 | AD170: 20245 | AE170: 391913 | AF170: 0 | AG170: 391913 | AH170: 0 | AI170: 391913 | AJ170: =AB170+AD170+AF170+AH170 -> 20245
A171: SESSMA SOLUÇÕES E BENEFÍCIOS LTDA. | B171: ATIVO | C171: 18.113.470/0001-27 | D171: 0055-PS/2025/0001 | E171: PRESTAÇÃO DE SERVIÇO | F171: 30/09/2025 | G171: 30/03/2028 | H171: Vence após 180 dias | I171: SD-ADM-2025/01404 | J171: DNNF/ DNLO/ DNJV/ DNPK/ DNBG | K171: 0 | L171: 0 | M171: 0 | N171: 0 | O171: 0 | P171: 0 | Q171: 0 | R171: 0 | S171: 0 | T171: 684802.5 | U171: 0 | V171: 684802.5 | W171: 0 | X171: 684802.5 | Y171: 0 | Z171: 684802.5 | AA171: 0 | AB171: 0 | AC171: 684802.5 | AD171: 0 | AE171: 684802.5 | AF171: 0 | AG171: 684802.5 | AH171: 0 | AI171: 684802.5 | AJ171: =AB171+AD171+AF171+AH171 -> 0
A172: SESSMA SOLUÇÕES E BENEFÍCIOS LTDA. | B172: ATIVO | C172: 18.113.470/0001-27 | D172: 0059-PS/2025/0001 | E172: PRESTAÇÃO DE SERVIÇO | F172: 30/09/2025 | G172: 30/03/2028 | H172: Vence após 180 dias | I172: SD-ADM-2025/01409 | J172: DNGO/ DNAT/ DNBW/ DNPP | K172: 0 | L172: 0 | M172: 0 | N172: 0 | O172: 0 | P172: 0 | Q172: 0 | R172: 0 | S172: 0 | T172: 1128169 | U172: 0 | V172: 1128169 | W172: 0 | X172: 1128169 | Y172: 0 | Z172: 1128169 | AA172: 0 | AB172: 0 | AC172: 1128169 | AD172: 0 | AE172: 1128169 | AF172: 0 | AG172: 1128169 | AH172: 0 | AI172: 1128169 | AJ172: =AB172+AD172+AF172+AH172 -> 0
A173: SESSMA SOLUÇÕES E BENEFÍCIOS LTDA. | B173: ATIVO | C173: 18.113.470/0001-27 | D173: 0056-PS/2025/0001 | E173: PRESTAÇÃO DE SERVIÇO | F173: 02/10/2025 | G173: 02/04/2028 | H173: Vence após 180 dias | I173: SD-ADM-2025/01405 | J173: DNTF/ DNMQ/ DNCZ/ DNMA/ DNPJ/DNHT/ DNSN/ DNCJ/ DNIH | K173: 0 | L173: 0 | M173: 0 | N173: 0 | O173: 0 | P173: 0 | Q173: 0 | R173: 0 | S173: 0 | T173: 0 | U173: 0 | V173: 1007791 | W173: 0 | X173: 1007791 | Y173: 0 | Z173: 1007791 | AA173: 24544.63 | AB173: 0 | AC173: 1007791 | AD173: 0 | AE173: 1007791 | AF173: 24544.63 | AG173: 983246.37 | AH173: 6548.63 | AI173: 976697.74 | AJ173: =AB173+AD173+AF173+AH173 -> 31093.26
A174: SESSMA SOLUÇÕES E BENEFÍCIOS LTDA. | B174: ATIVO | C174: 18.113.470/0001-27 | D174: 0057-PS/2025/0001 | E174: PRESTAÇÃO DE SERVIÇO | F174: 02/10/2025 | G174: 02/04/2028 | H174: Vence após 180 dias | I174: SD-ADM-2025/01406 | J174: DNAR/ DNIL/ DNUF/ DNPL/ DNKG/ DNJP/ DNMS/ DNPB/ DNTE/ DNIZ/ DNJU | K174: 0 | L174: 0 | M174: 0 | N174: 0 | O174: 0 | P174: 0 | Q174: 0 | R174: 0 | S174: 0 | T174: 0 | U174: 0 | V174: 1742485 | W174: 0 | X174: 1742485 | Y174: 0 | Z174: 1742485 | AA174: 0 | AB174: 0 | AC174: 1742485 | AD174: 0 | AE174: 1742485 | AF174: 0 | AG174: 1742485 | AH174: 0 | AI174: 1742485 | AJ174: =AB174+AD174+AF174+AH174 -> 0
...

Sheet Resumo Mensal Executado
A1: RESUMO — EXECUTADO MENSAL (R$)
A3: Período | B3: Executado (R$)
A4: Jan–Jun/25 (acumulado) | B4: ='Execução ABR-26'!M227 -> 72680944
A5: Jul/25 | B5: ='Execução ABR-26'!O227 -> 10677294
A6: Ago/25 | B6: ='Execução ABR-26'!Q227 -> 11824448
A7: Set/25 | B7: ='Execução ABR-26'!S227 -> 9283699.8
A8: Out/25 | B8: ='Execução ABR-26'!U227 -> 6718710
A9: Nov/25 | B9: ='Execução ABR-26'!W227 -> 7247172.5
A10: Dez/25 | B10: ='Execução ABR-26'!Y227 -> 12857088
A11: Jan/26 | B11: ='Execução ABR-26'!AB227 -> 8437604.1
A12: Fev/26 | B12: ='Execução ABR-26'!AD227 -> 6058588.7
A13: Mar/26 | B13: ='Execução ABR-26'!AF227 -> 9743960.7
A14: Abr/26 | B14: ='Execução ABR-26'!AH227 -> 7800027.9
A15: Subtotal 2025 | B15: =SUM(B4:B10) -> 1.3128936e+08
A16: TOTAL EXECUTADO 2026 (Jan–Abr) — até o momento | B16: =SUM(B11:B14) -> 32040181
