Workbook

Sheet Execução ABR-26
A1: NAV BRASIL — EXECUÇÃO FINANCEIRA DOS CONTRATOS | ATUALIZADO ATÉ ABRIL/2026 (com somas mensais e total executado 2026)
A2: Contratada | B2: Status Atual | C2: CNPJ | D2: Termo de Contrato | E2: Natureza do Contrato | F2: Início da Vigência | G2: Término da Vigência | H2: Vigência | I2: PA do Contrato | J2: Localidade | K2: Histórico Legado (Smart) | L2: Saldo Legado (Smart) | M2: Total Realizado de Jan/25 - Jun/25 | N2: Saldo junho/25 | O2: Realizado - Julho | P2: Saldo julho/25 | Q2: Realizado - Agosto | R2: Saldo de Agosto | S2: Realizado - Setembro | T2: Saldo de Setembro | U2: Realizado - Outubro | V2: Saldo de Outubro | W2: Realizado - Novembro | X2: Saldo de Novembro | Y2: Realizado - Dezembro | Z2: Saldo de Dezembro | AA2: Total realizado - 2025 | AB2: Realizado - Janeiro | AC2: Saldo de Janeiro | AD2: Realizado - Fevereiro | AE2: Saldo de Fevereiro | AF2: Realizado - Março | AG2: Saldo de Março | AH2: Realizado - Abril | AI2: Saldo de Abril | AJ2: Realizado 2026 (Jan–Abr/26)
A3: A. BORGES NETO & CIA. LTDA. | B3: ATIVO | C3: 05.081.243/0001-15 | D3: 0040-TG-2023/0044 | E3: PRESTAÇÃO DE SERVIÇO | F3: 09/10/2023 | G3: 09/10/2028 | H3: Vence após 180 dias | I3: SEDE-ADM-2023/01203 | J3: DNBW | K3: 0 | L3: 193172.26 | M3: 146448.4 | N3: 193172.26 | O3: 20921.2 | P3: 172251.06 | Q3: 20921.2 | R3: 151329.86 | S3: 20921.2 | T3: 130408.66 | U3: 20921.2 | V3: 109487.46 | W3: 20921.2 | X3: 88566.26 | Y3: 20921.2 | Z3: 67645.06 | AA3: 334739.2 | AB3: 20921.2 | AC3: 46723.86 | AD3: 20921.2 | AE3: 25802.66 | AF3: 20921.2 | AG3: 1255272 | AH3: 20921.2 | AI3: 1234350.8 | AJ3: =AB3+AD3+AF3+AH3 -> 83684.8
A4: ADDUNT SERVIÇOS DE CONSULTORIA E GESTÃO LTDA. | B4: ENCERRADO | C4: 17.887.641/0001-02 | D4: 0022-PS/2022/0001 | E4: PRESTAÇÃO DE SERVIÇO | F4: 03/10/2022 | G4: 03/01/2023 | H4: Vencido | I4: SEDE-ADM-2022/00968 | J4: SEDE | K4: 0 | L4: 0 | M4: 0 | N4: 0 | O4: 0 | P4: 0 | Q4: 0 | R4: 0 | S4: 0 | T4: 0 | U4: 0 | V4: 0 | W4: 0 | X4: 0 | Y4: 0 | Z4: 0 | AA4: 0 | AB4: 0 | AC4: 0 | AD4: 0 | AE4: 0 | AF4: 0 | AG4: 0 | AH4: 0 | AI4: 0 | AJ4: =AB4+AD4+AF4+AH4 -> 0
A5: AÉCIO OZÉIAS RIBEIRO DA SILVA | B5: ENCERRADO | C5: 00.499.359/0001-55 | D5: 0104-ML/2020/0035 | E5: PRESTAÇÃO DE SERVIÇO | F5: 11/10/2020 | G5: 10/10/2025 | H5: Vencido | I5: SEDE-ADM-2022/00138 | J5: DNLO | K5: 2023-04 11181,04|2023-05 12706,38|2023-06 11241,93|2023-07 10194,5|2023-08 12711,16|2023-09 11663,72|2023-10 10409,07|2023-11 13317,55|2023-12 10210,52|2024-01 11170,3|2024-02 12542,94|2024-03 10766,46|2024-04 9537,77|2024-05 25085,08|2024-06 10802,48|2024-07 10622,5|2024-08 11278,6|2024-09 10470,2|2024-10 10457,92|2024-11 13317,55|2024-12 11228,97|2025-01 10188,83|2025-02 10931,95|2025-03 10327,32|2025-04 9622,932025-05 12084,91|2025-06 49099,83 | L5: 379527.31 | M5: 118116.01 | N5: 379527.31 | O5: 12042.59 | P5: 367484.72 | Q5: 15860.24 | R5: 351624.48 | S5: 12361.57 | T5: 339262.91 | U5: 12103.25 | V5: 327159.66 | W5: 0 | X5: 327159.66 | Y5: 12249.43 | Z5: 314910.23 | AA5: 182733.09 | AB5: 0 | AC5: 0 | AD5: 0 | AE5: 0 | AF5: 0 | AG5: 0 | AH5: 0 | AI5: 0 | AJ5: =AB5+AD5+AF5+AH5 -> 0
A6: AGIL LTDA. | B6: ENCERRADO | C6: 26.427.482/0001-54 | D6: 0017-SL/2024/0021 | E6: PRESTAÇÃO DE SERVIÇO DE CONSERVAÇÃO E LIMPEZA | F6: 12/06/2024 | G6: 12/12/2026 | H6: Vence após 180 dias | I6: SEDE-ADM-2023/02158 | J6: DNCJ | K6: 2025-02 3735|2025-03 10236,67|2025-05 4150|2025-06 41502024-09 9054,62|2024-10 4527,31|2024-11 4527,31|2024-12 4527,31|2025-01 4527,31|2025-02 4527,31|2025-03 4527,31|2025-04 4527,31|2025-02 16200 | L6: 95073.44 | M6: 18409.24 | N6: 95073.44 | O6: 0 | P6: 95073.44 | Q6: 0 | R6: 95073.44 | S6: 0 | T6: 95073.44 | U6: 0 | V6: 95073.44 | W6: 0 | X6: 95073.44 | Y6: 4527.31 | Z6: 90546.13 | AA6: 22936.55 | AB6: 0 | AC6: 0 | AD6: 0 | AE6: 0 | AF6: 0 | AG6: 0 | AH6: 0 | AI6: 0 | AJ6: =AB6+AD6+AF6+AH6 -> 0
A7: AGIL LTDA. | B7: ENCERRADO | C7: 26.427.482/0001-54 | D7: 0028-SL/2024/0018 | E7: PRESTAÇÃO DE SERVIÇO DE CONSERVAÇÃO E LIMPEZA | F7: 04/10/2024 | G7: 04/04/2027 | H7: Vence após 180 dias | I7: SEDE-ADM-2023/02143 | J7: DNHT | K7: 2025-02 3735|2025-03 10236,67|2025-05 4150|2025-06 41502024-09 9054,62|2024-10 4527,31|2024-11 4527,31|2024-12 4527,31|2025-01 4527,31|2025-02 4527,31|2025-03 4527,31|2025-04 4527,31|2025-02 16200 | L7: 102228.33 | M7: 22271.67 | N7: 102228.33 | O7: 0 | P7: 102228.33 | Q7: 0 | R7: 102228.33 | S7: 0 | T7: 102228.33 | U7: 0 | V7: 102228.33 | W7: 0 | X7: 102228.33 | Y7: 0 | Z7: 102228.33 | AA7: 22271.67 | AB7: 0 | AC7: 0 | AD7: 0 | AE7: 0 | AF7: 0 | AG7: 0 | AH7: 0 | AI7: 0 | AJ7: =AB7+AD7+AF7+AH7 -> 0
A8: AIR LIQUIDE BRASIL LTDA. | B8: ATIVO | C8: 00.331.788/0093-37 | D8: 0009-FM/2025/0042 | E8: PRESTAÇÃO DE SERVIÇO | F8: 14/01/2025 | G8: 14/07/2027 | H8: Vence após 180 dias | I8: SEDE-ADM-2025/00038 | J8: DNUL | K8: 2025-02 16200|2025-03 24300|2025-04 24300|2025-05 8100|2025-06 16200|2025-07 243002025-04 172898,6|2025-07 293038,31|2023-05 591387,63|2023-08 269510,01|2023-10 258028,82|2023-12 228198,67|2024-02 230561,71|2024-05 260549,44|2024-06 335601,14|2024-09 229804,16|2024-11 266115,51|2023-05 694007,75|2023-08 247472,53|2023-10 265386,99|2023-12 379796,84|2024-02 245596,42|2024-04 244788,94|2024-05 455501,27|2024-06 412321,04|2024-09 311570,46|2024-11 372629,07 | L8: 1582650 | M8: 113400 | N8: 1582650 | O8: 24300 | P8: 1558350 | Q8: 16200 | R8: 1542150 | S8: 16200 | T8: 1525950 | U8: 16200 | V8: 1509750 | W8: 24300 | X8: 1485450 | Y8: 16200 | Z8: 1469250 | AA8: 267300 | AB8: 16200 | AC8: 1453050 | AD8: 8100 | AE8: 1444950 | AF8: 16200 | AG8: 1428750 | AH8: 16200 | AI8: 1412550 | AJ8: =AB8+AD8+AF8+AH8 -> 56700
A9: ALGAR TELECOM S/A | B9: ENCERRADO | C9: 71.208.516/0001-74 | D9: 0015-PS/2021/0001 | E9: PRESTAÇÃO DE SERVIÇO | F9: 16/04/2021 | G9: 15/04/2026 | H9: Vencido | I9: SEDE-ADM-2022/00101 | J9: DNUL- DNUR | K9: 2024-09 179,36|2024-10 178,77|2024-11 178,57|2024-12 178,98|2025-01 176,47|2025-02 177,24|2025-03 177,19|2025-04 177,39|2025-05 178,03|2025-06 223,41|2025-07 177,35 |2023-12 26583,21|2024-01 26583,21|2024-03 389906,02|2024-04 125086,1|2024-05 26583,21|2024-06 26583,21|2024-07 26583,21|2024-08 95340,96 | L9: 17864.69 | M9: 1287.08 | N9: 17864.69 | O9: 177.25 | P9: 17687.44 | Q9: 177.43 | R9: 17510.01 | S9: 177.52 | T9: 17332.49 | U9: 177.69 | V9: 17154.8 | W9: 46.24 | X9: 17108.56 | Y9: 131.26 | Z9: 16977.3 | AA9: 2621.83 | AB9: 92.48 | AC9: 0 | AD9: 177.45 | AE9: -177.45 | AF9: 177.43 | AG9: -354.88 | AH9: 308.74 | AI9: -663.62 | AJ9: =AB9+AD9+AF9+AH9 -> 756.1
A10: AMAZON DOCUMENTOS E TECNOLOGIA DA INFORMAÇÃO LTDA. | B10: ENCERRADO | C10: 00.734.255/0001-88 | D10: 0034-SF/2021/0001 | E10: PRESTAÇÃO DE SERVIÇO | F10: 31/03/2021 | G10: 30/03/2026 | H10: Vencido | I10: SEDE-ADM-2022/00061 | J10: SEDE | K10: 0 | L10: 247048.67 | M10: 342223.9 | N10: 247048.67 | O10: 0 | P10: 218985.28 | Q10: 0 | R10: 218985.28 | S10: 0 | T10: 218985.28 | U10: 0 | V10: 218985.28 | W10: 0 | X10: 218985.28 | Y10: 0 | Z10: 218985.28 | AA10: 342223.9 | AB10: 0 | AC10: 0 | AD10: 0 | AE10: 0 | AF10: 0 | AG10: 0 | AH10: 0 | AI10: 0 | AJ10: =AB10+AD10+AF10+AH10 -> 0
A11: ATM SERVIÇOS ESPECIALIZADOS LTDA. | B11: ENCERRADO | C11: 32.984.752/0001-20 | D11: 0045-SL/2023/0046 | E11: PRESTAÇÃO DE SERVIÇO DE CONSERVAÇÃO E LIMPEZA | F11: 21/11/2023 | G11: 21/05/2026 | H11: Vence em 30 dias | I11: SEDE-ADM-2023/01366 | J11: DNAT | K11: 2023-12 5268,63|2024-01 5268,63|2024-03 5268,63|2024-04 5268,63|2024-05 5268,63|2024-06 4741,77|2024-07 4741,77 | L11: 131013.42 | M11: 0 | N11: 131013.42 | O11: 0 | P11: 131013.42 | Q11: 0 | R11: 131013.42 | S11: 0 | T11: 131013.42 | U11: 0 | V11: 131013.42 | W11: 0 | X11: 131013.42 | Y11: 0 | Z11: 131013.42 | AA11: 0 | AB11: 0 | AC11: 0 | AD11: 0 | AE11: 0 | AF11: 0 | AG11: 0 | AH11: 0 | AI11: 0 | AJ11: =AB11+AD11+AF11+AH11 -> 0
A12: AZUL LINHAS AÉREAS BRASILEIRAS S/A | B12: ENCERRADO | C12: 09.740.766/0001-60 | D12: 05-2020-149-0001 | E12: PRESTAÇÃO DE SERVIÇO | F12: 10/10/2020 | G12: 09/10/2025 | H12: Vencido | I12: SEDE-ADM-2021/00067 | J12: DNSJ | K12: 0 | L12: 0 | M12: 0 | N12: 0 | O12: 0 | P12: 0 | Q12: 0 | R12: 0 | S12: 0 | T12: 0 | U12: 0 | V12: 0 | W12: 0 | X12: 0 | Y12: 0 | Z12: 0 | AA12: 0 | AB12: 0 | AC12: 0 | AD12: 0 | AE12: 0 | AF12: 0 | AG12: 0 | AH12: 0 | AI12: 0 | AJ12: =AB12+AD12+AF12+AH12 -> 0
A13: B CARVALHO LTDA. | B13: ATIVO | C13: 50.190.142/0001-37 | D13: 0018-SL/2024/0019 | E13: PRESTAÇÃO DE SERVIÇO DE CONSERVAÇÃO E LIMPEZA | F13: 30/07/2024 | G13: 30/01/2027 | H13: Vence após 180 dias | I13: SEDE-ADM-2024/00642 | J13: DNSN | K13: 2024-10 7638,9|2024-11 9166,67|2024-12 9166,67|2025-01 9166,67|2025-02 9166,67|2025-03 9166,67|2025-04 9166,67|2025-05 9166,67|2025-06 18333,34 | L13: 184861.07 | M13: 77038.88 | N13: 184861.07 | O13: 12872.19 | P13: 171988.88 | Q13: 12872.19 | R13: 159116.69 | S13: 0 | T13: 159116.69 | U13: 9604.12 | V13: 149512.57 | W13: 19208.24 | X13: 130304.33 | Y13: 28812.36 | Z13: 101491.97 | AA13: 179616.22 | AB13: 0 | AC13: 101491.97 | AD13: 9604.12 | AE13: 91887.85 | AF13: 9604.12 | AG13: 82283.73 | AH13: 9604.12 | AI13: 72679.61 | AJ13: =AB13+AD13+AF13+AH13 -> 28812.36
A14: B7 EMPREENDIMENTOS LTDA. | B14: ENCERRADO | C14: 17.298.685/0001-05 | D14: 0036-PS/2022/0001 | E14: PRESTAÇÃO DE SERVIÇO | F14: 15/12/2022 | G14: 15/06/2023 | H14: Vencido | I14: SEDE-ADM-2022/01172 | J14: SEDE | K14: 0 | L14: 0 | M14: 0 | N14: 0 | O14: 0 | P14: 0 | Q14: 0 | R14: 0 | S14: 0 | T14: 0 | U14: 0 | V14: 0 | W14: 0 | X14: 0 | Y14: 0 | Z14: 0 | AA14: 0 | AB14: 0 | AC14: 0 | AD14: 0 | AE14: 0 | AF14: 0 | AG14: 0 | AH14: 0 | AI14: 0 | AJ14: =AB14+AD14+AF14+AH14 -> 0
... A58: EXCEL ELEVADORES LTDA. | B58: ATIVO | C58: 02.590.254/0001-32 | D58: 0155-SM/2021/0062 | E58: PRESTAÇÃO DE SERVIÇO | F58: 20/10/2021 | G58: 20/10/2026 | H58: Vence em 180 dias | I58: SEDE-ADM-2022/00656 | J58: DNRJ | K58: 2024-05 3265,25|2024-06 25350,67|2024-07 3265,25|2024-08 3265,25|2024-09 3265,25|2024-10 4675,25|2024-11 3265,25|2024-12 3265,25|2025-01 3265,25|2025-02 3265,25|2025-03 3265,25|2025-04 3265,25|2025-05 3265,25|2025-06 3265,25|2025-07 3265,252025-07 49.300,00 | L58: 176858.29 | M58: 22856.75 | N58: 176858.29 | O58: 3265.25 | P58: 173593.04 | Q58: 3265.25 | R58: 170327.79 | S58: 3700.8 | T58: 166626.99 | U58: 4480.8 | V58: 162146.19 | W58: 3265.25 | X58: 158880.94 | Y58: 5931.87 | Z58: 152949.07 | AA58: 53296.47 | AB58: 0 | AC58: 152949.07 | AD58: 3265.25 | AE58: 149683.82 | AF58: 3265.25 | AG58: 146418.57 | AH58: 3265.25 | AI58: 143153.32 | AJ58: =AB58+AD58+AF58+AH58 -> 9795.75
A59: EXTRAMED ADMINISTRAÇÃO E SERVIÇOS MÉDICOS LTDA. | B59: ENCERRADO | C59: 01.747.987/0001-75 | D59: 0011_DSAD_2024 | E59: CONTRATO DE CREDENCIAMENTO | F59: 31/01/2020 | G59: 15/07/2025 | H59: Vencido | I59: SEDE-ADM-2023/00165 | J59: SEDE | K59: 0 | L59: 0 | N59: 0 | O59: 0 | P59: 0 | Q59: 0 | R59: 0 | S59: 0 | T59: 0 | U59: 0 | V59: 0 | W59: 0 | X59: 0 | Y59: 0 | Z59: 0 | AA59: 0 | AB59: 0 | AC59: 0 | AD59: 0 | AE59: 0 | AF59: 0 | AG59: 0 | AH59: 0 | AI59: 0 | AJ59: =AB59+AD59+AF59+AH59 -> 0
A60: EXTREME | B60: ENCERRADO | C60: 14.139.773/0001-68 | D60: 0004-TI/2022/0001 | E60: PRESTAÇÃO DE SERVIÇO | F60: 28/04/2022 | G60: 28/02/2025 | H60: Vencido | I60: SEDE-ADM-2022/00469 | J60: SEDE | K60: 0 | L60: 348310.05 | M60: 206896.69 | N60: 348310.05 | O60: 0 | P60: 0 | Q60: 0 | R60: 0 | S60: 0 | T60: 0 | U60: 0 | V60: 0 | W60: 0 | X60: 0 | Y60: 0 | Z60: 0 | AA60: 206896.69 | AB60: 0 | AC60: 0 | AD60: 0 | AE60: 0 | AF60: 0 | AG60: 0 | AH60: 0 | AI60: 0 | AJ60: =AB60+AD60+AF60+AH60 -> 0
A61: F&F DISTRIBUIDORA CORDEIRO LTDA. | B61: ATIVO | C61: 44.965.792/0001-04 | D61: 0005-FM/2025/0001 | E61: PRESTAÇÃO DE SERVIÇO | F61: 11/02/2025 | G61: 11/08/2027 | H61: Vence após 180 dias | I61: SEDE-ADM-2025/00033 | J61: SEDE | K61: 2025-07 49.300,00 2025-05 8615,45|2025-06 8615,45|2025-07 8615,45 | L61: 0 | M61: 0 | N61: 0 | O61: 49300 | P61: 160770 | Q61: 49300 | R61: 111470 | S61: 55650 | T61: 55820 | U61: 0 | V61: 55820 | W61: 1350 | X61: 54470 | Y61: 0 | Z61: 54470 | AA61: 162200 | AB61: 6600 | AC61: 47870 | AD61: 0 | AE61: 47870 | AF61: 0 | AG61: 47870 | AH61: 0 | AI61: 47870 | AJ61: =AB61+AD61+AF61+AH61 -> 6600
A62: FÊNIX ASSESSORIA & GESTÃO EMPRESARIAL LTDA. | B62: ATIVO | C62: 04.795.101/0001-57 | D62: 0023-SL/2022/0033 | E62: PRESTAÇÃO DE SERVIÇO DE CONSERVAÇÃO E LIMPEZA | F62: 31/10/2022 | G62: 30/10/2027 | H62: Vence após 180 dias | I62: SEDE-ADM-2022/01317 | J62: DNPJ | K62: 0 | L62: 249576.35 | M62: 60308.15 | N62: 249576.35 | O62: 8615.45 | P62: 240960.9 | Q62: 8615.45 | R62: 232345.45 | S62: 9738.44 | T62: 222607.01 | U62: 8941.52 | V62: 213665.49 | W62: 8941.52 | X62: 204723.97 | Y62: 8941.52 | Z62: 195782.45 | AA62: 143463.86 | AB62: 9818.77 | AC62: 185963.68 | AD62: 9724.27 | AE62: 176239.41 | AF62: 9818.77 | AG62: 166420.64 | AH62: 9818.77 | AI62: 156601.87 | AJ62: =AB62+AD62+AF62+AH62 -> 39180.58
A63: FERREIRA SERVIÇOS E MANUTENÇÃO LTDA. - Cadastrar Termo Aditivo de Prorrogação | B63: ATIVO | C63: 33.262.062/0001-20 | D63: 0036-SL/2023/0043 | E63: PRESTAÇÃO DE SERVIÇO DE CONSERVAÇÃO E LIMPEZA | F63: 12/09/2023 | G63: 12/09/2028 | H63: Vence após 180 dias | I63: SEDE-ADM-2023/01242 | J63: DNUR | K63: 2023-11 9610,22|2023-12 19220,44|2024-02 9610,22|2024-03 9610,22|2024-04 9610,22|2024-05 9610,22|2024-06 9610,22|2024-07 9610,22|2024-08 9610,22|2024-09 9610,22|2024-10 9610,22|2024-11 9610,22|2024-12 9610,22|2025-01 9610,22|2025-02 8987,582025-03 9244,43|2025-04 9604,02|2025-05 9604,02|2025-06 19208,04|2025-07 9604,02|2025-08 9604,02 | L63: 86572.94 | M63: 85466.35 | N63: 86572.94 | O63: 9604.02 | P63: 76968.92 | Q63: 9604.02 | R63: 292431.43 | S63: 9604.02 | T63: 282827.41 | U63: 9976.94 | V63: 293811.68 | W63: 13230.39 | X63: 280581.29 | Y63: 10149.39 | Z63: 270431.9 | AA63: 177068.37 | AB63: 9811.08 | AC63: 260620.82 | AD63: 9811.08 | AE63: 250809.74 | AF63: 9811.08 | AG63: 240998.66 | AH63: 10149.39 | AI63: 230849.27 | AJ63: =AB63+AD63+AF63+AH63 -> 39582.63
A64: FIBONACCI ENGENHARIA E SERVIÇOS LTDA. | B64: ENCERRADO | C64: 21.315.711/0001-25 | D64: 0209-SC/2020/0031 | E64: PRESTAÇÃO DE SERVIÇO | F64: 01/10/2020 | G64: 01/10/2025 | H64: Vencido | I64: SEDE-ADM-2022/00197 | J64: DNMQ | K64: 2023-07 4928,42|2023-08 4820,95|2023-09 4730,99|2023-10 4605,07|2023-11 5505,07|2023-12 4505,07|2024-01 4505,07|2024-02 4505,07|2024-03 4505,07|2024-04 4505,07|2024-05 4505,07|2024-06 5134,49|2024-07 4714,65|2024-08 4714,65|2024-09 4670,43|2024-10 4707,28|2024-11 4707,282024-12 4707,28|2025-01 4707,28|2025-02 4707,28|2025-03 4707,28|2025-04 4945,36|2025-05 4945,36|2025-06 4945,36|2025-07 4945,36 | L64: 64437.59 | M64: 33903.28 | N64: 64437.59 | O64: 4945.36 | P64: 59492.23 | Q64: 4945.35 | R64: 54546.88 | S64: 4945.36 | T64: 49601.52 | U64: 4945.36 | V64: 44656.16 | W64: 0 | X64: 44656.16 | Y64: 0 | Z64: 44656.16 | AA64: 53684.71 | AB64: 0 | AC64: 0 | AD64: 0 | AE64: 0 | AF64: 0 | AG64: 0 | AH64: 0 | AI64: 0 | AJ64: =AB64+AD64+AF64+AH64 -> 0
A65: FIRMIANO SEGURANÇA PATRIMONIAL EIRELI | B65: ATIVO | C65: 19.907.785/0001-09 | D65: 0040-SV/2021/0195 | E65: PRESTAÇÃO DE SERVIÇO DE VIGILÂNCIA | F65: 15/07/2021 | G65: 13/04/2026 | H65: Vencido | I65: SEDE-ADM-2021/00088 | J65: DNME | K65: 2023-12 49257,69|2024-01 49257,69|2024-02 49257,69|2024-03 49257,69|2024-04 49257,69|2024-05 49257,69|2024-06 49257,69|2024-07 49257,69|2024-08 49257,69|2024-09 49257,692024-10 68069,29|2024-11 51138,85|2024-12 51138,85|2025-01 51138,85|2025-02 51138,85|2025-03 51138,85|2025-04 51138,85|2025-05 51138,85|2025-06 51138,85 2025-07 67.839,10 | L65: 591351.51 | M65: 374672.2 | N65: 591351.51 | O65: 51138.85 | P65: 560654.13 | Q65: 67839.1 | R65: 492815.03 | S65: 53524.6 | T65: 439290.43 | U65: 53524.6 | V65: 385765.83 | W65: 53524.6 | X65: 332241.23 | Y65: 107049.2 | Z65: 225192.03 | AA65: 868322.35 | AB65: 0 | AC65: 225192.03 | AD65: 53524.6 | AE65: 171667.43 | AF65: 53524.6 | AG65: 118142.83 | AH65: 53524.6 | AI65: 64618.23 | AJ65: =AB65+AD65+AF65+AH65 -> 160573.8
A66: GENESIS – GERAÇÃO DE NOVAS EMPRESAS DE SISTEMA E SERVIÇO LTDA. | B66: ATIVO | C66: 41.662.936/0001-65 | D66: 0021-SV/2023/0035 | E66: PRESTAÇÃO DE SERVIÇO DE VIGILÂNCIA | F66: 30/06/2023 | G66: 30/06/2026 | H66: Vence em 60 dias | I66: SEDE-ADM-2022/00998 | J66: DNBH | K66: 45709 1216050|45709 1216050|45709 1216050|45709 1216050|45709 121605045328 18408118,8|45328 18408118,8|45328 18408118,8|45328 18408118,8|45328 18408118,8|45328 18408118,8|45328 18408118,8|45328 18408118,8|45328 18408118,8|45328 18408118,8|45328 18408118,8|45328 18408118,8|45328 18408118,8 | L66: 65051.54 | M66: 34159.16 | N66: 65051.54 | O66: 4972.22 | P66: 60079.32 | Q66: 4972.22 | R66: 55107.1 | S66: 4972.22 | T66: 50134.88 | U66: 4972.22 | V66: 45162.66 | W66: 5000.86 | X66: 40161.8 | Y66: 5251.91 | Z66: 34909.89 | AA66: 79793.94 | AB66: 4989.31 | AC66: 29920.58 | AD66: 5251.91 | AE66: 24668.67 | AF66: 5251.91 | AG66: 19416.76 | AH66: 5251.91 | AI66: 14164.85 | AJ66: =AB66+AD66+AF66+AH66 -> 20745.04
A67: GL OXIGENIO LTDA. | B67: ATIVO | C67: 12.520.836/0001-04 | D67: 0023-FM/2023/0046 | E67: PRESTAÇÃO DE SERVIÇO | F67: 11/07/2023 | G67: 07/01/2026 | H67: Vencido | I67: SEDE-ADM-2023/00500 | J67: DNAT | K67: 2025-02 68000|2025-04 68000|2025-06 68000|2025-07 680002023-07 84089,14|2023-08 75038,38|2023-09 74978,7|2023-10 74859,34|2023-11 74829,5|2023-12 74769,82|2024-01 132505,64|2024-02 100076,78|2024-03 99977,34|2024-04 99828,18|2024-05 136637,93 | L67: 680850 | M67: 272000 | N67: 680850 | O67: 0 | P67: 612850 | Q67: 68000 | R67: 544850 | S67: 68000 | T67: 476850 | U67: 68000 | V67: 408850 | W67: 68000 | X67: 340850 | Y67: 74331.2 | Z67: 266518.8 | AA67: 692662.4 | AB67: 0 | AC67: 266518.8 | AD67: 0 | AE67: 266518.8 | AF67: 74331.2 | AG67: 192187.6 | AH67: 121460.8 | AI67: 70726.8 | AJ67: =AB67+AD67+AF67+AH67 -> 195792
A68: GLR CONSULTORIA EM SISTEMAS LTDA. | B68: ATIVO | C68: 62.450.028/0001-88 | D68: 0251-PS/2019/0001 | E68: PRESTAÇÃO DE SERVIÇO | F68: 29/07/2019 | G68: 03/11/2025 | H68: Vencido | I68: SEDE-ADM-2021/00007 | J68: SEDE | K68: 2023-07 84089,14|2023-08 75038,38|2023-09 74978,7|2023-10 74859,34|2023-11 74829,5|2023-12 74769,82|2024-01 132505,64|2024-02 100076,78|2024-03 99977,34|2024-04 99828,18|2024-05 136637,932024-06 99629,3|2024-07 99480,14|2024-08 122267,97|2024-09 104641,43 2024-10 104719,1|2024-11 104045,96|2024-12 104356,64|2025-01 104173,54|2025-02 104123,63|2025-03 103968,29|2025-04 104020,07|2025-05 103864,73|2025-06 120384,33|2025-07 109579,37 | L68: 3185758.9 | M68: 750113.96 | N68: 3185758.9 | O68: 120384.33 | P68: 3076179.5 | Q68: 109579.37 | R68: 2966600.2 | S68: 109633.91 | T68: 2856966.3 | U68: 64938.38 | V68: 2792027.9 | W68: 0 | X68: 2792027.9 | Y68: 153102.29 | Z68: 2638925.6 | AA68: 1427494 | AB68: 0 | AC68: 2638925.6 | AD68: 0 | AE68: 2638925.6 | AF68: 119741.79 | AG68: 2519183.8 | AH68: 0 | AI68: 2519183.8 | AJ68: =AB68+AD68+AF68+AH68 -> 119741.79
A69: GPBR PARTICIPAÇÕES LTDA. | B69: ATIVO | C69: 15.664.649/0001-84 | D69: 0024-PS/2025/0001 | E69: PRESTAÇÃO DE SERVIÇO | F69: 09/04/2025 | G69: 09/04/2026 | H69: Vencido | I69: SEDE-ADM-2025/00408 | J69: SEDE | K69: 0 | L69: 834768 | M69: 0 | N69: 834768 | O69: 69564 | P69: 765204 | Q69: 56973 | R69: 708231 | S69: 63269 | T69: 644962 | U69: 0 | V69: 644962 | W69: 126538 | X69: 518424 | Y69: 63269 | Z69: 455155 | AA69: 569420 | AB69: 63269 | AC69: 391886 | AD69: 63269 | AE69: 328617 | AF69: 63269 | AG69: 1669536 | AH69: 63269 | AI69: 1606267 | AJ69: =AB69+AD69+AF69+AH69 -> 253076
A70: HAWK SERVIÇOS DE CONSERVAÇÃO E LIMPEZA LTDA. | B70: ENCERRADO | C70: 28.483.805/0001-52 | D70: 0043-PS/2023/0001 | E70: PRESTAÇÃO DE SERVIÇO | F70: 31/10/2023 | G70: 30/04/2026 | H70: Vencido | I70: SEDE-ADM-2023/01638 | J70: SEDE | K70: 2023-12 23775,71|2024-01 23775,71|2024-02 23775,71|2024-03 47551,42|2024-05 23775,71|2024-06 23775,71|2024-07 23775,712024-08 23775,71|2024-09 30881,57|2024-10 49920,04|2024-11 24960,02|2025-01 49920,04|2025-02 36433,58 2025-03 92303,78|2025-05 57799,8|2025-06 24564,92|2025-07 23119,92|2025-08 24564,92 | L70: 280355.7 | M70: 308706.96 | N70: 280355.7 | O70: 47684.84 | P70: 257235.78 | Q70: 24564.92 | R70: 232670.86 | S70: 0 | T70: 232670.86 | U70: 0 | V70: 232670.86 | W70: 0 | X70: 232670.86 | Y70: 19057.65 | Z70: 213613.21 | AA70: 400014.37 | AB70: 0 | AC70: 0 | AD70: 0 | AE70: 0 | AF70: 0 | AG70: 0 | AH70: 0 | AI70: 0 | AJ70: =AB70+AD70+AF70+AH70 -> 0
A71: HIGICLEAN III TECNOLOGIA E LIMPEZA EIRELI Cadastrar termo aditivo | B71: ATIVO | C71: 25.128.718/0001-99 | D71: 0021-SL/2025/0049 | E71: PRESTAÇÃO DE SERVIÇO DE CONSERVAÇÃO E LIMPEZA | F71: 01/04/2025 | G71: 01/04/2027 | H71: Vence após 180 dias | I71: SEDE-ADM-2024/00750 | J71: DNAR | K71: 2025-05 23135,28|2025-06 7711,76|2025-07 7711,762024-12 19271,32|2025-02 183952 | L71: 61311.4 | M71: 38558.8 | N71: 61311.4 | O71: 7711.76 | P71: 53599.64 | Q71: 7711.76 | R71: 45887.88 | S71: 7711.76 | T71: 38176.12 | U71: 7711.76 | V71: 30464.36 | W71: 7711.76 | X71: 22752.6 | Y71: 15423.52 | Z71: 7329.08 | AA71: 108806.86 | AB71: 0 | AC71: 7329.08 | AD71: 7711.76 | AE71: -382.68 | AF71: 8553.98 | AG71: 92158.44 | AH71: 8553.98 | AI71: 83604.46 | AJ71: =AB71+AD71+AF71+AH71 -> 24819.72
... A86: INFRAERO | B86: ENCERRADO | C86: 00.352.294/0001-10 | D86: 0026-PS/2023/0001 | E86: PRESTAÇÃO DE SERVIÇO | F86: 31/07/2023 | G86: 31/10/2024 | H86: Vencido | I86: SEDE-ADM-2023/01210 | J86: SEDE | K86: 2024-10 403.408,37 2025-02 1738847,42|2025-03 1675904,18|2025-04 1812176,33|2025-05 1742521,47|2025-06 1659412,52 | L86: 28805956 | M86: 10271470 | N86: 28805956 | O86: 0 | P86: 28805956 | Q86: 0 | R86: 28805956 | S86: 0 | T86: 28805956 | U86: 0 | V86: 28805956 | W86: 0 | X86: 28805956 | Y86: 0 | Z86: 28805956 | AA86: 10271470 | AB86: 0 | AC86: 0 | AD86: 0 | AE86: 0 | AF86: 0 | AG86: 0 | AH86: 0 | AI86: 0 | AJ86: =AB86+AD86+AF86+AH86 -> 0
A87: INFRAERO | B87: ENCERRADO | C87: 00.352.294/0001-10 | D87: 0001-PS/2022/0110 | F87: 14/01/2022 | G87: 30/06/2023 | H87: Vencido | I87: SEDE-ADM-2021/00072 | J87: SEDE | K87: 2023-09 | 3867354,59 2023-11 | 5370870,01 2023-12 | 6760728,47 2024-01 | 4166511,08 2024-03 | 4089576,27 2024-04 | 8161896,69 2024-05 | 1410309,6 2024-06 | 5236536,69 2024-07 | 1858878,31 2024-08 | 1660429,17 2024-09 | 1657669,31 2024-10 | 1689059,15 2024-11 | 1807614,97 2024-12 | 1617345,73 2025-01 | 1642607,92 2025-02 | 1738847,42 2025-03 | 1675904,18 2025-04 | 1812176,33 2025-05 | 1742521,47 2025-06 | 1659412,52 | L87: 2446278.2 | M87: 0 | N87: 2446278.2 | O87: 0 | P87: 2446278.2 | Q87: 0 | R87: 2446278.2 | S87: 0 | T87: 2446278.2 | U87: 0 | V87: 2446278.2 | W87: 0 | X87: 2446278.2 | Y87: 0 | Z87: 2446278.2 | AA87: 0 | AB87: 0 | AC87: 0 | AD87: 0 | AE87: 0 | AF87: 0 | AG87: 0 | AH87: 0 | AI87: 0 | AJ87: =AB87+AD87+AF87+AH87 -> 0
A88: INSTITUTO DE PROMOÇÃO HUMANA, APRENDIZAGEM E CULTURA - IPHAC | B88: ATIVO | C88: 11.595.331/0001-38 | D88: 0026-PS/2025/0001 | E88: PRESTAÇÃO DE SERVIÇO | F88: 09/05/2025 | G88: 09/11/2027 | H88: Vence após 180 dias | I88: SEDE-ADM-2025/00536 | J88: DNVT | K88: 0 | L88: 152145 | M88: 0 | N88: 152145 | O88: 0 | P88: 152145 | Q88: 0 | R88: 152145 | S88: 0 | T88: 152145 | U88: 0 | V88: 152145 | W88: 0 | X88: 152145 | Y88: 0 | Z88: 152145 | AA88: 0 | AB88: 0 | AC88: 152145 | AD88: 0 | AE88: 152145 | AF88: 0 | AG88: 152145 | AH88: 0 | AI88: 152145 | AJ88: =AB88+AD88+AF88+AH88 -> 0
A89: INSTITUTO DE PROMOÇÃO HUMANA, APRENDIZAGEM E CULTURA - IPHAC | B89: ATIVO | C89: 11.595.331/0001-38 | D89: 0027-PS/2025/0001 | E89: PRESTAÇÃO DE SERVIÇO | F89: 09/05/2025 | G89: 09/11/2027 | H89: Vence após 180 dias | I89: SEDE-ADM-2025/00539 | J89: DNGO | K89: 0 | L89: 100096.2 | M89: 0 | N89: 100096.2 | O89: 0 | P89: 100096.2 | Q89: 0 | R89: 100096.2 | S89: 0 | T89: 100096.2 | U89: 0 | V89: 100096.2 | W89: 2001.92 | X89: 98094.28 | Y89: 3336.54 | Z89: 94757.74 | AA89: 11955.93 | AB89: 0 | AC89: 94757.74 | AD89: 3336.54 | AE89: 91421.2 | AF89: 3280.93 | AG89: 88140.27 | AH89: 3392.15 | AI89: 84748.12 | AJ89: =AB89+AD89+AF89+AH89 -> 10009.62
A90: INSTITUTO DOS AUDITORES INTERNOS DO BRASIL | B90: ATIVO | C90: 62.070.115/0001-00 | D90: 0028-ST/2025/0001 | E90: PRESTAÇÃO DE SERVIÇO | F90: 01/07/2025 | G90: 01/07/2026 | H90: Vence em 60 dias | I90: SEDE-ADM-2025/00437 | J90: SEDE | K90: 0 | L90: 0 | M90: 0 | N90: 0 | O90: 0 | P90: 33825 | Q90: 0 | R90: 33825 | S90: 0 | T90: 33825 | U90: 8325 | V90: 25500 | W90: 17325 | X90: 8175 | Y90: 0 | Z90: 8175 | AA90: 25650 | AB90: 0 | AC90: 8175 | AD90: 0 | AE90: 8175 | AF90: 0 | AG90: 8175 | AH90: 0 | AI90: 8175 | AJ90: =AB90+AD90+AF90+AH90 -> 0
A91: JVP NETWORK & SERVIÇOS LTDA. | B91: ATIVO | C91: 20.599.605/0001-58 | D91: 0015-SV/2025/0016 | E91: PRESTAÇÃO DE SERVIÇO DE VIGILÂNCIA | F91: 21/02/2025 | G91: 21/02/2027 | H91: Vence após 180 dias | I91: SEDE-ADM-2024/01447 | J91: DNNF | K91: 2025-04 28588,12|2025-05 19945,2|2025-06 19945,2|2025-07 19945,22024-09 130.403,45 | L91: 170863.88 | M91: 88423.72 | N91: 170863.88 | O91: 19945.2 | P91: 150918.68 | Q91: 19945.2 | R91: 130973.48 | S91: 19945.2 | T91: 111028.28 | U91: 19945.2 | V91: 91083.08 | W91: 19945.2 | X91: 71137.88 | Y91: 19945.2 | Z91: 51192.68 | AA91: 247985.32 | AB91: 19945.2 | AC91: 31247.48 | AD91: 0 | AE91: 31247.48 | AF91: 19945.2 | AG91: 11302.28 | AH91: 0 | AI91: 11302.28 | AJ91: =AB91+AD91+AF91+AH91 -> 39890.4
A92: JUSTIZ TERCEIRIZAÇÃO DE MÃO DE OBRA LTDA. | B92: ENCERRADO | C92: 06.538.799/0001-50 | D92: 0006-SL/2022/0032 | E92: PRESTAÇÃO DE SERVIÇO DE CONSERVAÇÃO E LIMPEZA | F92: 16/06/2022 | G92: 17/06/2025 | H92: Vencido | I92: SEDE-ADM-2022/00481 | J92: DNBU | K92: 2024-12 16.974,12 2025-04 28588,12|2025-05 19945,2|2025-06 19945,2|2025-07 19945,2 | L92: 28817.1 | M92: 52074.95 | N92: 28817.1 | O92: 10274.75 | P92: 18542.35 | Q92: 0 | R92: 18542.35 | S92: 0 | T92: 18542.35 | U92: 0 | V92: 18542.35 | W92: 0 | X92: 18542.35 | Y92: 0 | Z92: 18542.35 | AA92: 62349.7 | AB92: 0 | AC92: 0 | AD92: 0 | AE92: 0 | AF92: 0 | AG92: 0 | AH92: 0 | AI92: 0 | AJ92: =AB92+AD92+AF92+AH92 -> 0
A93: JUSTIZ TERCEIRIZAÇÃO DE MÃO DE OBRA LTDA. | B93: ENCERRADO | C93: 06.538.799/0001-50 | D93: 0007-SL/2022/0029 | E93: PRESTAÇÃO DE SERVIÇO DE CONSERVAÇÃO E LIMPEZA | F93: 17/06/2022 | G93: 17/06/2025 | H93: Vencido | I93: SEDE-ADM-2022/00500 | J93: DNDN | K93: 2024-12 16.974,12 2025-04 28588,12|2025-05 19945,2|2025-06 19945,2|2025-07 19945,2 | L93: 0 | M93: 112546.71 | N93: 0 | O93: 18633.14 | P93: 45333.82 | Q93: 0 | R93: 45333.82 | S93: 0 | T93: 45333.82 | U93: 0 | V93: 45333.82 | W93: 0 | X93: 45333.82 | Y93: 0 | Z93: 45333.82 | AA93: 131179.85 | AB93: 0 | AC93: 0 | AD93: 0 | AE93: 0 | AF93: 0 | AG93: 0 | AH93: 0 | AI93: 0 | AJ93: =AB93+AD93+AF93+AH93 -> 0
A94: JUSTIZ TERCEIRIZAÇÃO DE MÃO DE OBRA LTDA. | B94: ENCERRADO | C94: 06.538.799/0001-50 | D94: 0010-SL/2022/0030 | E94: PRESTAÇÃO DE SERVIÇO DE CONSERVAÇÃO E LIMPEZA | F94: 21/07/2022 | G94: 20/01/2025 | H94: Vencido | I94: SEDE-ADM-2022/00817 | J94: DNGR | K94: 2024-12 16.974,12 2025-04 28588,12|2025-05 19945,2|2025-06 19945,2|2025-07 19945,2 | L94: 0 | M94: 33545.25 | N94: 0 | O94: 0 | P94: 0 | Q94: 0 | R94: 0 | S94: 0 | T94: 0 | U94: 0 | V94: 0 | W94: 0 | X94: 0 | Y94: 0 | Z94: 0 | AA94: 33545.25 | AB94: 0 | AC94: 0 | AD94: 0 | AE94: 0 | AF94: 0 | AG94: 0 | AH94: 0 | AI94: 0 | AJ94: =AB94+AD94+AF94+AH94 -> 0
A95: JUSTIZ TERCEIRIZAÇÃO DE MÃO DE OBRA LTDA. | B95: ENCERRADO | C95: 06.538.799/0001-50 | D95: 0011-SL/2022/0001 | E95: PRESTAÇÃO DE SERVIÇO DE CONSERVAÇÃO E LIMPEZA | F95: 29/07/2022 | G95: 29/07/2025 | H95: Vencido | I95: SEDE-ADM-2022/00818 | J95: DNKP | K95: 2024-12 16.974,12 2025-04 28588,12|2025-05 19945,2|2025-06 19945,2|2025-07 19945,2 | L95: 163267.05 | M95: 326730.67 | N95: 163267.05 | O95: 44044.13 | P95: 119222.92 | Q95: 55159.25 | R95: 64063.67 | S95: 27894.61 | T95: 36169.06 | U95: 0 | V95: 36169.06 | W95: 0 | X95: 36169.06 | Z95: 36169.06 | AA95: 453828.66 | AB95: 0 | AC95: 0 | AD95: 0 | AE95: 0 | AF95: 0 | AG95: 0 | AH95: 0 | AI95: 0 | AJ95: =AB95+AD95+AF95+AH95 -> 0
A96: KIARGOS SERVIÇOS E FACILITY LTDA. | B96: ATIVO | C96: 28.871.366/0001-55 | D96: 0064-SL/2025/0030 | E96: PRESTAÇÃO DE SERVIÇO DE CONSERVAÇÃO E LIMPEZA | F96: 20/10/2025 | G96: 20/04/2028 | H96: Vence após 180 dias | I96: SD-ADM-2025/01262 | J96: DNGR | K96: 0 | L96: 0 | M96: 0 | N96: 0 | O96: 0 | P96: 0 | Q96: 0 | R96: 0 | S96: 0 | T96: 0 | U96: 0 | V96: 1729999.8 | W96: 0 | X96: 1729999.8 | Y96: 13349.57 | Z96: 1716650.2 | AA96: 184986.92 | AB96: 114424.9 | AC96: 1602225.3 | AD96: 0 | AE96: 1602225.3 | AF96: 57212.45 | AG96: 1545012.9 | AH96: 57212.45 | AI96: 1487800.4 | AJ96: =AB96+AD96+AF96+AH96 -> 228849.8
A97: KOVR SEGURADORA S/A | B97: ATIVO | C97: 42.366.302/0001-28 | D97: 0017-SS/2022/0001 | E97: PRESTAÇÃO DE SERVIÇO | F97: 13/09/2022 | G97: 13/09/2026 | H97: Vence em 120 dias | I97: SEDE-ADM-2022/00887 | J97: DNRJ | K97: 2024-09 130.403,45 2025-07 209.725,31 | L97: 0 | M97: 0 | N97: 0 | O97: 0 | P97: 0 | Q97: 0 | R97: 0 | S97: 0 | T97: 0 | U97: 0 | V97: 0 | W97: 0 | X97: 0 | Y97: 0 | Z97: 0 | AA97: 0 | AB97: 0 | AC97: 0 | AD97: 0 | AE97: 0 | AF97: 0 | AG97: 0 | AH97: 0 | AI97: 0 | AJ97: =AB97+AD97+AF97+AH97 -> 0
...

Sheet Resumo Mensal Executado
A1: RESUMO — EXECUTADO MENSAL (R$)
A3: Período | B3: Executado (R$)
A4: Jan–Jun/25 (acumulado) | B4: ='Execução ABR-26'!M227 -> 72680944
A5: Jul/25 | B5: ='Execução ABR-26'!O227 -> 10677294
A6: Ago/25 | B6: ='Execução ABR-26'!Q227 -> 11824448
A7: Set/25 | B7: ='Execução ABR-26'!S227 -> 9283699.8
A8: Out/25 | B8: ='Execução ABR-26'!U227 -> 6718710
A9: Nov/25 | B9: ='Execução ABR-26'!W227 -> 7247172.5
A10: Dez/25 | B10: ='Execução ABR-26'!Y227 -> 12857088
A11: Jan/26 | B11: ='Execução ABR-26'!AB227 -> 8437604.1
A12: Fev/26 | B12: ='Execução ABR-26'!AD227 -> 6058588.7
A13: Mar/26 | B13: ='Execução ABR-26'!AF227 -> 9743960.7
A14: Abr/26 | B14: ='Execução ABR-26'!AH227 -> 7800027.9
A15: Subtotal 2025 | B15: =SUM(B4:B10) -> 1.3128936e+08
A16: TOTAL EXECUTADO 2026 (Jan–Abr) — até o momento | B16: =SUM(B11:B14) -> 32040181
