Workbook

Sheet Execução Financeira
B8: GERÊNCIA DE COMPRAS E CONTRATOS | RELATÓRIO DE EXECUÇÃO FINANCEIRA |ATUALIZADO ATÉ JULHO DE 2026
Z9: =SUBTOTAL(9,Z11:Z234) -> 1.5552446e+08
B10: Contratada | C10: Status Atual | D10: CNPJ | E10: Termo de Contrato | F10: Natureza do Contrato | G10: Início da Vigência | H10: Término da Vigência | I10: PA do Contrato | J10: Localidade | K10: Saldo Legado (Smart) | L10: Total Realizado de Jan/25 - Jun/25 | M10: Saldo junho/25 | N10: Realizado - Julho | O10: Saldo julho/25 | P10: Realizado - Agosto | Q10: Saldo de Agosto | R10: Realizado - Setembro | S10: Saldo de Setembro | T10: Realizado - Outubro | U10: Saldo de Outubro | V10: Realizado - Novembro | W10: Saldo de Novembro | X10: Realizado - Dezembro | Y10: Saldo de Dezembro | Z10: Total realizado - 2025 | AA10: Realizado - Janeiro | AB10: Saldo de Janeiro | AC10: Realizado - Fevereiro | AD10: Saldo de Fevereiro | AE10: Realizado - Março | AF10: Saldo de Março | AG10: Realizado - Abril | AH10: Saldo de Abril | AI10: Realizado - Maio | AJ10: Saldo de Maio | AK10: Realizado - Junho | AL10: Saldo de Junho | AM10: Realizado - Julho | AN10: Saldo de Julho
B11: 7C SEGURANÇA E VIGILÂNCIA LTDA. | C11: ATIVO | D11: 30.536.943/0001-02 | E11: 0003-SV/2026/0036 | F11: PRESTAÇÃO DE SERVIÇO DE VIGILÂNCIA COM MÃO DE OBRA EXCLUSIVA | G11: 46104 | H11: 47019 | I11: SD-ADM-2025/01844 | J11: DNVT | K11: 0 | L11: 0 | M11: 0 | N11: 0 | O11: 0 | P11: 0 | Q11: =O11-P11 -> 0 | R11: 0 | S11: =Q11-R11 -> 0 | T11: 0 | U11: =S11-T11 -> 0 | V11: 0 | W11: =U11-V11 -> 0 | X11: 0 | Y11: =W11-X11 -> 0 | Z11: =L11+N11+P11+R11+T11+V11+X11+AA11+AC11+AE11 -> 0 | AA11: 0 | AB11: =Y11-AA11 -> 0 | AC11: 0 | AD11: =AB11-AC11 -> 0 | AE11: 0 | AF11: =AD11-AE11 -> 0 | AG11: 0 | AH11: 944465.1 | AI11: 0 | AJ11: 944465.1 | AK11: =17839.89+31450.69 -> 49290.58 | AL11: =AJ11-AK11 -> 895174.52 | AM11: 0 | AN11: 944465.1
B12: A. BORGES NETO & CIA. LTDA. | C12: ATIVO | D12: 05.081.243/0001-15 | E12: 0040-TG-2023/0044 | F12: PRESTAÇÃO DE SERVIÇO SEM MÃO DE OBRA DEDICADA | G12: 45208 | H12: 47035 | I12: SEDE-ADM-2023/01203 | J12: DNBW | K12: 0 | L12: 146448.4 | M12: 193172.26 | N12: 20921.2 | O12: =M12-N12 -> 172251.06 | P12: 20921.2 | Q12: =O12-P12 -> 151329.86 | R12: 20921.2 | S12: =Q12-R12 -> 130408.66 | T12: 20921.2 | U12: =S12-T12 -> 109487.46 | V12: 20921.2 | W12: =U12-V12 -> 88566.26 | X12: 20921.2 | Y12: =W12-X12 -> 67645.06 | Z12: =L12+N12+P12+R12+T12+V12+X12+AA12+AC12+AE12 -> 334739.2 | AA12: 20921.2 | AB12: =Y12-AA12 -> 46723.86 | AC12: 20921.2 | AD12: =AB12-AC12 -> 25802.66 | AE12: 20921.2 | AF12: 1255272 | AG12: 20921.2 | AH12: =AF12-AG12 -> 1234350.8 | AI12: 20921.2 | AJ12: =AH12-AI12 -> 1213429.6 | AK12: 20921.2 | AL12: =AJ12-AK12 -> 1192508.4 | AM12: 20921.2 | AN12: =AL12-AM12 -> 1171587.2
B13: ADDUNT SERVIÇOS DE CONSULTORIA E GESTÃO LTDA. | C13: ENCERRADO | D13: 17.887.641/0001-02 | E13: 0022-PS/2022/0001 | F13: PRESTAÇÃO DE SERVIÇO SEM MÃO DE OBRA DEDICADA | G13: 44837 | H13: 44929 | I13: SEDE-ADM-2022/00968 | J13: SEDE | K13: 0 | L13: 0 | M13: 0 | N13: 0 | O13: 0 | P13: 0 | Q13: =O13-P13 -> 0 | R13: 0 | S13: =Q13-R13 -> 0 | T13: 0 | U13: =S13-T13 -> 0 | V13: 0 | W13: =U13-V13 -> 0 | X13: 0 | Y13: =W13-X13 -> 0 | Z13: =L13+N13+P13+R13+T13+V13+X13+AA13+AC13+AE13 -> 0 | AA13: 0 | AB13: 0 | AC13: 0 | AD13: =AB13-AC13 -> 0 | AE13: 0 | AF13: =AD13-AE13 -> 0 | AG13: 0 | AH13: =AF13-AG13 -> 0 | AI13: 0 | AJ13: =AH13-AI13 -> 0 | AK13: 0 | AL13: =AJ13-AK13 -> 0 | AM13: 0 | AN13: =AL13-AM13 -> 0
B14: AÉCIO OZÉIAS RIBEIRO DA SILVA | C14: ENCERRADO | D14: 00.499.359/0001-55 | E14: 0104-ML/2020/0035 | F14: PRESTAÇÃO DE SERVIÇO SEM MÃO DE OBRA DEDICADA | G14: 44115 | H14: 45940 | I14: SEDE-ADM-2022/00138 | J14: DNLO | K14: 2023-04 11181,04|2023-05 12706,38|2023-06 11241,93|2023-07 10194,5|2023-08 12711,16|2023-09 11663,72|2023-10 10409,07|2023-11 13317,55|2023-12 10210,52|2024-01 11170,3|2024-02 12542,94|2024-03 10766,46|2024-04 9537,77|2024-05 25085,08|2024-06 10802,48|2024-07 10622,5|2024-08 11278,6|2024-09 10470,2|2024-10 10457,92|2024-11 13317,55|2024-12 11228,97|2025-01 10188,83|2025-02 10931,95|2025-03 10327,32|2025-04 9622,932025-05 12084,91|2025-06 49099,83 | L14: 118116.01 | M14: 379527.31 | N14: 12042.59 | O14: =M14-N14 -> 367484.72 | P14: 15860.24 | Q14: =O14-P14 -> 351624.48 | R14: 12361.57 | S14: =Q14-R14 -> 339262.91 | T14: 12103.25 | U14: =S14-T14 -> 327159.66 | V14: 0 | W14: =U14-V14 -> 327159.66 | X14: 12249.43 | Y14: =W14-X14 -> 314910.23 | Z14: =L14+N14+P14+R14+T14+V14+X14+AA14+AC14+AE14 -> 182733.09 | AA14: 0 | AB14: 0 | AC14: 0 | AD14: =AB14-AC14 -> 0 | AE14: 0 | AF14: =AD14-AE14 -> 0 | AG14: 0 | AH14: =AF14-AG14 -> 0 | AI14: 0 | AJ14: =AH14-AI14 -> 0 | AK14: 0 | AL14: =AJ14-AK14 -> 0 | AM14: 0 | AN14: =AL14-AM14 -> 0
B15: AGIL LTDA. | C15: ENCERRADO | D15: 26.427.482/0001-54 | E15: 0017-SL/2024/0021 | F15: PRESTAÇÃO DE SERVIÇO DE CONSERVAÇÃO E LIMPEZA COM MÃO DE OBRA EXCLUSIVA | G15: 45455 | H15: 46368 | I15: SEDE-ADM-2023/02158 | J15: DNCJ | K15: 2025-02 3735|2025-03 10236,67|2025-05 4150|2025-06 41502024-09 9054,62|2024-10 4527,31|2024-11 4527,31|2024-12 4527,31|2025-01 4527,31|2025-02 4527,31|2025-03 4527,31|2025-04 4527,31|2025-02 16200 | L15: 18409.24 | M15: 95073.44 | N15: 0 | O15: =M15-N15 -> 95073.44 | P15: 0 | Q15: =O15-P15 -> 95073.44 | R15: 0 | S15: =Q15-R15 -> 95073.44 | T15: 0 | U15: =S15-T15 -> 95073.44 | V15: 0 | W15: =U15-V15 -> 95073.44 | X15: 4527.31 | Y15: =W15-X15 -> 90546.13 | Z15: =L15+N15+P15+R15+T15+V15+X15+AA15+AC15+AE15 -> 22936.55 | AA15: 0 | AB15: 90546.13 | AC15: 0 | AD15: =AB15-AC15 -> 90546.13 | AE15: 0 | AF15: =AD15-AE15 -> 90546.13 | AG15: 0 | AH15: =AF15-AG15 -> 90546.13 | AI15: 0 | AJ15: =AH15-AI15 -> 90546.13 | AK15: 0 | AL15: =AJ15-AK15 -> 90546.13 | AM15: 0 | AN15: =AL15-AM15 -> 90546.13
B16: AGIL LTDA. | C16: ENCERRADO | D16: 26.427.482/0001-54 | E16: 0028-SL/2024/0018 | F16: PRESTAÇÃO DE SERVIÇO DE CONSERVAÇÃO E LIMPEZA COM MÃO DE OBRA EXCLUSIVA | G16: 45569 | H16: 46481 | I16: SEDE-ADM-2023/02143 | J16: DNHT | K16: 2025-02 3735|2025-03 10236,67|2025-05 4150|2025-06 41502024-09 9054,62|2024-10 4527,31|2024-11 4527,31|2024-12 4527,31|2025-01 4527,31|2025-02 4527,31|2025-03 4527,31|2025-04 4527,31|2025-02 16200 | L16: 22271.67 | M16: 102228.33 | N16: 0 | O16: =M16-N16 -> 102228.33 | P16: 0 | Q16: =O16-P16 -> 102228.33 | R16: 0 | S16: =Q16-R16 -> 102228.33 | T16: 0 | U16: =S16-T16 -> 102228.33 | V16: 0 | W16: =U16-V16 -> 102228.33 | X16: 0 | Y16: =W16-X16 -> 102228.33 | Z16: =L16+N16+P16+R16+T16+V16+X16+AA16+AC16+AE16 -> 22271.67 | AA16: 0 | AB16: 102228.33 | AC16: 0 | AD16: =AB16-AC16 -> 102228.33 | AE16: 0 | AF16: =AD16-AE16 -> 102228.33 | AG16: 0 | AH16: =AF16-AG16 -> 102228.33 | AI16: 0 | AJ16: =AH16-AI16 -> 102228.33 | AK16: 0 | AL16: =AJ16-AK16 -> 102228.33 | AM16: 0 | AN16: =AL16-AM16 -> 102228.33
B17: AIR LIQUIDE BRASIL LTDA. | C17: ATIVO | D17: 00.331.788/0093-37 | E17: 0009-FM/2025/0042 | F17: PRESTAÇÃO DE SERVIÇO SEM MÃO DE OBRA DEDICADA | G17: 45671 | H17: 46582 | I17: SEDE-ADM-2025/00038 | J17: DNUL | K17: 2025-02 16200|2025-03 24300|2025-04 24300|2025-05 8100|2025-06 16200|2025-07 243002025-04 172898,6|2025-07 293038,31|2023-05 591387,63|2023-08 269510,01|2023-10 258028,82|2023-12 228198,67|2024-02 230561,71|2024-05 260549,44|2024-06 335601,14|2024-09 229804,16|2024-11 266115,51|2023-05 694007,75|2023-08 247472,53|2023-10 265386,99|2023-12 379796,84|2024-02 245596,42|2024-04 244788,94|2024-05 455501,27|2024-06 412321,04|2024-09 311570,46|2024-11 372629,07 | L17: 113400 | M17: 1582650 | N17: 24300 | O17: =M17-N17 -> 1558350 | P17: 16200 | Q17: =O17-P17 -> 1542150 | R17: 16200 | S17: =Q17-R17 -> 1525950 | T17: 16200 | U17: =S17-T17 -> 1509750 | V17: 24300 | W17: =U17-V17 -> 1485450 | X17: 16200 | Y17: =W17-X17 -> 1469250 | Z17: =L17+N17+P17+R17+T17+V17+X17+AA17+AC17+AE17 -> 267300 | AA17: 16200 | AB17: =Y17-AA17 -> 1453050 | AC17: 8100 | AD17: =AB17-AC17 -> 1444950 | AE17: 16200 | AF17: =AD17-AE17 -> 1428750 | AG17: 16200 | AH17: =AF17-AG17 -> 1412550 | AI17: 16200 | AJ17: =AH17-AI17 -> 1396350 | AK17: 8100 | AL17: =AJ17-AK17 -> 1388250 | AM17: =8100+8100 -> 16200 | AN17: =AL17-AM17 -> 1372050
B18: ALELO INSTITUIÇÃO DE PAGAMENTO S.A. | C18: ATIVO | D18: 04.740.876/0001-25 | E18: 6004-PS/2025/0001 | F18: CONTRATO DE CREDENCIAMENTO | G18: 45874 | H18: 47700 | I18: SD-ADM-2025/01214 | J18: SEDE | K18: 0 | L18: 0 | M18: 0 | N18: 0 | O18: 0 | P18: 0 | Q18: =O18-P18 -> 0 | R18: 0 | S18: =Q18-R18 -> 0 | T18: 0 | U18: =S18-T18 -> 0 | V18: 0 | W18: =U18-V18 -> 0 | X18: 3957.97 | Y18: =W18-X18 -> -3957.97 | Z18: =L18+N18+P18+R18+T18+V18+X18+AA18+AC18+AE18 -> 152315.63 | AA18: 8684.05 | AB18: =Y18-AA18 -> -12642.02 | AC18: 66742.5 | AD18: =AB18-AC18 -> -79384.52 | AE18: 72931.11 | AF18: =AD18-AE18 -> -152315.63 | AG18: 73799.16 | AH18: =AF18-AG18 -> -226114.79 | AI18: 73799.16 | AJ18: =AH18-AI18 -> -299913.95 | AK18: 86819.08 | AL18: =AJ18-AK18 -> -386733.03 | AM18: =1767.77+60667.4+15931.41+6096.6 -> 84463.18 | AN18: =AL18-AM18 -> -471196.21
B19: ALGAR TELECOM S/A | C19: ENCERRADO | D19: 71.208.516/0001-74 | E19: 0015-PS/2021/0001 | F19: PRESTAÇÃO DE SERVIÇO SEM MÃO DE OBRA DEDICADA | G19: 44302 | H19: 46127 | I19: SEDE-ADM-2022/00101 | J19: DNUL- DNUR | K19: 2024-09 179,36|2024-10 178,77|2024-11 178,57|2024-12 178,98|2025-01 176,47|2025-02 177,24|2025-03 177,19|2025-04 177,39|2025-05 178,03|2025-06 223,41|2025-07 177,35 |2023-12 26583,21|2024-01 26583,21|2024-03 389906,02|2024-04 125086,1|2024-05 26583,21|2024-06 26583,21|2024-07 26583,21|2024-08 95340,96 | L19: 1287.08 | M19: 17864.69 | N19: 177.25 | O19: =M19-N19 -> 17687.44 | P19: 177.43 | Q19: =O19-P19 -> 17510.01 | R19: 177.52 | S19: =Q19-R19 -> 17332.49 | T19: 177.69 | U19: =S19-T19 -> 17154.8 | V19: 46.24 | W19: =U19-V19 -> 17108.56 | X19: 131.26 | Y19: =W19-X19 -> 16977.3 | Z19: =L19+N19+P19+R19+T19+V19+X19+AA19+AC19+AE19 -> 2621.83 | AA19: 92.48 | AB19: 0 | AC19: 177.45 | AD19: =AB19-AC19 -> -177.45 | AE19: 177.43 | AF19: =AD19-AE19 -> -354.88 | AG19: 308.74 | AH19: =AF19-AG19 -> -663.62 | AI19: 46.24 | AJ19: =AH19-AI19 -> -709.86 | AK19: =68.18+63.01+46.24 -> 177.43 | AL19: =AJ19-AK19 -> -887.29 | AM19: =46.24+68.18+63.12 -> 177.54 | AN19: =AL19-AM19 -> -1064.83
B20: AMAZON DOCUMENTOS E TECNOLOGIA DA INFORMAÇÃO LTDA. | C20: ENCERRADO | D20: 00.734.255/0001-88 | E20: 0034-SF/2021/0001 | F20: PRESTAÇÃO DE SERVIÇO SEM MÃO DE OBRA DEDICADA | G20: 44286 | H20: 46111 | I20: SEDE-ADM-2022/00061 | J20: SEDE | K20: 0 | L20: 342223.9 | M20: 247048.67 | N20: 0 | O20: 218985.28 | P20: 0 | Q20: =O20-P20 -> 218985.28 | R20: 0 | S20: =Q20-R20 -> 218985.28 | T20: 0 | U20: =S20-T20 -> 218985.28 | V20: 0 | W20: =U20-V20 -> 218985.28 | X20: 0 | Y20: =W20-X20 -> 218985.28 | Z20: =L20+N20+P20+R20+T20+V20+X20+AA20+AC20+AE20 -> 342223.9 | AA20: 0 | AB20: =Z20-AA20 -> 342223.9 | AC20: 0 | AD20: =AB20-AC20 -> 342223.9 | AE20: 0 | AF20: =AD20-AE20 -> 342223.9 | AG20: 0 | AH20: =AF20-AG20 -> 342223.9 | AI20: 0 | AJ20: =AH20-AI20 -> 342223.9 | AK20: 0 | AL20: =AJ20-AK20 -> 342223.9 | AM20: 0 | AN20: =AL20-AM20 -> 342223.9
B21: ATM SERVIÇOS ESPECIALIZADOS LTDA. | C21: ENCERRADO | D21: 32.984.752/0001-20 | E21: 0045-SL/2023/0046 | F21: PRESTAÇÃO DE SERVIÇO DE CONSERVAÇÃO E LIMPEZA COM MÃO DE OBRA EXCLUSIVA | G21: 45251 | H21: 46163 | I21: SEDE-ADM-2023/01366 | J21: DNAT | K21: 2023-12 5268,63|2024-01 5268,63|2024-03 5268,63|2024-04 5268,63|2024-05 5268,63|2024-06 4741,77|2024-07 4741,77 | L21: 0 | M21: 131013.42 | N21: 0 | O21: =M21-N21 -> 131013.42 | P21: 0 | Q21: =O21-P21 -> 131013.42 | R21: 0 | S21: =Q21-R21 -> 131013.42 | T21: 0 | U21: =S21-T21 -> 131013.42 | V21: 0 | W21: =U21-V21 -> 131013.42 | X21: 0 | Y21: =W21-X21 -> 131013.42 | Z21: =L21+N21+P21+R21+T21+V21+X21+AA21+AC21+AE21 -> 0 | AA21: 0 | AB21: 131013.42 | AC21: 0 | AD21: =AB21-AC21 -> 131013.42 | AE21: 0 | AF21: =AD21-AE21 -> 131013.42 | AG21: 0 | AH21: =AF21-AG21 -> 131013.42 | AI21: 0 | AJ21: =AH21-AI21 -> 131013.42 | AK21: 0 | AL21: =AJ21-AK21 -> 131013.42 | AM21: 0 | AN21: =AL21-AM21 -> 131013.42
B22: AZUL LINHAS AÉREAS BRASILEIRAS S/A | C22: ENCERRADO | D22: 09.740.766/0001-60 | E22: 05-2020-149-0001 | F22: PRESTAÇÃO DE SERVIÇO SEM MÃO DE OBRA DEDICADA | G22: 44114 | H22: 45939 | I22: SEDE-ADM-2021/00067 | J22: DNSJ | K22: 0 | L22: 0 | M22: 0 | N22: 0 | O22: 0 | P22: 0 | Q22: =O22-P22 -> 0 | R22: 0 | S22: =Q22-R22 -> 0 | T22: 0 | U22: =S22-T22 -> 0 | V22: 0 | W22: =U22-V22 -> 0 | X22: 0 | Y22: =W22-X22 -> 0 | Z22: =L22+N22+P22+R22+T22+V22+X22+AA22+AC22+AE22 -> 0 | AA22: 0 | AB22: 0 | AC22: 0 | AD22: =AB22-AC22 -> 0 | AE22: 0 | AF22: =AD22-AE22 -> 0 | AG22: 0 | AH22: =AF22-AG22 -> 0 | AI22: 0 | AJ22: =AH22-AI22 -> 0 | AK22: 0 | AL22: =AJ22-AK22 -> 0 | AM22: 0 | AN22: =AL22-AM22 -> 0
B23: B CARVALHO LTDA. | C23: ATIVO | D23: 50.190.142/0001-37 | E23: 0018-SL/2024/0019 | F23: PRESTAÇÃO DE SERVIÇO DE CONSERVAÇÃO E LIMPEZA COM MÃO DE OBRA EXCLUSIVA | G23: 45503 | H23: 46417 | I23: SEDE-ADM-2024/00642 | J23: DNSN | K23: 2024-10 7638,9|2024-11 9166,67|2024-12 9166,67|2025-01 9166,67|2025-02 9166,67|2025-03 9166,67|2025-04 9166,67|2025-05 9166,67|2025-06 18333,34 | L23: 77038.88 | M23: 184861.07 | N23: 12872.19 | O23: =M23-N23 -> 171988.88 | P23: 12872.19 | Q23: =O23-P23 -> 159116.69 | R23: 0 | S23: =Q23-R23 -> 159116.69 | T23: 9604.12 | U23: =S23-T23 -> 149512.57 | V23: 19208.24 | W23: =U23-V23 -> 130304.33 | X23: 28812.36 | Y23: =W23-X23 -> 101491.97 | Z23: =L23+N23+P23+R23+T23+V23+X23+AA23+AC23+AE23 -> 179616.22 | AA23: 0 | AB23: =Y23-AA23 -> 101491.97 | AC23: 9604.12 | AD23: =AB23-AC23 -> 91887.85 | AE23: 9604.12 | AF23: =AD23-AE23 -> 82283.73 | AG23: 9604.12 | AH23: =AF23-AG23 -> 72679.61 | AI23: 9604.12 | AJ23: =AH23-AI23 -> 63075.49 | AK23: 9604.12 | AL23: =AJ23-AK23 -> 53471.37 | AM23: 9604.12 | AN23: =AL23-AM23 -> 43867.25
B24: B7 EMPREENDIMENTOS LTDA. | C24: ENCERRADO | D24: 17.298.685/0001-05 | E24: 0036-PS/2022/0001 | F24: PRESTAÇÃO DE SERVIÇO SEM MÃO DE OBRA DEDICADA | G24: 44910 | H24: 45092 | I24: SEDE-ADM-2022/01172 | J24: SEDE | K24: 0 | L24: 0 | M24: 0 | N24: 0 | O24: 0 | P24: 0 | Q24: =O24-P24 -> 0 | R24: 0 | S24: =Q24-R24 -> 0 | T24: 0 | U24: =S24-T24 -> 0 | V24: 0 | W24: =U24-V24 -> 0 | X24: 0 | Y24: =W24-X24 -> 0 | Z24: =L24+N24+P24+R24+T24+V24+X24+AA24+AC24+AE24 -> 0 | AA24: 0 | AB24: 0 | AC24: 0 | AD24: =AB24-AC24 -> 0 | AE24: 0 | AF24: =AD24-AE24 -> 0 | AG24: 0 | AH24: =AF24-AG24 -> 0 | AI24: 0 | AJ24: =AH24-AI24 -> 0 | AK24: 0 | AL24: =AJ24-AK24 -> 0 | AM24: 0 | AN24: =AL24-AM24 -> 0
B25: BAKERTILLY | C25: ENCERRADO | D25: 13.859.935/0001-70 | E25: 0002-AE/2022/0110 | F25: PRESTAÇÃO DE SERVIÇO SEM MÃO DE OBRA DEDICADA | G25: 44610 | H25: 45065 | I25: SEDE-ADM-2022/00164 | J25: SEDE | K25: 0 | L25: 0 | M25: 0 | N25: 0 | O25: 0 | P25: 0 | Q25: =O25-P25 -> 0 | R25: 0 | S25: =Q25-R25 -> 0 | T25: 0 | U25: =S25-T25 -> 0 | V25: 0 | W25: =U25-V25 -> 0 | X25: 0 | Y25: =W25-X25 -> 0 | Z25: =L25+N25+P25+R25+T25+V25+X25+AA25+AC25+AE25 -> 0 | AA25: 0 | AB25: 0 | AC25: 0 | AD25: =AB25-AC25 -> 0 | AE25: 0 | AF25: =AD25-AE25 -> 0 | AG25: 0 | AH25: =AF25-AG25 -> 0 | AI25: 0 | AJ25: =AH25-AI25 -> 0 | AK25: 0 | AL25: =AJ25-AK25 -> 0 | AM25: 0 | AN25: =AL25-AM25 -> 0
B26: BASTILLE SEGURANÇA PATRIMONIAL LTDA.- EPP | C26: ATIVO | D26: 37.766.665/0001-10 | E26: 0024-SV/2023/0030 | F26: PRESTAÇÃO DE SERVIÇO DE VIGILÂNCIA COM MÃO DE OBRA EXCLUSIVA | G26: 45119 | H26: 46946 | I26: SEDE-ADM-2023/00765 | J26: DNGR | K26: 2023-08 26130,04|2023-09 55992,94|2023-10 55992,94|2023-11 55992,94|2023-12 111985,88|2024-02 55992,94|2024-03 55992,94|2024-04 55992,94|2024-05 55992,94|2024-06 55992,94|2024-07 55992,94|2024-08 55992,94|2024-09 55992,94|2024-10 55992,94|2024-11 55992,94|2024-12 111985,88|2025-02 111985,88|2025-03 55992,942025-04 35402,1|2025-05 116706,16|2025-06 58353,08|2025-07 58353,08 | L26: 436793.24 | M26: 380925.44 | N26: 58353.08 | O26: =M26-N26 -> 322572.36 | P26: 0 | Q26: =O26-P26 -> 322572.36 | R26: 0 | S26: =Q26-R26 -> 322572.36 | T26: 58353.08 | U26: =S26-T26 -> 264219.28 | V26: 58353.08 | W26: =U26-V26 -> 205866.2 | X26: 116706.16 | Y26: =W26-X26 -> 89160.04 | Z26: =L26+N26+P26+R26+T26+V26+X26+AA26+AC26+AE26 -> 786911.72 | AA26: 58353.08 | AB26: 3487968 | AC26: 0 | AD26: =AB26-AC26 -> 3487968 | AE26: 0 | AF26: =AD26-AE26 -> 3487968 | AG26: 0 | AH26: =AF26-AG26 -> 3487968 | AI26: 0 | AJ26: =AH26-AI26 -> 3487968 | AK26: 0 | AL26: =AJ26-AK26 -> 3487968 | AM26: 0 | AN26: =AL26-AM26 -> 3487968
B27: BAZZANEZE AUDITORES INDEPENDENTES S/S | C27: ATIVO | D27: 40.184.046/0001-22 | E27: 0016-AE/2022/0001 | F27: PRESTAÇÃO DE SERVIÇO SEM MÃO DE OBRA DEDICADA | G27: 44807 | H27: 46633 | I27: SEDE-ADM-2022/00491 | J27: DNRJ | K27: 2024-08 5980|2024-09 5980 | 2024-11 6232,37|2025-04 9348,56|2025-07 3116,19 | L27: 12464.75 | M27: 504.75 | N27: 0 | O27: 504.75 | P27: 3116.19 | Q27: 123790.9 | R27: 12798.18 | S27: =Q27-R27 -> 110992.72 | T27: 7000 | U27: =S27-T27 -> 103992.72 | V27: 0 | W27: =U27-V27 -> 103992.72 | X27: 6565.81 | Y27: =W27-X27 -> 97426.91 | Z27: =L27+N27+P27+R27+T27+V27+X27+AA27+AC27+AE27 -> 51944.93 | AA27: 0 | AB27: 156619.93 | AC27: 10000 | AD27: =AB27-AC27 -> 146619.93 | AE27: 0 | AF27: =AD27-AE27 -> 146619.93 | AG27: 0 | AH27: =AF27-AG27 -> 146619.93 | AI27: 0 | AJ27: =AH27-AI27 -> 146619.93 | AK27: 0 | AL27: =AJ27-AK27 -> 146619.93 | AM27: =6565.81+9848.71 -> 16414.52 | AN27: =AL27-AM27 -> 130205.41
B28: BIQ BENEFÍCIOS LTDA. | C28: ATIVO | D28: 07.878.237/0001-19 | E28: 6005-PS/2025/0001 | F28: CONTRATO DE CREDENCIAMENTO | G28: 45873 | H28: 47699 | I28: SD-ADM-2025/01215 | J28: SEDE | K28: 0 | L28: 0 | M28: 0 | N28: 0 | O28: 0 | P28: 0 | Q28: =O28-P28 -> 0 | R28: 0 | S28: =Q28-R28 -> 0 | T28: 0 | U28: =S28-T28 -> 0 | V28: 0 | W28: =U28-V28 -> 0 | X28: 0 | Y28: =W28-X28 -> 0 | Z28: =L28+N28+P28+R28+T28+V28+X28+AA28+AC28+AE28 -> 0 | AA28: 0 | AB28: =Y28-AA28 -> 0 | AC28: 0 | AD28: =AB28-AC28 -> 0 | AE28: 0 | AF28: =AD28-AE28 -> 0 | AG28: 0 | AH28: =AF28-AG28 -> 0 | AI28: 0 | AJ28: =AH28-AI28 -> 0 | AK28: 0 | AL28: =AJ28-AK28 -> 0 | AM28: 0 | AN28: =AL28-AM28 -> 0
B29: BLUE LOGÍSTICA INTEGRADA S/A. | C29: ENCERRADO | D29: 31.959.959/0001-82 | E29: 0037-PS/2022/0001 | F29: PRESTAÇÃO DE SERVIÇO SEM MÃO DE OBRA DEDICADA | G29: 44984 | H29: 45343 | I29: SEDE-ADM-2022/01004 | J29: SEDE | K29: 0 | L29: 0 | M29: 0 | N29: 0 | O29: 0 | P29: 0 | Q29: =O29-P29 -> 0 | R29: 0 | S29: =Q29-R29 -> 0 | T29: 0 | U29: =S29-T29 -> 0 | V29: 0 | W29: =U29-V29 -> 0 | X29: 0 | Y29: =W29-X29 -> 0 | Z29: =L29+N29+P29+R29+T29+V29+X29+AA29+AC29+AE29 -> 0 | AA29: 0 | AB29: 0 | AC29: 0 | AD29: =AB29-AC29 -> 0 | AE29: 0 | AF29: =AD29-AE29 -> 0 | AG29: 0 | AH29: =AF29-AG29 -> 0 | AI29: 0 | AJ29: =AH29-AI29 -> 0 | AK29: 0 | AL29: =AJ29-AK29 -> 0 | AM29: 0 | AN29: =AL29-AM29 -> 0
B30: BOZZA SOLUÇÕES ESTRATÉGICAS EM RECURSOS HUMANOS LTDA. | C30: ENCERRADO | D30: 15.190.840/0001-31 | E30: 0019-PS/2022/0001 | F30: PRESTAÇÃO DE SERVIÇO SEM MÃO DE OBRA DEDICADA | G30: 44820 | H30: 44870 | I30: SEDE-ADM-2022/01239 | J30: SEDE | K30: 0 | L30: 0 | M30: 0 | N30: 0 | O30: 0 | P30: 0 | Q30: =O30-P30 -> 0 | R30: 0 | S30: =Q30-R30 -> 0 | T30: 0 | U30: =S30-T30 -> 0 | V30: 0 | W30: =U30-V30 -> 0 | X30: 0 | Y30: =W30-X30 -> 0 | Z30: =L30+N30+P30+R30+T30+V30+X30+AA30+AC30+AE30 -> 0 | AA30: 0 | AB30: 0 | AC30: 0 | AD30: =AB30-AC30 -> 0 | AE30: 0 | AF30: =AD30-AE30 -> 0 | AG30: 0 | AH30: =AF30-AG30 -> 0 | AI30: 0 | AJ30: =AH30-AI30 -> 0 | AK30: 0 | AL30: =AJ30-AK30 -> 0 | AM30: 0 | AN30: =AL30-AM30 -> 0
B31: BRASIL TECPAR SERVIÇOS DE TELECOMUNICAÇÕES S.A. | C31: ATIVO | D31: 07.756.651/0001-55 | E31: 0002-PS/2024/0001 | F31: PRESTAÇÃO DE SERVIÇO SEM MÃO DE OBRA DEDICADA | G31: 45329 | H31: 47156 | I31: SEDE-ADM-2023/02085 | J31: SEDE | K31: 2024-03 1339,29|2024-05 36150,48|2024-06 50054,05|2024-07 62738,65|2024-08 71983,85|2024-09 78784|2024-10 82648,92|2024-11 82166,86|2024-12 165188,35|2025-02 81198,05|2025-03 82455,22|2025-04 80192,4|2025-05 80376,45|2025-06 81496,74|2025-07 82227,152023-06 86645,32|2023-07 137739,31|2023-08 68677,04|2023-09 68532,44|2023-10 139341,79|2023-12 144777,98|2024-01 72478,1|2024-02 72180,26|2024-04 72224,86|2024-05 71812,72|2024-06 74364,15|2024-07 74398,32|2024-08 149087,03|2024-10 152118,65|2024-11 75789,63|2024-12 76649,5|2025-01 76501,2|2025-02 76253,07|2025-03 75540,45|2025-04 75453,53|2025-05 75264,69|2025-06 150058,48 | L31: 487946.01 | M31: 3960105.3 | N31: 163723.89 | O31: 3877878.1 | P31: 82047.85 | Q31: =O31-P31 -> 3795830.3 | R31: 0 | S31: =Q31-R31 -> 3795830.3 | T31: 82720.07 | U31: =S31-T31 -> 3713110.2 | V31: 82498.86 | W31: =U31-V31 -> 3630611.4 | X31: 82432.11 | Y31: =W31-X31 -> 3548179.3 | Z31: =L31+N31+P31+R31+T31+V31+X31+AA31+AC31+AE31 -> 1229236.5 | AA31: 82525.42 | AB31: =Y31-AA31 -> 3465653.8 | AC31: 0 | AD31: =AB31-AC31 -> 3465653.8 | AE31: 165342.31 | AF31: =AD31-AE31 -> 3300311.5 | AG31: 82835.99 | AH31: =AF31-AG31 -> 3217475.5 | AI31: 81114.61 | AJ31: =AH31-AI31 -> 3136360.9 | AK31: 81735.98 | AL31: =AJ31-AK31 -> 3054624.9 | AM31: 82485.26 | AN31: =AL31-AM31 -> 2972139.7
B32: BRASILSEG COMPANHIA DE SEGUROS | C32: ATIVO | D32: 28.196.889/0001-43 | E32: 0008-SS/2023/0001 | F32: PRESTAÇÃO DE SERVIÇO SEM MÃO DE OBRA DEDICADA | G32: 45008 | H32: 46835 | I32: SEDE-ADM-2023/00207 | J32: SEDE | K32: 2023-06 86645,32|2023-07 137739,31|2023-08 68677,04|2023-09 68532,44|2023-10 139341,79|2023-12 144777,98|2024-01 72478,1|2024-02 72180,26|2024-04 72224,86|2024-05 71812,72|2024-06 74364,15|2024-07 74398,32|2024-08 149087,03|2024-10 152118,65|2024-11 75789,63|2024-12 76649,5|2025-01 76501,2|2025-02 76253,07|2025-03 75540,45|2025-04 75453,53|2025-05 75264,69|2025-06 150058,482025-03 339.975,90 | L32: 529071.42 | M32: 494317.18 | N32: 151765.89 | O32: =M32-N32 -> 342551.29 | P32: 75029.24 | Q32: =O32-P32 -> 267522.05 | R32: 75298.51 | S32: =Q32-R32 -> 192223.54 | T32: 0 | U32: =S32-T32 -> 192223.54 | V32: 76968.34 | W32: =U32-V32 -> 115255.2 | X32: 152294.38 | Y32: 7048555.7 | Z32: =L32+N32+P32+R32+T32+V32+X32+AA32+AC32+AE32 -> 1202172.2 | AA32: 76616.18 | AB32: =Y32-AA32 -> 6971939.5 | AC32: 0 | AD32: =AB32-AC32 -> 6971939.5 | AE32: 65128.29 | AF32: =AD32-AE32 -> 6906811.2 | AG32: 527226.48 | AH32: =AF32-AG32 -> 6379584.7 | AI32: 527226.48 | AJ32: =AH32-AI32 -> 5852358.2 | AK32: 163270.83 | AL32: =AJ32-AK32 -> 5689087.4 | AM32: =172770.21+170784.92 -> 343555.13 | AN32: =AL32-AM32 -> 5345532.3
B33: BRASOFTWARE INFORMÁTICA LTDA. | C33: ATIVO | D33: 57.142.978/0001-05 | E33: 0037-LW/2025/0001 | F33: CONTRATO DE AQUISIÇÃO E PRESTAÇÃO DE SERVIÇO | G33: 45818 | H33: 46914 | I33: SEDE-ADM-2025/00378 | J33: SEDE | K33: 0 | L33: 5079096.4 | M33: 0 | N33: 5079096.4 | O33: 29943875 | P33: 0 | Q33: =O33-P33 -> 29943875 | R33: 0 | S33: =Q33-R33 -> 29943875 | T33: 0 | U33: =S33-T33 -> 29943875 | V33: 0 | W33: =U33-V33 -> 29943875 | X33: 0 | Y33: =W33-X33 -> 29943875 | Z33: =L33+N33+P33+R33+T33+V33+X33+AA33+AC33+AE33 -> 10158193 | AA33: 0 | AB33: =Y33-AA33 -> 29943875 | AC33: 0 | AD33: =AB33-AC33 -> 29943875 | AE33: 0 | AF33: =AD33-AE33 -> 29943875 | AG33: 0 | AH33: =AF33-AG33 -> 29943875 | AI33: 0 | AJ33: =AH33-AI33 -> 29943875 | AK33: 0 | AL33: =AJ33-AK33 -> 29943875 | AM33: 5959209.2 | AN33: =AL33-AM33 -> 23984666
B34: BRASOFTWARE INFORMÁTICA LTDA. | C34: ENCERRADO | D34: 57.142.978/0001-05 | E34: 0003-LW/2022/0110 | F34: CONTRATO DE AQUISIÇÃO | G34: 44575 | H34: 45730 | I34: SEDE-ADM-2022/00358 | J34: SEDE | K34: 0 | L34: 0 | M34: 0 | N34: 0 | O34: 0 | P34: 0 | Q34: =O34-P34 -> 0 | R34: 0 | S34: =Q34-R34 -> 0 | T34: 0 | U34: =S34-T34 -> 0 | V34: 0 | W34: =U34-V34 -> 0 | X34: 0 | Y34: =W34-X34 -> 0 | Z34: =L34+N34+P34+R34+T34+V34+X34+AA34+AC34+AE34 -> 0 | AA34: 0 | AB34: 0 | AC34: 0 | AD34: =AB34-AC34 -> 0 | AE34: 0 | AF34: =AD34-AE34 -> 0 | AG34: 0 | AH34: =AF34-AG34 -> 0 | AI34: 0 | AJ34: =AH34-AI34 -> 0 | AK34: 0 | AL34: =AJ34-AK34 -> 0 | AM34: 0 | AN34: =AL34-AM34 -> 0
B35: BRASOFTWARE INFORMÁTICA LTDA. | C35: ATIVO | D35: 57.142.978/0001-05 | E35: 0003-LW/2023/0001 | F35: CONTRATO DE CREDENCIAMENTO | G35: 44995 | H35: 46456 | I35: SEDE-ADM-2023/00310 | J35: SEDE | K35: 0 | L35: 339975.9 | M35: 6199369.4 | N35: 0 | O35: =M35-N35 -> 6199369.4 | P35: 0 | Q35: =O35-P35 -> 6199369.4 | R35: 0 | S35: =Q35-R35 -> 6199369.4 | T35: 0 | U35: =S35-T35 -> 6199369.4 | V35: 0 | W35: =U35-V35 -> 6199369.4 | X35: 0 | Y35: =W35-X35 -> 6199369.4 | Z35: =L35+N35+P35+R35+T35+V35+X35+AA35+AC35+AE35 -> 339975.9 | AA35: 0 | AB35: =Y35-AA35 -> 6199369.4 | AC35: 0 | AD35: =AB35-AC35 -> 6199369.4 | AE35: 0 | AF35: 15944557 | AG35: 0 | AH35: =AF35-AG35 -> 15944557 | AI35: 339975.9 | AJ35: =AH35-AI35 -> 15604581 | AK35: 0 | AL35: =AJ35-AK35 -> 15604581 | AM35: 0 | AN35: =AL35-AM35 -> 15604581
B36: CARE PLUS ODONTOLOGIA ASSISTENCIAL LTDA. (INPAO DENTAL) | C36: ENCERRADO | D36: 00.856.424/0001-52 | E36: 0496-AO/2019/0001 | F36: CONTRATO DE CREDENCIAMENTO | G36: 45287 | H36: 45853 | I36: SEDE-ADM-2021/00079 | J36: SEDE | K36: 2025-04 70.232,67 | 2025-07 26.000,00 | L36: 549959.22 | M36: 0 | N36: 0 | O36: 480835.98 | P36: 0 | Q36: =O36-P36 -> 480835.98 | R36: 0 | S36: =Q36-R36 -> 480835.98 | T36: 0 | U36: =S36-T36 -> 480835.98 | V36: 0 | W36: =U36-V36 -> 480835.98 | X36: 0 | Y36: =W36-X36 -> 480835.98 | Z36: =L36+N36+P36+R36+T36+V36+X36+AA36+AC36+AE36 -> 549959.22 | AA36: 0 | AB36: 0 | AC36: 0 | AD36: =AB36-AC36 -> 0 | AE36: 0 | AF36: =AD36-AE36 -> 0 | AG36: 0 | AH36: =AF36-AG36 -> 0 | AI36: 0 | AJ36: =AH36-AI36 -> 0 | AL36: =AJ36-AK36 -> 0 | AM36: 0 | AN36: =AL36-AM36 -> 0
B37: CARELI COMÉRCIO DE MÓVEIS LTDA. | C37: ATIVO | D37: 34.747.664/0001-30 | E37: 0039-FM/2024/0001 | F37: PRESTAÇÃO DE SERVIÇO SEM MÃO DE OBRA DEDICADA | G37: 45642 | H37: 46554 | I37: SEDE-ADM-2024/01955 | J37: SEDE | K37: 2025-07 26.000,00 | L37: 0 | M37: 0 | N37: 26000 | O37: 52000 | P37: 0 | Q37: =O37-P37 -> 52000 | R37: 26000 | S37: =Q37-R37 -> 26000 | T37: 0 | U37: =S37-T37 -> 26000 | V37: 0 | W37: =U37-V37 -> 26000 | X37: 11000 | Y37: =W37-X37 -> 15000 | Z37: =L37+N37+P37+R37+T37+V37+X37+AA37+AC37+AE37 -> 66600 | AA37: 3600 | AB37: =Y37-AA37 -> 11400 | AC37: 0 | AD37: =AB37-AC37 -> 11400 | AE37: 0 | AF37: =AD37-AE37 -> 11400 | AG37: 0 | AH37: =AF37-AG37 -> 11400 | AI37: 0 | AJ37: =AH37-AI37 -> 11400 | AK37: 0 | AL37: =AJ37-AK37 -> 11400 | AM37: 0 | AN37: =AL37-AM37 -> 11400
B38: CARELI COMÉRCIO DE MÓVEIS LTDA. | C38: ATIVO | D38: 34.747.664/0001-30 | E38: 0040-FM/2024/0001 | F38: PRESTAÇÃO DE SERVIÇO SEM MÃO DE OBRA DEDICADA | G38: 45642 | H38: 46554 | I38: SEDE-ADM-2024/01956 | J38: SEDE | K38: 2025-07 15.500,00 | L38: 0 | M38: 0 | N38: 15500 | O38: 79000 | P38: 0 | Q38: =O38-P38 -> 79000 | R38: 36600 | S38: =Q38-R38 -> 42400 | T38: 0 | U38: =S38-T38 -> 42400 | V38: 0 | W38: =U38-V38 -> 42400 | X38: 0 | Y38: =W38-X38 -> 42400 | Z38: =L38+N38+P38+R38+T38+V38+X38+AA38+AC38+AE38 -> 52100 | AA38: 0 | AB38: =Y38-AA38 -> 42400 | AC38: 0 | AD38: =AB38-AC38 -> 42400 | AE38: 0 | AF38: =AD38-AE38 -> 42400 | AG38: 5400 | AH38: =AF38-AG38 -> 37000 | AI38: 5400 | AJ38: =AH38-AI38 -> 31600 | AK38: 0 | AL38: =AJ38-AK38 -> 31600 | AM38: 14000 | AN38: =AL38-AM38 -> 17600
B39: CARVALHO MULTISSERVIÇOS EIRELI | C39: ENCERRADO | D39: 03.662.899/0001-04 | E39: 0012-SL/2022/0023 | F39: PRESTAÇÃO DE SERVIÇO DE CONSERVAÇÃO E LIMPEZA COM MÃO DE OBRA EXCLUSIVA | G39: 44787 | H39: 45702 | I39: SEDE-ADM-2022/00799 | J39: DNRT | K39: 0 | L39: 18813 | M39: 0 | N39: 0 | O39: 0 | P39: 0 | Q39: =O39-P39 -> 0 | R39: 0 | S39: =Q39-R39 -> 0 | T39: 0 | U39: =S39-T39 -> 0 | V39: 0 | W39: =U39-V39 -> 0 | X39: 0 | Y39: =W39-X39 -> 0 | Z39: =L39+N39+P39+R39+T39+V39+X39+AA39+AC39+AE39 -> 18813 | AA39: 0 | AB39: 0 | AC39: 0 | AD39: =AB39-AC39 -> 0 | AE39: 0 | AF39: =AD39-AE39 -> 0 | AG39: 0 | AH39: =AF39-AG39 -> 0 | AI39: 0 | AJ39: =AH39-AI39 -> 0 | AK39: 0 | AL39: =AJ39-AK39 -> 0 | AM39: 0 | AN39: =AL39-AM39 -> 0
B40: CENTRO BRASILEIRO DE PESQUISA EM AVALIAÇÃO E SELEÇÃO E DE PROMOÇÃO DE EVENTOS - CEBRASPE | C40: ENCERRADO | D40: 18.284.407/0001-53 | E40: 0001-PS/2024/0001 | F40: PRESTAÇÃO DE SERVIÇO SEM MÃO DE OBRA DEDICADA | G40: 45299 | H40: 45665 | I40: SEDE-ADM-2023/01665 | J40: SEDE | K40: 0 | L40: 0 | M40: 0 | N40: 0 | O40: 0 | P40: 0 | Q40: =O40-P40 -> 0 | R40: 0 | S40: =Q40-R40 -> 0 | T40: 0 | U40: =S40-T40 -> 0 | V40: 0 | W40: =U40-V40 -> 0 | X40: 0 | Y40: =W40-X40 -> 0 | Z40: =L40+N40+P40+R40+T40+V40+X40+AA40+AC40+AE40 -> 0 | AA40: 0 | AB40: 0 | AC40: 0 | AD40: =AB40-AC40 -> 0 | AE40: 0 | AF40: =AD40-AE40 -> 0 | AG40: 0 | AH40: =AF40-AG40 -> 0 | AI40: 0 | AJ40: =AH40-AI40 -> 0 | AK40: 0 | AL40: =AJ40-AK40 -> 0 | AM40: 0 | AN40: =AL40-AM40 -> 0
B41: CENTRO DE INTEGRAÇÃO EMPRESA - ESCOLA DO ESTADO DO RIO DE JANEIRO – CIEE RIO | C41: ATIVO | D41: 33.661.745/0001-50 | E41: 0025-PS/2025/0001 | F41: PRESTAÇÃO DE SERVIÇO DE CONTRATAÇÃO DE JOVEM APRENDIZ COM MÃO DE OBRA DEDICADA | G41: 45786 | H41: 46700 | I41: SEDE-ADM-2025/00534 | J41: SEDE/ DNME/ DNRJ/ DNCP/ DNJR/ DNGL | K41: 2020-12 27178,66|2021-02 22041,21|2021-03 23302,262021-04 26146,46|2021-05 19993,28|2021-06 20226,94|2021-07 22077,45|2021-08 22059,49 2021-09 24534,91|2021-12 7137,57|2022-01 7640|2022-02 7989,18|2022-03 5571,24|2022-04 6563,73|2022-05 6328,36|2022-06 5228,48|2022-07 13248|2022-08 5916,88|2022-09 6411,82|2022-10 3986,85|2022-11 5355,85|2022-12 6264,26|2023-01 6415,61|2023-02 8073,68|2023-03 5895,9|2023-04 6029,05|2023-05 4928,39|2023-06 5954,6|2023-07 6899,22|2023-08 5361,92|2023-09 5514,5|2023-10 7419,65|2023-11 4204,35|2023-12 6567,52|2024-01 6510,31|2024-02 5458,06|2024-03 5121,64|2024-04 4545,54|2024-05 5131,96|2024-06 5277,56|2024-07 5205,18|2024-08 5396,19|2024-09 5088,85|2024-10 5219,89|2024-11 10136,97|2024-12 16265,35|2025-01 17094,48|2025-02 11407,04|2025-03 23030,64|2025-04 18978,92|2025-05 18205,25|2025-06 17230,95 | L41: 21783.33 | M41: 692074.5 | N41: 21783.33 | O41: =M41-N41 -> 670291.17 | P41: 28423.24 | Q41: =O41-P41 -> 641867.93 | R41: 14900.52 | S41: =Q41-R41 -> 626967.41 | T41: 19132.7 | U41: =S41-T41 -> 607834.71 | V41: 6224.54 | W41: 865093.12 | X41: 36210.07 | Y41: =W41-X41 -> 828883.05 | Z41: =L41+N41+P41+R41+T41+V41+X41+AA41+AC41+AE41 -> 200173.67 | AA41: 22244.38 | AB41: =Y41-AA41 -> 806638.67 | AC41: 6479.02 | AD41: =AB41-AC41 -> 800159.65 | AE41: 22992.54 | AF41: =AD41-AE41 -> 777167.11 | AG41: 14524.16 | AH41: =AF41-AG41 -> 762642.95 | AI41: 31887.72 | AJ41: =AH41-AI41 -> 730755.23 | AK41: 21310.14 | AL41: =AJ41-AK41 -> 709445.09 | AM41: =1135.96+1935.01+2178.32+1135.96+3407.88+5891.6+1135.96+1961.06+567.98+567.98+2394.28+2271.92+3741.94+995.51 -> 29321.36 | AN41: =AL41-AM41 -> 680123.73
B42: CENTRO DE INTEGRAÇÃO EMPRESA - ESCOLA DO ESTADO DO RIO DE JANEIRO – CIEE RIO | C42: ENCERRADO | D42: 33.661.745/0001-50 | E42: 0313-PS/2020/0001 | F42: PRESTAÇÃO DE SERVIÇO SEM MÃO DE OBRA DEDICADA | G42: 44166 | H42: 45991 | I42: SEDE-ADM-2021/00085 | SEDE-ADM-2020/01625 | J42: DNGL / DNJR / DNRJ | K42: 2020-12 27178,66|2021-02 22041,21|2021-03 23302,262021-04 26146,46|2021-05 19993,28|2021-06 20226,94|2021-07 22077,45|2021-08 22059,49 2021-09 24534,91|2021-12 7137,57|2022-01 7640|2022-02 7989,18|2022-03 5571,24|2022-04 6563,73|2022-05 6328,36|2022-06 5228,48|2022-07 13248|2022-08 5916,88|2022-09 6411,82|2022-10 3986,85|2022-11 5355,85|2022-12 6264,26|2023-01 6415,61|2023-02 8073,68|2023-03 5895,9|2023-04 6029,05|2023-05 4928,39|2023-06 5954,6|2023-07 6899,22|2023-08 5361,92|2023-09 5514,5|2023-10 7419,65|2023-11 4204,35|2023-12 6567,52|2024-01 6510,31|2024-02 5458,06|2024-03 5121,64|2024-04 4545,54|2024-05 5131,96|2024-06 5277,56|2024-07 5205,18|2024-08 5396,19|2024-09 5088,85|2024-10 5219,89|2024-11 10136,97|2024-12 16265,35|2025-01 17094,48|2025-02 11407,04|2025-03 23030,64|2025-04 18978,92|2025-05 18205,25|2025-06 17230,95 | L42: 105947.28 | M42: 8601.73 | N42: 0 | O42: =M42-N42 -> 8601.73 | P42: 0 | Q42: =O42-P42 -> 8601.73 | R42: 0 | S42: =Q42-R42 -> 8601.73 | T42: 0 | U42: =S42-T42 -> 8601.73 | V42: 0 | W42: =U42-V42 -> 8601.73 | X42: 0 | Y42: =W42-X42 -> 8601.73 | Z42: =L42+N42+P42+R42+T42+V42+X42+AA42+AC42+AE42 -> 105947.28 | AA42: 0 | AB42: 0 | AC42: 0 | AD42: =AB42-AC42 -> 0 | AE42: 0 | AF42: =AD42-AE42 -> 0 | AG42: 0 | AH42: =AF42-AG42 -> 0 | AI42: 0 | AJ42: =AH42-AI42 -> 0 | AK42: 0 | AL42: =AJ42-AK42 -> 0 | AM42: 0 | AN42: =AL42-AM42 -> 0
B43: CENTRO DE INTEGRACAO EMPRESA ESCOLA CIEE | C43: ENCERRADO | D43: 61.600.839/0001-55 | E43: 0301-PS/2020/0001 | F43: PRESTAÇÃO DE SERVIÇO DE CONTRATAÇÃO DE JOVEM APRENDIZ COM MÃO DE OBRA DEDICADA | G43: 44152 | H43: 45978 | I43: SEDE-ADM-2022/00066 | J43: DNDN | K43: 2020-12 44622,51|2021-01 100512,34|2021-02 109377,392021-03 90186,57|2021-04 106224,03|2021-05 92644,22|2021-06 91217,34|2021-07 88532,05|2021-08 84437,24|2021-09 76393,03 2023-06 1196,74|2023-07 1349,13|2023-08 1369,53|2023-09 1389,52|2023-10 1186,33|2023-11 1369,55|2023-12 1332,39|2024-01 1352,58|2024-02 2338,94|2024-03 1339,07|2024-04 1365,13|2024-05 1365,75|2024-06 952,04|2024-08 1360,37|2024-09 1560,39|2024-10 1518,85|2024-11 1569,41|2024-12 1477,52|2025-01 1580,35|2025-02 1541,5|2025-03 1480,55|2025-04 1962,84|2025-05 1335,3|2025-06 1368,1|2025-07 1337,61 | L43: 10606.25 | M43: 35129.7 | N43: 1337.61 | O43: =M43-N43 -> 33792.09 | P43: 1378.24 | Q43: =O43-P43 -> 32413.85 | R43: 1325.14 | S43: =Q43-R43 -> 31088.71 | T43: 1355.91 | U43: =S43-T43 -> 29732.8 | V43: 1386.07 | W43: =U43-V43 -> 28346.73 | X43: 0 | Y43: =W43-X43 -> 28346.73 | Z43: =L43+N43+P43+R43+T43+V43+X43+AA43+AC43+AE43 -> 19515.48 | AA43: 0 | AB43: =Y43-AA43 -> 28346.73 | AC43: 0 | AD43: =AB43-AC43 -> 28346.73 | AE43: 2126.26 | AF43: =AD43-AE43 -> 26220.47 | AG43: 1324.77 | AH43: =AF43-AG43 -> 24895.7 | AI43: 0 | AJ43: =AH43-AI43 -> 24895.7 | AK43: 0 | AL43: =AJ43-AK43 -> 24895.7 | AM43: 0 | AN43: =AL43-AM43 -> 24895.7
B44: CENTRO DE INTEGRACAO EMPRESA ESCOLA CIEE | C44: ENCERRADO | D44: 61.600.839/0001-55 | E44: 0050-PS/2021/0001 | F44: PRESTAÇÃO DE SERVIÇO DE CONTRATAÇÃO DE ESTAGIÁRIOS COM MÃO DE OBRA DEDICADA | G44: 44315 | H44: 46141 | I44: SEDE-ADM-2022/00650 | J44: SEDE | K44: 2020-12 44622,51|2021-01 100512,34|2021-02 109377,392021-03 90186,57|2021-04 106224,03|2021-05 92644,22|2021-06 91217,34|2021-07 88532,05|2021-08 84437,24|2021-09 76393,03 2023-06 1196,74|2023-07 1349,13|2023-08 1369,53|2023-09 1389,52|2023-10 1186,33|2023-11 1369,55|2023-12 1332,39|2024-01 1352,58|2024-02 2338,94|2024-03 1339,07|2024-04 1365,13|2024-05 1365,75|2024-06 952,04|2024-08 1360,37|2024-09 1560,39|2024-10 1518,85|2024-11 1569,41|2024-12 1477,52|2025-01 1580,35|2025-02 1541,5|2025-03 1480,55|2025-04 1962,84|2025-05 1335,3|2025-06 1368,1|2025-07 1337,61 | L44: 217868.72 | M44: 2632280.1 | N44: 32797.49 | O44: 2599482.6 | P44: 32797.49 | Q44: =O44-P44 -> 2566685.1 | R44: 32749.62 | S44: =Q44-R44 -> 2533935.5 | T44: 29264.22 | U44: =S44-T44 -> 2504671.3 | V44: 25189.7 | W44: =U44-V44 -> 2479481.6 | X44: 55479.78 | Y44: =W44-X44 -> 2424001.8 | Z44: =L44+N44+P44+R44+T44+V44+X44+AA44+AC44+AE44 -> 485224.49 | AA44: 28385.79 | AB44: =Y44-AA44 -> 2395616 | AC44: 29641.68 | AD44: =AB44-AC44 -> 2365974.3 | AE44: 1050 | AF44: =AD44-AE44 -> 2364924.3 | AG44: 25871.43 | AH44: =AF44-AG44 -> 2339052.9 | AI44: 23123.53 | AJ44: =AH44-AI44 -> 2315929.4 | AK44: 0 | AL44: =AJ44-AK44 -> 2315929.4 | AM44: 0 | AN44: =AL44-AM44 -> 2315929.4
B45: CHANGE CONSTRUÇÕES E SERVIÇOS DE ENGENHARIA LTDA. | C45: ENCERRADO | D45: 24.263.422/0001-18 | E45: 0014-PS/2023/0002 | F45: PRESTAÇÃO DE SERVIÇO SEM MÃO DE OBRA DEDICADA | G45: 45050 | H45: 45500 | I45: SEDE-ADM-2023/00077 | J45: DNRJ | K45: 0 | L45: 0 | M45: 0 | N45: 0 | O45: 0 | P45: 0 | Q45: =O45-P45 -> 0 | R45: 0 | S45: =Q45-R45 -> 0 | T45: 0 | U45: =S45-T45 -> 0 | V45: 0 | W45: =U45-V45 -> 0 | X45: 0 | Y45: =W45-X45 -> 0 | Z45: =L45+N45+P45+R45+T45+V45+X45+AA45+AC45+AE45 -> 0 | AA45: 0 | AB45: 0 | AC45: 0 | AD45: =AB45-AC45 -> 0 | AE45: 0 | AF45: =AD45-AE45 -> 0 | AG45: 0 | AH45: =AF45-AG45 -> 0 | AI45: 0 | AJ45: =AH45-AI45 -> 0 | AK45: 0 | AL45: =AJ45-AK45 -> 0 | AM45: 0 | AN45: =AL45-AM45 -> 0
B46: CHUBB SEGUROS BRASIL S.A. | C46: ENCERRADO | D46: 03.502.099/0001-18 | E46: 0033-SS/2022/0001 | F46: PRESTAÇÃO DE SERVIÇO SEM MÃO DE OBRA DEDICADA | G46: 44895 | H46: 45991 | I46: SEDE-ADM-2022/01361 | J46: SEDE | K46: 0 | L46: 0 | M46: 0 | N46: 0 | O46: 0 | P46: 0 | Q46: =O46-P46 -> 0 | R46: 0 | S46: =Q46-R46 -> 0 | T46: 0 | U46: =S46-T46 -> 0 | V46: 0 | W46: =U46-V46 -> 0 | X46: 0 | Y46: =W46-X46 -> 0 | Z46: =L46+N46+P46+R46+T46+V46+X46+AA46+AC46+AE46 -> 122000 | AA46: 122000 | AB46: 0 | AC46: 0 | AD46: =AB46-AC46 -> 0 | AE46: 0 | AF46: =AD46-AE46 -> 0 | AG46: 0 | AH46: =AF46-AG46 -> 0 | AI46: 0 | AJ46: =AH46-AI46 -> 0 | AK46: 0 | AL46: =AJ46-AK46 -> 0 | AM46: 0 | AN46: =AL46-AM46 -> 0
B47: CHUBB SEGUROS BRASIL S.A. | C47: ATIVO | D47: 03.502.099/0001-18 | E47: 0068-SS/2025/0001 | F47: PRESTAÇÃO DE SERVIÇO SEM MÃO DE OBRA DEDICADA | G47: 45987 | H47: 46352 | I47: SD-ADM-2025/01437 | J47: SEDE | K47: 0 | L47: 0 | M47: 0 | N47: 0 | O47: 0 | P47: 0 | Q47: =O47-P47 -> 0 | R47: 0 | S47: =Q47-R47 -> 0 | T47: 0 | U47: =S47-T47 -> 0 | V47: 0 | W47: 122000 | X47: 0 | Y47: =W47-X47 -> 122000 | Z47: =L47+N47+P47+R47+T47+V47+X47+AA47+AC47+AE47 -> 122000 | AA47: 122000 | AB47: =Y47-AA47 -> 0 | AC47: 0 | AD47: =AB47-AC47 -> 0 | AE47: 0 | AF47: =AD47-AE47 -> 0 | AG47: 0 | AH47: =AF47-AG47 -> 0 | AI47: 0 | AJ47: =AH47-AI47 -> 0 | AK47: 0 | AL47: =AJ47-AK47 -> 0 | AM47: 0 | AN47: =AL47-AM47 -> 0
B48: CLARO S.A. | C48: ATIVO | D48: 40.432.544/0001-47 | E48: 0009-TI/2023/0001 | F48: PRESTAÇÃO DE SERVIÇO SEM MÃO DE OBRA DEDICADA | G48: 45093 | H48: 46920 | I48: SEDE-ADM-2022/01214 | J48: SEDE | K48: 2024-10//416606,4; 2024-12//556335,29; 2025-03//604002,81 | L48: 47667.52 | M48: 1928647.6 | N48: 0 | O48: 1928647.6 | P48: 0 | Q48: =O48-P48 -> 1928647.6 | R48: 0 | S48: =Q48-R48 -> 1928647.6 | T48: 47651.21 | U48: =S48-T48 -> 1880996.4 | V48: 0 | W48: =U48-V48 -> 1880996.4 | X48: 0 | Y48: =W48-X48 -> 1880996.4 | Z48: =L48+N48+P48+R48+T48+V48+X48+AA48+AC48+AE48 -> 95318.73 | AA48: 0 | AB48: =Y48-AA48 -> 1880996.4 | AC48: 0 | AD48: =AB48-AC48 -> 1880996.4 | AE48: 0 | AF48: =AD48-AE48 -> 1880996.4 | AG48: 435705.23 | AH48: =AF48-AG48 -> 1445291.2 | AI48: 0 | AJ48: =AH48-AI48 -> 1445291.2 | AK48: 47651.21 | AL48: =AJ48-AK48 -> 1397639.9 | AM48: =47651.21+47651.21 -> 95302.42 | AN48: =AL48-AM48 -> 1302337.5
B49: COMPETEC INSTALAÇÃO E SERVIÇOS INDUSTRIAIS LTDA. | C49: ENCERRADO | D49: 21.155.344/0001-40 | E49: 0006-PS/2024/0001 | F49: PRESTAÇÃO DE SERVIÇO SEM MÃO DE OBRA DEDICADA | G49: 45332 | H49: 45697 | I49: SEDE-ADM-2024/00158 | J49: SEDE | K49: 0 | L49: 0 | M49: 0 | N49: 0 | O49: 0 | P49: 0 | Q49: =O49-P49 -> 0 | R49: 0 | S49: =Q49-R49 -> 0 | T49: 0 | U49: =S49-T49 -> 0 | V49: 0 | W49: =U49-V49 -> 0 | X49: 0 | Y49: =W49-X49 -> 0 | Z49: =L49+N49+P49+R49+T49+V49+X49+AA49+AC49+AE49 -> 0 | AA49: 0 | AB49: 0 | AC49: 0 | AD49: =AB49-AC49 -> 0 | AE49: 0 | AF49: =AD49-AE49 -> 0 | AG49: 0 | AH49: =AF49-AG49 -> 0 | AI49: 0 | AJ49: =AH49-AI49 -> 0 | AK49: 0 | AL49: =AJ49-AK49 -> 0 | AM49: 0 | AN49: =AL49-AM49 -> 0
B50: CONSÓRCIO IACIT / ATC SYSTEMS | C50: ATIVO | D50: 56.035.876/0001-28 | E50: 0029-PS/2023/0001 | F50: PRESTAÇÃO DE SERVIÇO SEM MÃO DE OBRA DEDICADA | G50: 45155 | H50: 46387 | I50: SEDE-ADM-2022/01375 | J50: SEDE | K50: 2025-03 240236,44|2025-05 296136,93|2025-06 249614,192023-12 12869,43|2024-01 8983,46|2024-02 9553,17|2024-03 10005,28|2024-04 9955,68|2024-05 14599,44|2024-06 11581,64|2024-07 15599,41|2024-08 12114,51|2024-09 14511,82|2024-10 11499,2|2024-11 14649,91|2024-12 11261,16|2025-01 13375,27|2025-02 14955,71|2025-03 12201,32|2025-04 16605,53|2025-05 11211,68 | L50: 0 | M50: 0 | N50: 85185.8 | O50: 78397.6 | P50: 0 | Q50: =O50-P50 -> 78397.6 | R50: 0 | S50: =Q50-R50 -> 78397.6 | T50: 0 | U50: =S50-T50 -> 78397.6 | V50: 0 | W50: =U50-V50 -> 78397.6 | X50: 0 | Y50: =W50-X50 -> 78397.6 | Z50: =L50+N50+P50+R50+T50+V50+X50+AA50+AC50+AE50 -> 85185.8 | AA50: 0 | AB50: =Y50-AA50 -> 78397.6 | AC50: 0 | AD50: =AB50-AC50 -> 78397.6 | AE50: 0 | AF50: =AD50-AE50 -> 78397.6 | AG50: 0 | AH50: =AF50-AG50 -> 78397.6 | AI50: 0 | AJ50: =AH50-AI50 -> 78397.6 | AK50: 0 | AL50: =AJ50-AK50 -> 78397.6 | AM50: 0 | AN50: =AL50-AM50 -> 78397.6
B51: CONSÓRCIO IACIT-AIRNAV - IACIT SOLUÇÕES TECNOLÓGICAS S.A | C51: ATIVO | D51: 56.035.876/0001-28 | E51: 0018-PS/2022/0001 | F51: PRESTAÇÃO DE SERVIÇO SEM MÃO DE OBRA DEDICADA | G51: 44944 | H51: 46770 | I51: SEDE-ADM-2022/00319 | J51: DNAT, DNBG, DNBH, DNCZ, DNGO, DNHT, DNIH, DNIL, DNJP, DNJR, DNJU, DNKG, DNLO, DNME, DNMK, DNMQ, DNMS, DNNF, DNPB, DNPK, DNPL, DNPR, DNRJ, DNSN, DNTE, DNTF, DNUF e DNVT | K51: 2025-03 240236,44|2025-05 296136,93|2025-06 249614,192023-12 12869,43|2024-01 8983,46|2024-02 9553,17|2024-03 10005,28|2024-04 9955,68|2024-05 14599,44|2024-06 11581,64|2024-07 15599,41|2024-08 12114,51|2024-09 14511,82|2024-10 11499,2|2024-11 14649,91|2024-12 11261,16|2025-01 13375,27|2025-02 14955,71|2025-03 12201,32|2025-04 16605,53|2025-05 11211,68 | L51: 1735637.9 | M51: 2668740.8 | N51: 0 | O51: =M51-N51 -> 2668740.8 | P51: 148922.07 | Q51: =O51-P51 -> 2519818.7 | R51: 120887.55 | S51: =Q51-R51 -> 2398931.1 | T51: 95857.29 | U51: =S51-T51 -> 2303073.8 | V51: 106881.1 | W51: =U51-V51 -> 2196192.7 | X51: 534130.52 | Y51: =W51-X51 -> 1662062.2 | Z51: =L51+N51+P51+R51+T51+V51+X51+AA51+AC51+AE51 -> 3149456.4 | AA51: 178617.21 | AB51: =Y51-AA51 -> 1483445 | AC51: 0 | AD51: =AB51-AC51 -> 1483445 | AE51: 228522.73 | AF51: =AD51-AE51 -> 1254922.3 | AG51: 0 | AH51: =AF51-AG51 -> 1254922.3 | AI51: 117892.79 | AJ51: =AH51-AI51 -> 1137029.5 | AK51: 234738.4 | AL51: =AJ51-AK51 -> 902291.09 | AM51: =146832.25+111875.02 -> 258707.27 | AN51: =AL51-AM51 -> 643583.82
B52: CONSÓRCIO IACIT-AIRNAV - IACIT SOLUÇÕES TECNOLÓGICAS S.A | C52: ATIVO | D52: 56.035.876/0001-28 | E52: 0038-PS/2022/0001 | F52: PRESTAÇÃO DE SERVIÇO SEM MÃO DE OBRA DEDICADA | G52: 44921 | H52: 46747 | I52: SEDE-ADM-2022/01248 | J52: SEDE | K52: 2025-03 240236,44|2025-05 296136,93|2025-06 249614,192023-12 12869,43|2024-01 8983,46|2024-02 9553,17|2024-03 10005,28|2024-04 9955,68|2024-05 14599,44|2024-06 11581,64|2024-07 15599,41|2024-08 12114,51|2024-09 14511,82|2024-10 11499,2|2024-11 14649,91|2024-12 11261,16|2025-01 13375,27|2025-02 14955,71|2025-03 12201,32|2025-04 16605,53|2025-05 11211,68 | L52: 2007806.7 | M52: 3658114.7 | N52: 0 | O52: 12836061 | P52: 195351.84 | Q52: =O52-P52 -> 12640709 | R52: 139113.64 | S52: =Q52-R52 -> 12501595 | T52: 0 | U52: =S52-T52 -> 12501595 | V52: 154052.58 | W52: =U52-V52 -> 12347543 | X52: 368973.08 | Y52: =W52-X52 -> 11978570 | Z52: =L52+N52+P52+R52+T52+V52+X52+AA52+AC52+AE52 -> 3354490.3 | AA52: 239993.62 | AB52: =Y52-AA52 -> 11738576 | AC52: 0 | AD52: =AB52-AC52 -> 11738576 | AE52: 249198.81 | AF52: =AD52-AE52 -> 11489377 | AG52: 0 | AH52: =AF52-AG52 -> 11489377 | AI52: 152562.06 | AJ52: =AH52-AI52 -> 11336815 | AK52: 407235.98 | AL52: =AJ52-AK52 -> 10929579 | AM52: 236341.14 | AN52: =AL52-AM52 -> 10693238
B53: CSE ADMINISTRAÇÃO E SERVIÇOS LTDA. | C53: ATIVO | D53: 55.042.232/0001-02 | E53: 0001-SL/2026/0024 | F53: PRESTAÇÃO DE SERVIÇO DE CONSERVAÇÃO E LIMPEZA COM MÃO DE OBRA EXCLUSIVA | G53: 46045 | H53: 46957 | I53: SD-ADM-2025/01385 | J53: DNGL | K53: 0 | L53: 0 | M53: 0 | N53: 0 | O53: 0 | P53: 0 | Q53: =O53-P53 -> 0 | R53: 0 | S53: =Q53-R53 -> 0 | T53: 0 | U53: =S53-T53 -> 0 | V53: 0 | W53: =U53-V53 -> 0 | X53: 0 | Y53: =W53-X53 -> 0 | Z53: =L53+N53+P53+R53+T53+V53+X53+AA53+AC53+AE53 -> 8750.13 | AA53: 0 | AB53: 262504 | AC53: 0 | AD53: =AB53-AC53 -> 262504 | AE53: 8750.13 | AF53: =AD53-AE53 -> 253753.87 | AG53: 8750.13 | AH53: =AF53-AG53 -> 245003.74 | AI53: 8750.13 | AJ53: =AH53-AI53 -> 236253.61 | AK53: 8750.13 | AL53: =AJ53-AK53 -> 227503.48 | AM53: 8750.13 | AN53: =AL53-AM53 -> 218753.35
B54: DATEN TECNOLOGIA LTDA. | C54: ENCERRADO | D54: 04.602.789/0001-01 | E54: 0028-FM/2023/0001 | F54: CONTRATO DE AQUISIÇÃO | G54: 45152 | H54: 45518 | I54: SEDE-ADM-2024/00408 | J54: SEDE | K54: 2024-12 323048,58|2025-02 687046,98|2025-05 1528793,282024-10 1706590,93|2024-11 1706590,93|2024-12 1706590,93|2025-01 1706590,93|2025-02 1817848,58 | L54: 0 | M54: 177563 | N54: 0 | O54: 0 | P54: 0 | Q54: =O54-P54 -> 0 | R54: 0 | S54: =Q54-R54 -> 0 | T54: 0 | U54: =S54-T54 -> 0 | V54: 0 | W54: =U54-V54 -> 0 | X54: 0 | Y54: =W54-X54 -> 0 | Z54: =L54+N54+P54+R54+T54+V54+X54+AA54+AC54+AE54 -> 0 | AA54: 0 | AB54: 0 | AC54: 0 | AD54: =AB54-AC54 -> 0 | AE54: 0 | AF54: =AD54-AE54 -> 0 | AG54: 0 | AH54: =AF54-AG54 -> 0 | AI54: 0 | AJ54: =AH54-AI54 -> 0 | AK54: 0 | AL54: =AJ54-AK54 -> 0 | AM54: 0 | AN54: =AL54-AM54 -> 0
B55: DATEN TECNOLOGIA LTDA. | C55: ENCERRADO | D55: 04.602.789/0001-01 | E55: 0027-FM/2022/0001 | F55: CONTRATO DE AQUISIÇÃO | G55: 44876 | H55: 45607 | I55: SEDE-ADM-2022/00458 | J55: SEDE | K55: 2024-12 323048,58|2025-02 687046,98|2025-05 1528793,282024-10 1706590,93|2024-11 1706590,93|2024-12 1706590,93|2025-01 1706590,93|2025-02 1817848,58 | L55: 0 | M55: 0 | N55: 0 | O55: 0 | P55: 0 | Q55: =O55-P55 -> 0 | R55: 0 | S55: =Q55-R55 -> 0 | T55: 0 | U55: =S55-T55 -> 0 | V55: 0 | W55: =U55-V55 -> 0 | X55: 0 | Y55: =W55-X55 -> 0 | Z55: =L55+N55+P55+R55+T55+V55+X55+AA55+AC55+AE55 -> 0 | AA55: 0 | AB55: 0 | AC55: 0 | AD55: =AB55-AC55 -> 0 | AE55: 0 | AF55: =AD55-AE55 -> 0 | AG55: 0 | AH55: =AF55-AG55 -> 0 | AI55: 0 | AJ55: =AH55-AI55 -> 0 | AK55: 0 | AL55: =AJ55-AK55 -> 0 | AM55: 0 | AN55: =AL55-AM55 -> 0
B56: DATEN TECNOLOGIA LTDA. | C56: ENCERRADO | D56: 04.602.789/0001-01 | E56: 0030-FM/2024/0001 | F56: PRESTAÇÃO DE SERVIÇO SEM MÃO DE OBRA DEDICADA | G56: 45569 | H56: 45934 | I56: SEDE-ADM-2024/01365 | J56: SEDE | K56: 2024-12 323048,58|2025-02 687046,98|2025-05 1528793,282024-10 1706590,93|2024-11 1706590,93|2024-12 1706590,93|2025-01 1706590,93|2025-02 1817848,58 | L56: 2215840.3 | M56: 0 | N56: 0 | O56: 0 | P56: 0 | Q56: =O56-P56 -> 0 | R56: 0 | S56: =Q56-R56 -> 0 | T56: 0 | U56: =S56-T56 -> 0 | V56: 0 | W56: =U56-V56 -> 0 | X56: 0 | Y56: =W56-X56 -> 0 | Z56: =L56+N56+P56+R56+T56+V56+X56+AA56+AC56+AE56 -> 2215840.3 | AA56: 0 | AB56: 0 | AC56: 0 | AD56: =AB56-AC56 -> 0 | AE56: 0 | AF56: =AD56-AE56 -> 0 | AG56: 0 | AH56: =AF56-AG56 -> 0 | AI56: 0 | AJ56: =AH56-AI56 -> 0 | AK56: 0 | AL56: =AJ56-AK56 -> 0 | AM56: 0 | AN56: =AL56-AM56 -> 0
B57: DELOITTE SERVIÇOS CONTÁBEIS E ADMINISTRATIVOS ESPECIALIZADOS LTDA. | C57: ATIVO | D57: 05.111.857/0001-00 | E57: 0023-ST/2024/0001 | F57: PRESTAÇÃO DE SERVIÇO SEM MÃO DE OBRA DEDICADA | G57: 45527 | H57: 47353 | I57: SEDE-ADM-2023/01715 | J57: SEDE | K57: 2024-10 1706590,93|2024-11 1706590,93|2024-12 1706590,93|2025-01 1706590,93|2025-02 1817848,582025-03 2067707,52|2025-04 2000465,64|2025-05 2000465,64|2025-06 2525222,16|2025-07 2489870,75 | L57: 12118300 | M57: 82818946 | N57: 0 | O57: 80329076 | P57: 2798189.8 | Q57: =O57-P57 -> 77530886 | R57: 3071691.5 | S57: =Q57-R57 -> 74459194 | T57: 1614870.8 | U57: =S57-T57 -> 72844323 | V57: 1422890.9 | W57: =U57-V57 -> 71421433 | X57: 1829358.6 | Y57: =W57-X57 -> 69592074 | Z57: =L57+N57+P57+R57+T57+V57+X57+AA57+AC57+AE57 -> 27654914 | AA57: 1592370.8 | AB57: =Y57-AA57 -> 67999703 | AC57: 1614870.8 | AD57: =AB57-AC57 -> 66384832 | AE57: 1592370.8 | AF57: =AD57-AE57 -> 64792462 | AG57: 1641585.5 | AH57: =AF57-AG57 -> 63150876 | AI57: 1689174.2 | AJ57: =AH57-AI57 -> 61461702 | AK57: 1643211.5 | AL57: =AJ57-AK57 -> 59818490 | AM57: 1641585.5 | AN57: =AL57-AM57 -> 58176905
B58: DSM SERVIÇOS E COMÉRCIO LTDA.-ME | C58: ATIVO | D58: 28.244.608/0001-80 | E58: 0066-PS/2025/0001 | F58: PRESTAÇÃO DE SERVIÇO SEM MÃO DE OBRA DEDICADA | G58: 45952 | H58: 46317 | I58: SD-ADM-2025/00279 | J58: SEDE | K58: 0 | L58: 0 | M58: 0 | N58: 0 | O58: 0 | P58: 0 | Q58: =O58-P58 -> 0 | R58: 0 | S58: =Q58-R58 -> 0 | T58: 0 | U58: 491362.82 | V58: 0 | W58: =U58-V58 -> 491362.82 | X58: 0 | Y58: =W58-X58 -> 491362.82 | Z58: =L58+N58+P58+R58+T58+V58+X58+AA58+AC58+AE58 -> 0 | AA58: 0 | AB58: =Y58-AA58 -> 491362.82 | AC58: 0 | AD58: =AB58-AC58 -> 491362.82 | AE58: 0 | AF58: =AD58-AE58 -> 491362.82 | AG58: 106842.51 | AH58: =AF58-AG58 -> 384520.31 | AI58: 106842.51 | AJ58: =AH58-AI58 -> 277677.8 | AK58: 63880.33 | AL58: =AJ58-AK58 -> 213797.47 | AM58: 0 | AN58: =AL58-AM58 -> 213797.47
B59: DSM SERVIÇOS E COMÉRCIO LTDA.-ME | C59: ENCERRADO | D59: 28.244.608/0001-80 | E59: 0013-PS/2023/0023 | F59: PRESTAÇÃO DE SERVIÇO SEM MÃO DE OBRA DEDICADA | G59: 45042 | H59: 45524 | I59: SEDE-ADM-2022/01686 | J59: DNJR | K59: 0 | L59: 0 | M59: 0 | N59: 0 | O59: 0 | P59: 0 | Q59: =O59-P59 -> 0 | R59: 0 | S59: =Q59-R59 -> 0 | T59: 0 | U59: =S59-T59 -> 0 | V59: 0 | W59: =U59-V59 -> 0 | X59: 0 | Y59: =W59-X59 -> 0 | Z59: =L59+N59+P59+R59+T59+V59+X59+AA59+AC59+AE59 -> 0 | AA59: 0 | AB59: 0 | AC59: 0 | AD59: =AB59-AC59 -> 0 | AE59: 0 | AF59: =AD59-AE59 -> 0 | AG59: 0 | AH59: =AF59-AG59 -> 0 | AI59: 0 | AJ59: =AH59-AI59 -> 0 | AK59: 0 | AL59: =AJ59-AK59 -> 0 | AM59: 0 | AN59: =AL59-AM59 -> 0
B60: DSM SERVIÇOS E COMÉRCIO LTDA.-ME | C60: ENCERRADO | D60: 28.244.608/0001-80 | E60: 0020-PS/2023/0045 | F60: PRESTAÇÃO DE SERVIÇO SEM MÃO DE OBRA DEDICADA | G60: 45359 | H60: 45447 | I60: SEDE-ADM-2023/00501 | J60: DNGO | K60: 0 | L60: 0 | M60: 0 | N60: 0 | O60: 0 | P60: 0 | Q60: =O60-P60 -> 0 | R60: 0 | S60: =Q60-R60 -> 0 | T60: 0 | U60: =S60-T60 -> 0 | V60: 0 | W60: =U60-V60 -> 0 | X60: 0 | Y60: =W60-X60 -> 0 | Z60: =L60+N60+P60+R60+T60+V60+X60+AA60+AC60+AE60 -> 0 | AA60: 0 | AB60: 0 | AC60: 0 | AD60: =AB60-AC60 -> 0 | AE60: 0 | AF60: =AD60-AE60 -> 0 | AG60: 0 | AH60: =AF60-AG60 -> 0 | AI60: 0 | AJ60: =AH60-AI60 -> 0 | AK60: 0 | AL60: =AJ60-AK60 -> 0 | AM60: 0 | AN60: =AL60-AM60 -> 0
B61: DUALBASE TECNOLOGIA ELETRÔNICA LTDA. | C61: ATIVO | D61: 10.780.600/0001-73 | E61: 0005-PS/2024/0001 | F61: PRESTAÇÃO DE SERVIÇO SEM MÃO DE OBRA DEDICADA | G61: 45331 | H61: 47158 | I61: SEDE-ADM-2023/01256 | J61: SEDE | K61: 2024-07 9294,84|2024-08 2418,56|2024-09 13329,43|2025-02 26352,58 | L61: 26352.58 | M61: 85899.59 | N61: 0 | O61: =M61-N61 -> 85899.59 | P61: 54762.73 | Q61: =O61-P61 -> 31136.86 | R61: 0 | S61: =Q61-R61 -> 31136.86 | T61: 0 | U61: =S61-T61 -> 31136.86 | V61: 0 | W61: =U61-V61 -> 31136.86 | X61: 0 | Y61: =W61-X61 -> 31136.86 | Z61: =L61+N61+P61+R61+T61+V61+X61+AA61+AC61+AE61 -> 112231.3 | AA61: 31115.99 | AB61: =Y61-AA61 -> 20.87 | AC61: 0 | AD61: 171618.75 | AE61: 0 | AF61: =AD61-AE61 -> 171618.75 | AG61: 14175 | AH61: =AF61-AG61 -> 157443.75 | AI61: 14175 | AJ61: =AH61-AI61 -> 143268.75 | AK61: 25769.35 | AL61: =AJ61-AK61 -> 117499.4 | AM61: 0 | AN61: =AL61-AM61 -> 117499.4
B62: E. TRIPODE INDÚSTRIA E COMÉRCIO DE MÓVEIS LTDA. | C62: ATIVO | D62: 22.228.425/0001-95 | E62: 0006-FM/2025/0001 | F62: PRESTAÇÃO DE SERVIÇO SEM MÃO DE OBRA DEDICADA | G62: 45707 | H62: 46618 | I62: SEDE-ADM-2025/00034 | J62: DNAT/ DNGO/ DNPP/ DNBW/ DNPB/ DNTE/ DNIZ/ DNJU/ DNAR/ DNKG/ DNIL/ DNJP/ DNMS/ DNPL/ DNUF/ DNCJ/ DNCZ/ DNHT/ DNMQ/ DNSN/ DNMA/ DNTF/ DNIH/ DNPJ | K62: 0 | L62: 0 | M62: 138037.06 | N62: 0 | O62: 138037.06 | P62: 0 | Q62: =O62-P62 -> 138037.06 | R62: 614.06 | S62: =Q62-R62 -> 137423 | T62: 34568.55 | U62: =S62-T62 -> 102854.45 | V62: 0 | W62: =U62-V62 -> 102854.45 | X62: 0 | Y62: =W62-X62 -> 102854.45 | Z62: =L62+N62+P62+R62+T62+V62+X62+AA62+AC62+AE62 -> 35182.61 | AA62: 0 | AB62: =Y62-AA62 -> 102854.45 | AC62: 0 | AD62: =AB62-AC62 -> 102854.45 | AE62: 0 | AF62: =AD62-AE62 -> 102854.45 | AG62: 0 | AH62: =AF62-AG62 -> 102854.45 | AI62: 0 | AJ62: =AH62-AI62 -> 102854.45 | AK62: 0 | AL62: =AJ62-AK62 -> 102854.45 | AM62: 0 | AN62: =AL62-AM62 -> 102854.45
B63: E. TRIPODE INDÚSTRIA E COMÉRCIO DE MÓVEIS LTDA. | C63: ATIVO | D63: 22.228.425/0001-95 | E63: 0004-FM/2025/0001 | F63: PRESTAÇÃO DE SERVIÇO SEM MÃO DE OBRA DEDICADA | G63: 45706 | H63: 46617 | I63: SEDE-ADM-2025/00032 | J63: SEDE | K63: 0 | L63: 0 | M63: 69317.58 | N63: 0 | O63: 69317.58 | P63: 0 | Q63: =O63-P63 -> 69317.58 | R63: 0 | S63: =Q63-R63 -> 69317.58 | T63: 43155.52 | U63: =S63-T63 -> 26162.06 | V63: 0 | W63: =U63-V63 -> 26162.06 | X63: 0 | Y63: =W63-X63 -> 26162.06 | Z63: =L63+N63+P63+R63+T63+V63+X63+AA63+AC63+AE63 -> 43155.52 | AA63: 0 | AB63: =Y63-AA63 -> 26162.06 | AC63: 0 | AD63: =AB63-AC63 -> 26162.06 | AE63: 0 | AF63: =AD63-AE63 -> 26162.06 | AG63: 5666.45 | AH63: =AF63-AG63 -> 20495.61 | AI63: 5666.45 | AJ63: =AH63-AI63 -> 14829.16 | AK63: 0 | AL63: =AJ63-AK63 -> 14829.16 | AM63: 0 | AN63: =AL63-AM63 -> 14829.16
B64: ELO ADMINISTRAÇÃO & TERCEIRIZAÇÃO LTDA. | C64: ENCERRADO | D64: 08.312.139/0001-82 | E64: 0038-SV/2023/0042 | F64: PRESTAÇÃO DE SERVIÇO DE VIGILÂNCIA COM MÃO DE OBRA EXCLUSIVA | G64: 45181 | H64: 46092 | I64: SEDE-ADM-2023/01182 | J64: DNCJ | K64: 2023-10 5400|2023-11 18000|2023-12 18000|2024-01 18000|2024-02 18000|2024-03 18000|2024-04 18000|2024-05 18000|2024-06 18000|2024-07 18000|2024-08 18000|2024-09 18000|2024-10 180002024-11 29326,8|2024-12 19132,68|2025-01 19132,68|2025-02 19132,68|2025-03 19132,68|2025-04 19132,68|2025-05 19132,68|2025-06 19132,68|2025-07 19132,68 | L64: 133928.76 | M64: 185247.19 | N64: 19132.68 | O64: 166114.51 | P64: 19132.68 | Q64: =O64-P64 -> 146981.83 | R64: 19132.68 | S64: =Q64-R64 -> 127849.15 | T64: 19132.68 | U64: =S64-T64 -> 108716.47 | V64: 19132.68 | W64: =U64-V64 -> 89583.79 | X64: 19132.68 | Y64: =W64-X64 -> 70451.11 | Z64: =L64+N64+P64+R64+T64+V64+X64+AA64+AC64+AE64 -> 306122.88 | AA64: 19132.68 | AB64: =Y64-AA64 -> 51318.43 | AC64: 19132.68 | AD64: =AB64-AC64 -> 32185.75 | AE64: 19132.68 | AF64: =AD64-AE64 -> 13053.07 | AG64: 0 | AH64: =AF64-AG64 -> 13053.07 | AI64: 0 | AJ64: =AH64-AI64 -> 13053.07 | AK64: =4512.22+7182.72 -> 11694.94 | AL64: =AJ64-AK64 -> 1358.13 | AM64: 0 | AN64: =AL64-AM64 -> 1358.13
B65: EMBRASG - EMPRESA BRASILEIRA DE SERVIÇOS GERAIS LTDA. | C65: ATIVO | D65: 01.248.111/0001-84 | E65: 0033-SL/2023/0036 | F65: PRESTAÇÃO DE SERVIÇO DE CONSERVAÇÃO E LIMPEZA COM MÃO DE OBRA EXCLUSIVA | G65: 45155 | H65: 46982 | I65: SEDE-ADM-2023/00967 | J65: DNVT | K65: 2023-10 26393,57|2023-11 19312,37|2023-12 19312,37|2024-01 19312,37|2024-02 19312,37|2024-03 38624,74|2024-04 19312,37|2024-05 19312,37|2024-06 19312,37|2024-07 19312,37|2024-08 19312,37|2024-09 19312,37|2024-10 19312,37|2024-11 19312,37|2024-12 19312,372025-02 45220,8|2025-03 19784,67|2025-04 19784,67|2025-06 39569,34|2025-07 19784,67 | L65: 144144.15 | M65: 163169.82 | N65: 19784.67 | O65: =M65-N65 -> 143385.15 | P65: 19784.67 | Q65: =O65-P65 -> 123600.48 | R65: 19784.67 | S65: 159524.73 | T65: 19784.67 | U65: =S65-T65 -> 139740.06 | V65: 19784.67 | W65: =U65-V65 -> 119955.39 | X65: 56922.88 | Y65: =W65-X65 -> 63032.51 | Z65: =L65+N65+P65+R65+T65+V65+X65+AA65+AC65+AE65 -> 341987.62 | AA65: 0 | AB65: 1262684 | AC65: 20998.62 | AD65: =AB65-AC65 -> 1241685.4 | AE65: 20998.62 | AF65: =AD65-AE65 -> 1220686.8 | AG65: 20998.62 | AH65: =AF65-AG65 -> 1199688.1 | AI65: 20998.62 | AJ65: =AH65-AI65 -> 1178689.5 | AK65: 20998.62 | AL65: =AJ65-AK65 -> 1157690.9 | AM65: 20998.62 | AN65: =AL65-AM65 -> 1136692.3
B66: ENFA – COMÉRCIO E SERVIÇOS DE LIMPEZA E CONSERVAÇÃO LTDA. | C66: ATIVO | D66: 49.572.442/0001-00 | E66: 0027-SL/2024/0020 | F66: PRESTAÇÃO DE SERVIÇO DE CONSERVAÇÃO E LIMPEZA COM MÃO DE OBRA EXCLUSIVA | G66: 45544 | H66: 46455 | I66: SEDE-ADM-2023/02142 | J66: DNPB | K66: 2024-11 4466,3|2024-12 4466,3|2025-01 4466,3|2025-02 4466,3|2025-03 4466,3|2025-04 4466,3|2025-05 4466,3|2025-06 4466,3|2025-07 4466,32024-12 3264,23|2025-02 9326,36|2025-04 4663,18 | L66: 31264.1 | M66: 98258.61 | N66: 4466.3 | O66: 93792.31 | P66: 4051.65 | Q66: =O66-P66 -> 89740.66 | R66: 6141.18 | S66: =Q66-R66 -> 83599.48 | T66: 4675.66 | U66: =S66-T66 -> 78923.82 | V66: 0 | W66: =U66-V66 -> 78923.82 | X66: 4633.05 | Y66: =W66-X66 -> 74290.77 | Z66: =L66+N66+P66+R66+T66+V66+X66+AA66+AC66+AE66 -> 73764.14 | AA66: 9266.1 | AB66: =Y66-AA66 -> 65024.67 | AC66: 0 | AD66: =AB66-AC66 -> 65024.67 | AE66: 9266.1 | AF66: =AD66-AE66 -> 55758.57 | AG66: 4633.05 | AH66: =AF66-AG66 -> 51125.52 | AI66: 18532.2 | AJ66: =AH66-AI66 -> 32593.32 | AK66: 4633.05 | AL66: =AJ66-AK66 -> 27960.27 | AM66: 4633.05 | AN66: =AL66-AM66 -> 23327.22
B67: ENFA – COMÉRCIO E SERVIÇOS DE LIMPEZA E CONSERVAÇÃO LTDA. | C67: ATIVO | D67: 49.572.442/0001-00 | E67: 0053-SL/2025/0029 | F67: PRESTAÇÃO DE SERVIÇO DE CONSERVAÇÃO E LIMPEZA COM MÃO DE OBRA EXCLUSIVA | G67: 45911 | H67: 46823 | I67: SD-ADM-2025/00952 | J67: DNDN | K67: 0 | L67: 0 | M67: 0 | N67: 0 | O67: 0 | P67: 0 | Q67: =O67-P67 -> 0 | R67: 0 | S67: 328499.84 | T67: 4571.82 | U67: =S67-T67 -> 323928.02 | V67: 10550.36 | W67: =U67-V67 -> 313377.66 | X67: 10550.36 | Y67: =W67-X67 -> 302827.3 | Z67: =L67+N67+P67+R67+T67+V67+X67+AA67+AC67+AE67 -> 57323.62 | AA67: 10550.36 | AB67: =Y67-AA67 -> 292276.94 | AC67: 10550.36 | AD67: =AB67-AC67 -> 281726.58 | AE67: 10550.36 | AF67: =AD67-AE67 -> 271176.22 | AG67: 10550.36 | AH67: =AF67-AG67 -> 260625.86 | AI67: 10550.36 | AJ67: =AH67-AI67 -> 250075.5 | AK67: 10550.36 | AL67: =AJ67-AK67 -> 239525.14 | AM67: 10550.36 | AN67: =AL67-AM67 -> 228974.78
B68: ENFA – COMÉRCIO E SERVIÇOS DE LIMPEZA E CONSERVAÇÃO LTDA. | C68: ATIVO | D68: 49.572.442/0001-00 | E68: 0035-SL/2024/0003 | F68: PRESTAÇÃO DE SERVIÇO DE CONSERVAÇÃO E LIMPEZA COM MÃO DE OBRA EXCLUSIVA | G68: 45604 | H68: 46515 | I68: SEDE-ADM-2024/01066 | J68: DNIL | K68: 2024-11 4466,3|2024-12 4466,3|2025-01 4466,3|2025-02 4466,3|2025-03 4466,3|2025-04 4466,3|2025-05 4466,3|2025-06 4466,3|2025-07 4466,32024-12 3264,23|2025-02 9326,36|2025-04 4663,18 | L68: 39863.6 | M68: 136372.91 | N68: 5694.8 | O68: 130678.11 | P68: 5694.8 | Q68: =O68-P68 -> 124983.31 | R68: 5694.8 | S68: =Q68-R68 -> 119288.51 | T68: 5694.8 | U68: =S68-T68 -> 113593.71 | V68: 5694.8 | W68: =U68-V68 -> 107898.91 | X68: 5694.8 | Y68: =W68-X68 -> 102204.11 | Z68: =L68+N68+P68+R68+T68+V68+X68+AA68+AC68+AE68 -> 96811.6 | AA68: 11389.6 | AB68: =Y68-AA68 -> 90814.51 | AC68: 5694.8 | AD68: =AB68-AC68 -> 85119.71 | AE68: 5694.8 | AF68: =AD68-AE68 -> 79424.91 | AG68: 5694.8 | AH68: =AF68-AG68 -> 73730.11 | AI68: 11389.6 | AJ68: =AH68-AI68 -> 62340.51 | AK68: 5694.8 | AL68: =AJ68-AK68 -> 56645.71 | AM68: 5694.8 | AN68: =AL68-AM68 -> 50950.91
B69: ENFA – COMÉRCIO E SERVIÇOS DE LIMPEZA E CONSERVAÇÃO LTDA. | C69: ATIVO | D69: 49.572.442/0001-00 | E69: 0008-SL/2026/0032 | F69: PRESTAÇÃO DE SERVIÇO DE CONSERVAÇÃO E LIMPEZA COM MÃO DE OBRA EXCLUSIVA | G69: 46036 | H69: 46948 | I69: SD-ADM-2025/01676 | J69: DNBU | K69: 0 | L69: 0 | M69: 0 | N69: 0 | O69: 0 | P69: 0 | Q69: =O69-P69 -> 0 | R69: 0 | S69: =Q69-R69 -> 0 | T69: 0 | U69: =S69-T69 -> 0 | V69: 0 | W69: =U69-V69 -> 0 | X69: 0 | Y69: =W69-X69 -> 0 | Z69: =L69+N69+P69+R69+T69+V69+X69+AA69+AC69+AE69 -> 6861.46 | AA69: 0 | AB69: 175000 | AC69: 5694.8 | AD69: =AB69-AC69 -> 169305.2 | AE69: 1166.66 | AF69: =AD69-AE69 -> 168138.54 | AG69: 5833.33 | AH69: =AF69-AG69 -> 162305.21 | AI69: 5833.33 | AJ69: =AH69-AI69 -> 156471.88 | AK69: 5833.33 | AL69: =AJ69-AK69 -> 150638.55 | AM69: 5833.33 | AN69: =AL69-AM69 -> 144805.22
B70: EQUINIX DO BRASIL SOLUÇÕES DE TECNOLOGIA EM INFORMÁTICA LTDA. | C70: ATIVO | D70: 03.672.254/0001-44 | E70: 0026-TI/2024/0001 | F70: PRESTAÇÃO DE SERVIÇO SEM MÃO DE OBRA DEDICADA | G70: 45534 | H70: 47360 | I70: SEDE-ADM-2024/00712 | J70: SEDE | K70: 0 | L70: 0 | M70: 9300000 | N70: 0 | O70: =M70-N70 -> 9300000 | P70: 0 | Q70: =O70-P70 -> 9300000 | R70: 760617.5 | S70: =Q70-R70 -> 8539382.5 | T70: 154925.09 | U70: =S70-T70 -> 8384457.4 | V70: 154925.09 | W70: =U70-V70 -> 8229532.3 | X70: 154925.09 | Y70: =W70-X70 -> 8074607.2 | Z70: =L70+N70+P70+R70+T70+V70+X70+AA70+AC70+AE70 -> 1225392.8 | AA70: 0 | AB70: =Y70-AA70 -> 8074607.2 | AC70: 0 | AD70: =AB70-AC70 -> 8074607.2 | AE70: 0 | AF70: =AD70-AE70 -> 8074607.2 | AG70: 0 | AH70: =AF70-AG70 -> 8074607.2 | AI70: 0 | AJ70: =AH70-AI70 -> 8074607.2 | AK70: 0 | AL70: =AJ70-AK70 -> 8074607.2 | AM70: 0 | AN70: =AL70-AM70 -> 8074607.2
B71: EURO SERVICE LTDA. | C71: ATIVO | D71: 16.963.926/0001-12 | E71: 0044-SV/2024/0022 | F71: PRESTAÇÃO DE SERVIÇO DE VIGILÂNCIA COM MÃO DE OBRA EXCLUSIVA | G71: 45663 | H71: 46574 | I71: SEDE-ADM-2024/00731 | J71: DNCP | K71: 2025-02 16483,49|2025-03 16483,49|2025-05 32966,98|2025-06 16483,49|2025-07 16483,492024-05 3265,25|2024-06 25350,67|2024-07 3265,25|2024-08 3265,25|2024-09 3265,25|2024-10 4675,25|2024-11 3265,25|2024-12 3265,25|2025-01 3265,25|2025-02 3265,25|2025-03 3265,25|2025-04 3265,25|2025-05 3265,25|2025-06 3265,25|2025-07 3265,25 | L71: 98900.94 | M71: 412087.29 | N71: 16483.49 | O71: 395603.8 | P71: 22084.96 | Q71: =O71-P71 -> 373518.84 | R71: 17606.78 | S71: =Q71-R71 -> 355912.06 | T71: 0 | U71: =S71-T71 -> 355912.06 | V71: 0 | W71: =U71-V71 -> 355912.06 | X71: 69303.83 | Y71: =W71-X71 -> 286608.23 | Z71: =L71+N71+P71+R71+T71+V71+X71+AA71+AC71+AE71 -> 276659.96 | AA71: 0 | AB71: =Y71-AA71 -> 286608.23 | AC71: 17588.46 | AD71: =AB71-AC71 -> 269019.77 | AE71: 34691.5 | AF71: =AD71-AE71 -> 234328.27 | AG71: 17350.33 | AH71: =AF71-AG71 -> 216977.94 | AI71: 17350.33 | AJ71: =AH71-AI71 -> 199627.61 | AK71: 17350.33 | AL71: =AJ71-AK71 -> 182277.28 | AM71: 17350.33 | AN71: =AL71-AM71 -> 164926.95
B72: EXCEL ELEVADORES LTDA. | C72: ATIVO | D72: 02.590.254/0001-32 | E72: 0155-SM/2021/0062 | F72: PRESTAÇÃO DE SERVIÇO SEM MÃO DE OBRA DEDICADA | G72: 44489 | H72: 46315 | I72: SEDE-ADM-2022/00656 | J72: DNRJ | K72: 2024-05 3265,25|2024-06 25350,67|2024-07 3265,25|2024-08 3265,25|2024-09 3265,25|2024-10 4675,25|2024-11 3265,25|2024-12 3265,25|2025-01 3265,25|2025-02 3265,25|2025-03 3265,25|2025-04 3265,25|2025-05 3265,25|2025-06 3265,25|2025-07 3265,252025-07 49.300,00 | L72: 22856.75 | M72: 176858.29 | N72: 3265.25 | O72: 173593.04 | P72: 3265.25 | Q72: =O72-P72 -> 170327.79 | R72: 3700.8 | S72: =Q72-R72 -> 166626.99 | T72: 4480.8 | U72: =S72-T72 -> 162146.19 | V72: 3265.25 | W72: =U72-V72 -> 158880.94 | X72: 5931.87 | Y72: =W72-X72 -> 152949.07 | Z72: =L72+N72+P72+R72+T72+V72+X72+AA72+AC72+AE72 -> 53296.47 | AA72: 0 | AB72: =Y72-AA72 -> 152949.07 | AC72: 3265.25 | AD72: =AB72-AC72 -> 149683.82 | AE72: 3265.25 | AF72: =AD72-AE72 -> 146418.57 | AG72: 3265.25 | AH72: =AF72-AG72 -> 143153.32 | AI72: 3265.25 | AJ72: =AH72-AI72 -> 139888.07 | AK72: 3265.25 | AL72: =AJ72-AK72 -> 136622.82 | AM72: 3265.25 | AN72: =AL72-AM72 -> 133357.57
B73: EXTRAMED ADMINISTRAÇÃO E SERVIÇOS MÉDICOS LTDA. | C73: ENCERRADO | D73: 01.747.987/0001-75 | E73: 0011_DSAD_2024 | F73: CONTRATO DE CREDENCIAMENTO | G73: 43861 | H73: 45853 | I73: SEDE-ADM-2023/00165 | J73: SEDE | K73: 0 | M73: 0 | N73: 0 | O73: 0 | P73: 0 | Q73: =O73-P73 -> 0 | R73: 0 | S73: =Q73-R73 -> 0 | T73: 0 | U73: =S73-T73 -> 0 | V73: 0 | W73: =U73-V73 -> 0 | X73: 0 | Y73: =W73-X73 -> 0 | Z73: =L73+N73+P73+R73+T73+V73+X73+AA73+AC73+AE73 -> 0 | AA73: 0 | AB73: 0 | AC73: 0 | AD73: =AB73-AC73 -> 0 | AE73: 0 | AF73: =AD73-AE73 -> 0 | AG73: 0 | AH73: =AF73-AG73 -> 0 | AI73: 0 | AJ73: =AH73-AI73 -> 0 | AK73: 0 | AL73: =AJ73-AK73 -> 0 | AM73: 0 | AN73: =AL73-AM73 -> 0
B74: EXTREME | C74: ENCERRADO | D74: 14.139.773/0001-68 | E74: 0004-TI/2022/0001 | F74: PRESTAÇÃO DE SERVIÇO SEM MÃO DE OBRA DEDICADA | G74: 44679 | H74: 45716 | I74: SEDE-ADM-2022/00469 | J74: SEDE | K74: 0 | L74: 206896.69 | M74: 348310.05 | N74: 0 | O74: 0 | P74: 0 | Q74: =O74-P74 -> 0 | R74: 0 | S74: =Q74-R74 -> 0 | T74: 0 | U74: =S74-T74 -> 0 | V74: 0 | W74: =U74-V74 -> 0 | X74: 0 | Y74: =W74-X74 -> 0 | Z74: =L74+N74+P74+R74+T74+V74+X74+AA74+AC74+AE74 -> 206896.69 | AA74: 0 | AB74: 0 | AC74: 0 | AD74: =AB74-AC74 -> 0 | AE74: 0 | AF74: =AD74-AE74 -> 0 | AG74: 0 | AH74: =AF74-AG74 -> 0 | AI74: 0 | AJ74: =AH74-AI74 -> 0 | AK74: 0 | AL74: =AJ74-AK74 -> 0 | AM74: 0 | AN74: =AL74-AM74 -> 0
B75: F&F DISTRIBUIDORA CORDEIRO LTDA. | C75: ATIVO | D75: 44.965.792/0001-04 | E75: 0005-FM/2025/0001 | F75: PRESTAÇÃO DE SERVIÇO SEM MÃO DE OBRA DEDICADA | G75: 45699 | H75: 46610 | I75: SEDE-ADM-2025/00033 | J75: SEDE | K75: 2025-07 49.300,00 2025-05 8615,45|2025-06 8615,45|2025-07 8615,45 | L75: 0 | M75: 0 | N75: 49300 | O75: 160770 | P75: 49300 | Q75: =O75-P75 -> 111470 | R75: 55650 | S75: =Q75-R75 -> 55820 | T75: 0 | U75: =S75-T75 -> 55820 | V75: 1350 | W75: =U75-V75 -> 54470 | X75: 0 | Y75: =W75-X75 -> 54470 | Z75: =L75+N75+P75+R75+T75+V75+X75+AA75+AC75+AE75 -> 162200 | AA75: 6600 | AB75: =Y75-AA75 -> 47870 | AC75: 0 | AD75: =AB75-AC75 -> 47870 | AE75: 0 | AF75: =AD75-AE75 -> 47870 | AG75: 0 | AH75: =AF75-AG75 -> 47870 | AI75: 0 | AJ75: =AH75-AI75 -> 47870 | AK75: 2900 | AL75: =AJ75-AK75 -> 44970 | AM75: 0 | AN75: =AL75-AM75 -> 44970
B76: FACILE – ADMINISTRAÇÃO E SERVIÇOS LTDA. | C76: ATIVO | D76: 28.323.263/0001-50 | E76: 0071-SL/2025/0042 | F76: PRESTAÇÃO DE SERVIÇO DE CONSERVAÇÃO E LIMPEZA COM MÃO DE OBRA EXCLUSIVA | G76: 46003 | H76: 46916 | I76: SD-ADM-2025/01426 | J76: DNUL | K76: 0 | L76: 0 | M76: 0 | N76: 0 | O76: 0 | P76: 0 | Q76: =O76-P76 -> 0 | R76: 0 | S76: =Q76-R76 -> 0 | T76: 0 | U76: =S76-T76 -> 0 | V76: 0 | W76: =U76-V76 -> 0 | X76: 0 | Y76: 349344.6 | Z76: =L76+N76+P76+R76+T76+V76+X76+AA76+AC76+AE76 -> 28304.55 | AA76: 5609.91 | AB76: =Y76-AA76 -> 343734.69 | AC76: 11219.82 | AD76: =AB76-AC76 -> 332514.87 | AE76: 11474.82 | AF76: =AD76-AE76 -> 321040.05 | AG76: 11474.82 | AH76: =AF76-AG76 -> 309565.23 | AI76: 15542.66 | AJ76: =AH76-AI76 -> 294022.57 | AK76: 12514.89 | AL76: =AJ76-AK76 -> 281507.68 | AM76: 12514.89 | AN76: =AL76-AM76 -> 268992.79
B77: FÊNIX ASSESSORIA & GESTÃO EMPRESARIAL LTDA. | C77: ATIVO | D77: 04.795.101/0001-57 | E77: 0023-SL/2022/0033 | F77: PRESTAÇÃO DE SERVIÇO DE CONSERVAÇÃO E LIMPEZA COM MÃO DE OBRA EXCLUSIVA | G77: 44865 | H77: 46690 | I77: SEDE-ADM-2022/01317 | J77: DNPJ | K77: 0 | L77: 60308.15 | M77: 249576.35 | N77: 8615.45 | O77: 240960.9 | P77: 8615.45 | Q77: =O77-P77 -> 232345.45 | R77: 9738.44 | S77: =Q77-R77 -> 222607.01 | T77: 8941.52 | U77: =S77-T77 -> 213665.49 | V77: 8941.52 | W77: =U77-V77 -> 204723.97 | X77: 8941.52 | Y77: =W77-X77 -> 195782.45 | Z77: =L77+N77+P77+R77+T77+V77+X77+AA77+AC77+AE77 -> 143463.86 | AA77: 9818.77 | AB77: =Y77-AA77 -> 185963.68 | AC77: 9724.27 | AD77: =AB77-AC77 -> 176239.41 | AE77: 9818.77 | AF77: =AD77-AE77 -> 166420.64 | AG77: 9818.77 | AH77: =AF77-AG77 -> 156601.87 | AI77: 8941.52 | AJ77: =AH77-AI77 -> 147660.35 | AK77: 8941.52 | AL77: =AJ77-AK77 -> 138718.83 | AM77: 8852.1 | AN77: =AL77-AM77 -> 129866.73
B78: FERREIRA SERVIÇOS E MANUTENÇÃO LTDA. | C78: ATIVO | D78: 33.262.062/0001-20 | E78: 0036-SL/2023/0043 | F78: PRESTAÇÃO DE SERVIÇO DE CONSERVAÇÃO E LIMPEZA COM MÃO DE OBRA EXCLUSIVA | G78: 45181 | H78: 47008 | I78: SEDE-ADM-2023/01242 | J78: DNUR | K78: 2023-11 9610,22|2023-12 19220,44|2024-02 9610,22|2024-03 9610,22|2024-04 9610,22|2024-05 9610,22|2024-06 9610,22|2024-07 9610,22|2024-08 9610,22|2024-09 9610,22|2024-10 9610,22|2024-11 9610,22|2024-12 9610,22|2025-01 9610,22|2025-02 8987,582025-03 9244,43|2025-04 9604,02|2025-05 9604,02|2025-06 19208,04|2025-07 9604,02|2025-08 9604,02 | L78: 85466.35 | M78: 86572.94 | N78: 9604.02 | O78: 76968.92 | P78: 9604.02 | Q78: 72422 | R78: 9604.02 | S78: =Q78-R78 -> 62817.98 | T78: 9976.94 | U78: 64198.23 | V78: 0 | W78: =U78-V78 -> 64198.23 | X78: 10149.39 | Y78: =W78-X78 -> 54048.84 | Z78: =L78+N78+P78+R78+T78+V78+X78+AA78+AC78+AE78 -> 163837.98 | AA78: 9811.08 | AB78: =Y78-AA78 -> 44237.76 | AC78: 9811.08 | AD78: =AB78-AC78 -> 34426.68 | AE78: 9811.08 | AF78: 598293.38 | AG78: 10149.39 | AH78: =AF78-AG78 -> 588143.99 | AI78: 10149.39 | AJ78: =AH78-AI78 -> 577994.6 | AK78: 10149.39 | AL78: =AJ78-AK78 -> 567845.21 | AM78: 10149.39 | AN78: =AL78-AM78 -> 557695.82
B79: FIBONACCI ENGENHARIA E SERVIÇOS LTDA. | C79: ENCERRADO | D79: 21.315.711/0001-25 | E79: 0209-SC/2020/0031 | F79: PRESTAÇÃO DE SERVIÇO SEM MÃO DE OBRA DEDICADA | G79: 44105 | H79: 45931 | I79: SEDE-ADM-2022/00197 | J79: DNMQ | K79: 2023-07 4928,42|2023-08 4820,95|2023-09 4730,99|2023-10 4605,07|2023-11 5505,07|2023-12 4505,07|2024-01 4505,07|2024-02 4505,07|2024-03 4505,07|2024-04 4505,07|2024-05 4505,07|2024-06 5134,49|2024-07 4714,65|2024-08 4714,65|2024-09 4670,43|2024-10 4707,28|2024-11 4707,282024-12 4707,28|2025-01 4707,28|2025-02 4707,28|2025-03 4707,28|2025-04 4945,36|2025-05 4945,36|2025-06 4945,36|2025-07 4945,36 | L79: 33903.28 | M79: 64437.59 | N79: 4945.36 | O79: 59492.23 | P79: 4945.35 | Q79: =O79-P79 -> 54546.88 | R79: 4945.36 | S79: =Q79-R79 -> 49601.52 | T79: 4945.36 | U79: =S79-T79 -> 44656.16 | V79: 0 | W79: =U79-V79 -> 44656.16 | X79: 0 | Y79: =W79-X79 -> 44656.16 | Z79: =L79+N79+P79+R79+T79+V79+X79+AA79+AC79+AE79 -> 53684.71 | AA79: 0 | AB79: 0 | AC79: 0 | AD79: =AB79-AC79 -> 0 | AE79: 0 | AF79: =AD79-AE79 -> 0 | AG79: 0 | AH79: =AF79-AG79 -> 0 | AI79: 0 | AJ79: =AH79-AI79 -> 0 | AK79: 0 | AL79: =AJ79-AK79 -> 0 | AM79: 0 | AN79: =AL79-AM79 -> 0
B80: FIRMIANO SEGURANÇA PATRIMONIAL EIRELI | C80: ENCERRADO | D80: 19.907.785/0001-09 | E80: 0040-SV/2021/0195 | F80: PRESTAÇÃO DE SERVIÇO DE VIGILÂNCIA MÃO DE OBRA EXCLUSIVA | G80: 44392 | H80: 46125 | I80: SEDE-ADM-2021/00088 | J80: DNME | K80: 2023-12 49257,69|2024-01 49257,69|2024-02 49257,69|2024-03 49257,69|2024-04 49257,69|2024-05 49257,69|2024-06 49257,69|2024-07 49257,69|2024-08 49257,69|2024-09 49257,692024-10 68069,29|2024-11 51138,85|2024-12 51138,85|2025-01 51138,85|2025-02 51138,85|2025-03 51138,85|2025-04 51138,85|2025-05 51138,85|2025-06 51138,85 2025-07 67.839,10 | L80: 374672.2 | M80: 591351.51 | N80: 51138.85 | O80: 560654.13 | P80: 67839.1 | Q80: =O80-P80 -> 492815.03 | R80: 53524.6 | S80: =Q80-R80 -> 439290.43 | T80: 53524.6 | U80: =S80-T80 -> 385765.83 | V80: 53524.6 | W80: =U80-V80 -> 332241.23 | X80: 107049.2 | Y80: =W80-X80 -> 225192.03 | Z80: =L80+N80+P80+R80+T80+V80+X80+AA80+AC80+AE80 -> 868322.35 | AA80: 0 | AB80: =Y80-AA80 -> 225192.03 | AC80: 53524.6 | AD80: =AB80-AC80 -> 171667.43 | AE80: 53524.6 | AF80: =AD80-AE80 -> 118142.83 | AG80: 53524.6 | AH80: =AF80-AG80 -> 64618.23 | AI80: 23193.95 | AJ80: =AH80-AI80 -> 41424.28 | AK80: 0 | AL80: =AJ80-AK80 -> 41424.28 | AM80: 23193.95 | AN80: =AL80-AM80 -> 18230.33
B81: FUNDAÇÃO GETULIO VARGAS – FGV | C81: ATIVO | D81: 33.641.663/0001-44 | E81: 0002-PS/2026/0001 | F81: PRESTAÇÃO DE SERVIÇO SEM MÃO DE OBRA DEDICADA | G81: 46041 | H81: 46953 | I81: SD-ADM-2025/01844 | J81: SEDE | K81: 0 | L81: 0 | M81: 0 | N81: 0 | O81: 0 | P81: 0 | Q81: =O81-P81 -> 0 | R81: 0 | S81: =Q81-R81 -> 0 | T81: 0 | U81: =S81-T81 -> 0 | V81: 0 | W81: =U81-V81 -> 0 | X81: 0 | Y81: =W81-X81 -> 0 | Z81: =L81+N81+P81+R81+T81+V81+X81+AA81+AC81+AE81 -> 0 | AA81: 0 | AB81: 1045000 | AC81: 0 | AD81: =AB81-AC81 -> 1045000 | AE81: 0 | AF81: =AD81-AE81 -> 1045000 | AG81: 0 | AH81: =AF81-AG81 -> 1045000 | AI81: 0 | AJ81: =AH81-AI81 -> 1045000 | AK81: 0 | AL81: =AJ81-AK81 -> 1045000 | AM81: 919584.96 | AN81: =AL81-AM81 -> 125415.04
B82: GENESIS – GERAÇÃO DE NOVAS EMPRESAS DE SISTEMA E SERVIÇO LTDA. | C82: ATIVO | D82: 41.662.936/0001-65 | E82: 0021-SV/2023/0035 | F82: PRESTAÇÃO DE SERVIÇO DE VIGILÂNCIA COM MÃO DE OBRA EXCLUSIVA | G82: 45107 | H82: 46934 | I82: SEDE-ADM-2022/00998 | J82: DNBH | K82: 45709 1216050|45709 1216050|45709 1216050|45709 1216050|45709 121605045328 18408118,8|45328 18408118,8|45328 18408118,8|45328 18408118,8|45328 18408118,8|45328 18408118,8|45328 18408118,8|45328 18408118,8|45328 18408118,8|45328 18408118,8|45328 18408118,8|45328 18408118,8|45328 18408118,8 | L82: 34159.16 | M82: 65051.54 | N82: 4972.22 | O82: 60079.32 | P82: 4972.22 | Q82: =O82-P82 -> 55107.1 | R82: 4972.22 | S82: =Q82-R82 -> 50134.88 | T82: 4972.22 | U82: 52649.65 | V82: 5000.86 | W82: =U82-V82 -> 47648.79 | X82: 5251.91 | Y82: =W82-X82 -> 42396.88 | Z82: =L82+N82+P82+R82+T82+V82+X82+AA82+AC82+AE82 -> 79793.94 | AA82: 4989.31 | AB82: =Y82-AA82 -> 37407.57 | AC82: 5251.91 | AD82: =AB82-AC82 -> 32155.66 | AE82: 5251.91 | AF82: =AD82-AE82 -> 26903.75 | AG82: 5251.91 | AH82: =AF82-AG82 -> 21651.84 | AI82: 5261.91 | AJ82: 307560.53 | AK82: 5251.91 | AL82: =AJ82-AK82 -> 302308.62 | AM82: 5251.91 | AN82: =AL82-AM82 -> 297056.71
B83: GL OXIGENIO LTDA. | C83: ATIVO | D83: 12.520.836/0001-04 | E83: 0023-FM/2023/0046 | F83: PRESTAÇÃO DE SERVIÇO SEM MÃO DE OBRA DEDICADA | G83: 45118 | H83: 46302 | I83: SEDE-ADM-2023/00500 | J83: DNAT | K83: 2025-02 68000|2025-04 68000|2025-06 68000|2025-07 680002023-07 84089,14|2023-08 75038,38|2023-09 74978,7|2023-10 74859,34|2023-11 74829,5|2023-12 74769,82|2024-01 132505,64|2024-02 100076,78|2024-03 99977,34|2024-04 99828,18|2024-05 136637,93 | L83: 272000 | M83: 680850 | N83: 0 | O83: 612850 | P83: 68000 | Q83: =O83-P83 -> 544850 | R83: 68000 | S83: =Q83-R83 -> 476850 | T83: 68000 | U83: =S83-T83 -> 408850 | V83: 68000 | W83: =U83-V83 -> 340850 | X83: 74331.2 | Y83: 2463321.3 | Z83: =L83+N83+P83+R83+T83+V83+X83+AA83+AC83+AE83 -> 692662.4 | AA83: 0 | AB83: =Y83-AA83 -> 2463321.3 | AC83: 0 | AD83: =AB83-AC83 -> 2463321.3 | AE83: 74331.2 | AF83: =AD83-AE83 -> 2388990.1 | AG83: 121460.8 | AH83: =AF83-AG83 -> 2267529.3 | AI83: 121460.8 | AJ83: =AH83-AI83 -> 2146068.5 | AK83: 74331.2 | AL83: =AJ83-AK83 -> 2071737.3 | AM83: 74331.2 | AN83: =AL83-AM83 -> 1997406.1
B84: GLR CONSULTORIA EM SISTEMAS LTDA. | C84: ENCERRADO | D84: 62.450.028/0001-88 | E84: 0251-PS/2019/0001 | F84: PRESTAÇÃO DE SERVIÇO SEM MÃO DE OBRA DEDICADA | G84: 43675 | H84: 45964 | I84: SEDE-ADM-2021/00007 | J84: SEDE | K84: 2023-07 84089,14|2023-08 75038,38|2023-09 74978,7|2023-10 74859,34|2023-11 74829,5|2023-12 74769,82|2024-01 132505,64|2024-02 100076,78|2024-03 99977,34|2024-04 99828,18|2024-05 136637,932024-06 99629,3|2024-07 99480,14|2024-08 122267,97|2024-09 104641,43 2024-10 104719,1|2024-11 104045,96|2024-12 104356,64|2025-01 104173,54|2025-02 104123,63|2025-03 103968,29|2025-04 104020,07|2025-05 103864,73|2025-06 120384,33|2025-07 109579,37 | L84: 750113.96 | M84: 3185758.9 | N84: 120384.33 | O84: 3076179.5 | P84: 109579.37 | Q84: =O84-P84 -> 2966600.2 | R84: 109633.91 | S84: =Q84-R84 -> 2856966.3 | T84: 64938.38 | U84: =S84-T84 -> 2792027.9 | V84: 0 | W84: =U84-V84 -> 2792027.9 | X84: 153102.29 | Y84: =W84-X84 -> 2638925.6 | Z84: =L84+N84+P84+R84+T84+V84+X84+AA84+AC84+AE84 -> 1427494 | AA84: 0 | AB84: =Y84-AA84 -> 2638925.6 | AC84: 0 | AD84: =AB84-AC84 -> 2638925.6 | AE84: 119741.79 | AF84: =AD84-AE84 -> 2519183.8 | AG84: 0 | AH84: =AF84-AG84 -> 2519183.8 | AI84: 0 | AJ84: =AH84-AI84 -> 2519183.8 | AK84: 0 | AL84: =AJ84-AK84 -> 2519183.8 | AM84: 0 | AN84: =AL84-AM84 -> 2519183.8
B85: GPBR PARTICIPAÇÕES LTDA. | C85: ATIVO | D85: 15.664.649/0001-84 | E85: 0024-PS/2025/0001 | F85: PRESTAÇÃO DE SERVIÇO SEM MÃO DE OBRA DEDICADA | G85: 45756 | H85: 46852 | I85: SEDE-ADM-2025/00408 | J85: SEDE | K85: 0 | L85: 0 | M85: 834768 | N85: 69564 | O85: =M85-N85 -> 765204 | P85: 56973 | Q85: =O85-P85 -> 708231 | R85: 63269 | S85: =Q85-R85 -> 644962 | T85: 0 | U85: =S85-T85 -> 644962 | V85: 126538 | W85: =U85-V85 -> 518424 | X85: 63269 | Y85: =W85-X85 -> 455155 | Z85: =L85+N85+P85+R85+T85+V85+X85+AA85+AC85+AE85 -> 569420 | AA85: 63269 | AB85: =Y85-AA85 -> 391886 | AC85: 63269 | AD85: =AB85-AC85 -> 328617 | AE85: 63269 | AF85: 1669536 | AG85: 63269 | AH85: =AF85-AG85 -> 1606267 | AI85: 63269 | AJ85: =AH85-AI85 -> 1542998 | AK85: 63269 | AL85: =AJ85-AK85 -> 1479729 | AM85: 63269 | AN85: =AL85-AM85 -> 1416460
B86: HAWK SERVIÇOS DE CONSERVAÇÃO E LIMPEZA LTDA. | C86: ENCERRADO | D86: 28.483.805/0001-52 | E86: 0043-PS/2023/0001 | F86: PRESTAÇÃO DE SERVIÇO SEM MÃO DE OBRA DEDICADA | G86: 45230 | H86: 46142 | I86: SEDE-ADM-2023/01638 | J86: SEDE | K86: 2023-12 23775,71|2024-01 23775,71|2024-02 23775,71|2024-03 47551,42|2024-05 23775,71|2024-06 23775,71|2024-07 23775,712024-08 23775,71|2024-09 30881,57|2024-10 49920,04|2024-11 24960,02|2025-01 49920,04|2025-02 36433,58 2025-03 92303,78|2025-05 57799,8|2025-06 24564,92|2025-07 23119,92|2025-08 24564,92 | L86: 308706.96 | M86: 280355.7 | N86: 47684.84 | O86: 257235.78 | P86: 24564.92 | Q86: =O86-P86 -> 232670.86 | R86: 0 | S86: =Q86-R86 -> 232670.86 | T86: 0 | U86: =S86-T86 -> 232670.86 | V86: 0 | W86: =U86-V86 -> 232670.86 | X86: 19057.65 | Y86: =W86-X86 -> 213613.21 | Z86: =L86+N86+P86+R86+T86+V86+X86+AA86+AC86+AE86 -> 400014.37 | AA86: 0 | AB86: 0 | AC86: 0 | AD86: =AB86-AC86 -> 0 | AE86: 0 | AF86: =AD86-AE86 -> 0 | AG86: 0 | AH86: =AF86-AG86 -> 0 | AI86: 0 | AJ86: =AH86-AI86 -> 0 | AK86: 0 | AL86: =AJ86-AK86 -> 0 | AM86: 0 | AN86: =AL86-AM86 -> 0
B87: HIGICLEAN III TECNOLOGIA E LIMPEZA EIRELI | C87: ATIVO | D87: 25.128.718/0001-99 | E87: 0021-SL/2025/0049 | F87: PRESTAÇÃO DE SERVIÇO DE CONSERVAÇÃO E LIMPEZA COM MÃO DE OBRA EXCLUSIVA | G87: 45748 | H87: 46478 | I87: SEDE-ADM-2024/00750 | J87: DNAR | K87: 2025-05 23135,28|2025-06 7711,76|2025-07 7711,762024-12 19271,32|2025-02 183952 | L87: 38558.8 | M87: 61311.4 | N87: 7711.76 | O87: 53599.64 | P87: 7711.76 | Q87: =O87-P87 -> 45887.88 | R87: 7711.76 | S87: =Q87-R87 -> 38176.12 | T87: 7711.76 | U87: =S87-T87 -> 30464.36 | V87: 7711.76 | W87: =U87-V87 -> 22752.6 | X87: 15423.52 | Y87: =W87-X87 -> 7329.08 | Z87: =L87+N87+P87+R87+T87+V87+X87+AA87+AC87+AE87 -> 108806.86 | AA87: 0 | AB87: =Y87-AA87 -> 7329.08 | AC87: 7711.76 | AD87: =AB87-AC87 -> -382.68 | AE87: 8553.98 | AF87: 102647.76 | AG87: 8553.98 | AH87: =AF87-AG87 -> 94093.78 | AI87: 17818.4 | AJ87: =AH87-AI87 -> 76275.38 | AK87: 8553.98 | AL87: =AJ87-AK87 -> 67721.4 | AM87: 8553.98 | AN87: =AL87-AM87 -> 59167.42
B88: HOBECO SUDAMERICANA LTDA. | C88: ENCERRADO | D88: 03.548.170/0001-01 | E88: 0016-FM/2023/0001 | F88: PRESTAÇÃO DE SERVIÇO SEM MÃO DE OBRA DEDICADA | G88: 45055 | H88: 45786 | I88: SEDE-ADM-2022/01320 | J88: SEDE | K88: 2024-12 19271,32|2025-02 1839522023-12 2115,62|2024-01 4533,48|2024-02 4533,48|2024-03 4533,48|2024-04 4533,48|2024-05 4533,48|2024-06 4533,48|2024-07 4533,48|2024-08 4533,48|2024-09 4533,48|2024-10 4533,48|2024-11 4533,48|2024-12 4533,48|2025-01 4533,48|2025-02 4533,48|2025-03 4533,48|2025-04 4533,48|2025-05 4533,48|2025-06 4533,48 | L88: 0 | M88: 0 | N88: 0 | O88: 0 | P88: 0 | Q88: =O88-P88 -> 0 | R88: 0 | S88: =Q88-R88 -> 0 | T88: 0 | U88: =S88-T88 -> 0 | V88: 0 | W88: =U88-V88 -> 0 | X88: 0 | Y88: =W88-X88 -> 0 | Z88: =L88+N88+P88+R88+T88+V88+X88+AA88+AC88+AE88 -> 0 | AA88: 0 | AB88: 0 | AC88: 0 | AD88: =AB88-AC88 -> 0 | AE88: 0 | AF88: =AD88-AE88 -> 0 | AG88: 0 | AH88: =AF88-AG88 -> 0 | AI88: 0 | AJ88: =AH88-AI88 -> 0 | AK88: 0 | AL88: =AJ88-AK88 -> 0 | AM88: 0 | AN88: =AL88-AM88 -> 0
B89: HOBECO SUDAMERICANA LTDA. | C89: ENCERRADO | D89: 03.548.170/0001-01 | E89: 0022-FM/2023/0001 | F89: PRESTAÇÃO DE SERVIÇO SEM MÃO DE OBRA DEDICADA | G89: 45104 | H89: 45469 | I89: SEDE-ADM-2023/00309 | J89: DNVT/ DNUL/ DNLO/ DNAT | K89: 2024-12 19271,32|2025-02 1839522023-12 2115,62|2024-01 4533,48|2024-02 4533,48|2024-03 4533,48|2024-04 4533,48|2024-05 4533,48|2024-06 4533,48|2024-07 4533,48|2024-08 4533,48|2024-09 4533,48|2024-10 4533,48|2024-11 4533,48|2024-12 4533,48|2025-01 4533,48|2025-02 4533,48|2025-03 4533,48|2025-04 4533,48|2025-05 4533,48|2025-06 4533,48 | L89: 0 | M89: 0 | N89: 0 | O89: 0 | P89: 0 | Q89: =O89-P89 -> 0 | R89: 0 | S89: =Q89-R89 -> 0 | T89: 0 | U89: =S89-T89 -> 0 | V89: 0 | W89: =U89-V89 -> 0 | X89: 0 | Y89: =W89-X89 -> 0 | Z89: =L89+N89+P89+R89+T89+V89+X89+AA89+AC89+AE89 -> 0 | AA89: 0 | AB89: 0 | AC89: 0 | AD89: =AB89-AC89 -> 0 | AE89: 0 | AF89: =AD89-AE89 -> 0 | AG89: 0 | AH89: =AF89-AG89 -> 0 | AI89: 0 | AJ89: =AH89-AI89 -> 0 | AK89: 0 | AL89: =AJ89-AK89 -> 0 | AM89: 0 | AN89: =AL89-AM89 -> 0
B90: HOBECO SUDAMERICANA LTDA. | C90: ENCERRADO | D90: 03.548.170/0001-01 | E90: 0031-FM/2023/0001 | F90: PRESTAÇÃO DE SERVIÇO SEM MÃO DE OBRA DEDICADA | G90: 45156 | H90: 45522 | I90: SEDE-ADM-2023/00998 | J90: SEDE | K90: 2024-12 19271,32|2025-02 1839522023-12 2115,62|2024-01 4533,48|2024-02 4533,48|2024-03 4533,48|2024-04 4533,48|2024-05 4533,48|2024-06 4533,48|2024-07 4533,48|2024-08 4533,48|2024-09 4533,48|2024-10 4533,48|2024-11 4533,48|2024-12 4533,48|2025-01 4533,48|2025-02 4533,48|2025-03 4533,48|2025-04 4533,48|2025-05 4533,48|2025-06 4533,48 | L90: 0 | M90: 0 | N90: 0 | O90: 0 | P90: 0 | Q90: =O90-P90 -> 0 | R90: 0 | S90: =Q90-R90 -> 0 | T90: 0 | U90: =S90-T90 -> 0 | V90: 0 | W90: =U90-V90 -> 0 | X90: 0 | Y90: =W90-X90 -> 0 | Z90: =L90+N90+P90+R90+T90+V90+X90+AA90+AC90+AE90 -> 0 | AA90: 0 | AB90: 0 | AC90: 0 | AD90: =AB90-AC90 -> 0 | AE90: 0 | AF90: =AD90-AE90 -> 0 | AG90: 0 | AH90: =AF90-AG90 -> 0 | AI90: 0 | AJ90: =AH90-AI90 -> 0 | AK90: 0 | AL90: =AJ90-AK90 -> 0 | AM90: 0 | AN90: =AL90-AM90 -> 0
B91: HOBECO SUDAMERICANA LTDA. | C91: ATIVO | D91: 03.548.170/0001-01 | E91: 0019-FM/2024/0001 | F91: PRESTAÇÃO DE SERVIÇO SEM MÃO DE OBRA DEDICADA | G91: 45497 | H91: 46281 | I91: SEDE-ADM-2023/01695.01 | J91: DNKP | K91: 2024-12 19271,32|2025-02 1839522023-12 2115,62|2024-01 4533,48|2024-02 4533,48|2024-03 4533,48|2024-04 4533,48|2024-05 4533,48|2024-06 4533,48|2024-07 4533,48|2024-08 4533,48|2024-09 4533,48|2024-10 4533,48|2024-11 4533,48|2024-12 4533,48|2025-01 4533,48|2025-02 4533,48|2025-03 4533,48|2025-04 4533,48|2025-05 4533,48|2025-06 4533,48 | L91: 3336327.5 | M91: 0 | N91: 0 | O91: 5499744.6 | P91: 0 | Q91: =O91-P91 -> 5499744.6 | R91: 0 | S91: =Q91-R91 -> 5499744.6 | T91: 0 | U91: =S91-T91 -> 5499744.6 | V91: 0 | W91: 5642307.5 | X91: 0 | Y91: =W91-X91 -> 5642307.5 | Z91: =L91+N91+P91+R91+T91+V91+X91+AA91+AC91+AE91 -> 5269944.9 | AA91: 0 | AB91: =Y91-AA91 -> 5642307.5 | AC91: 0 | AD91: =AB91-AC91 -> 5642307.5 | AE91: 1933617.3 | AF91: =AD91-AE91 -> 3708690.2 | AG91: 0 | AH91: 5642307.5 | AI91: 0 | AJ91: =AH91-AI91 -> 5642307.5 | AK91: 0 | AL91: =AJ91-AK91 -> 5642307.5 | AM91: 0 | AN91: =AL91-AM91 -> 5642307.5
B92: HOBECO SUDAMERICANA LTDA. | C92: ATIVO | D92: 03.548.170/0001-01 | E92: 0020-FM/2024/0001 | F92: PRESTAÇÃO DE SERVIÇO SEM MÃO DE OBRA DEDICADA | G92: 45497 | H92: 46281 | I92: SEDE-ADM-2023/01695.02 | J92: DNUR, DNGO, DNMQ, DNJR, DNME | K92: 2024-12 19271,32|2025-02 1839522023-12 2115,62|2024-01 4533,48|2024-02 4533,48|2024-03 4533,48|2024-04 4533,48|2024-05 4533,48|2024-06 4533,48|2024-07 4533,48|2024-08 4533,48|2024-09 4533,48|2024-10 4533,48|2024-11 4533,48|2024-12 4533,48|2025-01 4533,48|2025-02 4533,48|2025-03 4533,48|2025-04 4533,48|2025-05 4533,48|2025-06 4533,48 | L92: 3539054.6 | M92: -3413477.8 | N92: 0 | O92: -3413477.8 | P92: 0 | Q92: =O92-P92 -> -3413477.8 | R92: 0 | S92: =Q92-R92 -> -3413477.8 | T92: 0 | U92: 3292019.8 | V92: 0 | W92: =U92-V92 -> 3292019.8 | X92: 0 | Y92: =W92-X92 -> 3292019.8 | Z92: =L92+N92+P92+R92+T92+V92+X92+AA92+AC92+AE92 -> 4278492.2 | AA92: 492314.6 | AB92: =Y92-AA92 -> 2799705.2 | AC92: 0 | AD92: =AB92-AC92 -> 2799705.2 | AE92: 247123 | AF92: =AD92-AE92 -> 2552582.2 | AG92: 0 | AH92: 15591076 | AI92: 0 | AJ92: =AH92-AI92 -> 15591076 | AK92: 0 | AL92: =AJ92-AK92 -> 15591076 | AM92: 0 | AN92: =AL92-AM92 -> 15591076
B93: HOBECO SUDAMERICANA LTDA. | C93: ENCERRADO | D93: 03.548.170/0001-01 | E93: 0025-FM/2024/0001 | F93: PRESTAÇÃO DE SERVIÇO SEM MÃO DE OBRA DEDICADA | G93: 45538 | H93: 46145 | I93: SEDE-ADM-2023/01695.03 | J93: DNCZ | K93: 2024-12 19271,32|2025-02 1839522023-12 2115,62|2024-01 4533,48|2024-02 4533,48|2024-03 4533,48|2024-04 4533,48|2024-05 4533,48|2024-06 4533,48|2024-07 4533,48|2024-08 4533,48|2024-09 4533,48|2024-10 4533,48|2024-11 4533,48|2024-12 4533,48|2025-01 4533,48|2025-02 4533,48|2025-03 4533,48|2025-04 4533,48|2025-05 4533,48|2025-06 4533,48 | L93: 183952 | M93: 166776.68 | N93: 0 | O93: 166776.68 | P93: 0 | Q93: 370000 | R93: 149865.1 | S93: =Q93-R93 -> 220134.9 | T93: 0 | U93: =S93-T93 -> 220134.9 | V93: 0 | W93: 232821.04 | X93: 0 | Y93: =W93-X93 -> 232821.04 | Z93: =L93+N93+P93+R93+T93+V93+X93+AA93+AC93+AE93 -> 344594.2 | AA93: 10777.1 | AB93: =Y93-AA93 -> 222043.94 | AC93: 0 | AD93: =AB93-AC93 -> 222043.94 | AE93: 0 | AF93: =AD93-AE93 -> 222043.94 | AG93: 0 | AH93: =AF93-AG93 -> 222043.94 | AI93: 28456.28 | AJ93: =AH93-AI93 -> 193587.66 | AK93: 0 | AL93: =AJ93-AK93 -> 193587.66 | AM93: 0 | AN93: =AL93-AM93 -> 193587.66
B94: HOBECO SUDAMERICANA LTDA. | C94: ENCERRADO | D94: 03.548.170/0001-01 | E94: 0013-FM/2024/0001 | F94: PRESTAÇÃO DE SERVIÇO SEM MÃO DE OBRA DEDICADA | G94: 44999 | H94: 45730 | I94: SEDE-ADM-2024/00157 | J94: DNLO, DNVT, DNUL, DNAT | K94: 2024-12 19271,32|2025-02 1839522023-12 2115,62|2024-01 4533,48|2024-02 4533,48|2024-03 4533,48|2024-04 4533,48|2024-05 4533,48|2024-06 4533,48|2024-07 4533,48|2024-08 4533,48|2024-09 4533,48|2024-10 4533,48|2024-11 4533,48|2024-12 4533,48|2025-01 4533,48|2025-02 4533,48|2025-03 4533,48|2025-04 4533,48|2025-05 4533,48|2025-06 4533,48 | L94: 0 | M94: 0 | N94: 0 | O94: 0 | P94: 0 | Q94: =O94-P94 -> 0 | R94: 0 | S94: =Q94-R94 -> 0 | T94: 0 | U94: =S94-T94 -> 0 | V94: 0 | W94: =U94-V94 -> 0 | X94: 0 | Y94: =W94-X94 -> 0 | Z94: =L94+N94+P94+R94+T94+V94+X94+AA94+AC94+AE94 -> 0 | AA94: 0 | AB94: 0 | AC94: 0 | AD94: =AB94-AC94 -> 0 | AE94: 0 | AF94: =AD94-AE94 -> 0 | AG94: 0 | AH94: =AF94-AG94 -> 0 | AI94: 0 | AJ94: =AH94-AI94 -> 0 | AK94: 0 | AL94: =AJ94-AK94 -> 0 | AM94: 0 | AN94: =AL94-AM94 -> 0
B95: HOBECO SUDAMERICANA LTDA. | C95: ATIVO | D95: 03.548.170/0001-01 | E95: 0048-FM/2025/0001 | F95: CONTRATO DE AQUISIÇÃO | G95: 45856 | H95: 46770 | I95: SEDE-ADM-2025/00643 | J95: DNAT, DNLO, DNUL E DNVT | K95: 2024-12 19271,32|2025-02 1839522023-12 2115,62|2024-01 4533,48|2024-02 4533,48|2024-03 4533,48|2024-04 4533,48|2024-05 4533,48|2024-06 4533,48|2024-07 4533,48|2024-08 4533,48|2024-09 4533,48|2024-10 4533,48|2024-11 4533,48|2024-12 4533,48|2025-01 4533,48|2025-02 4533,48|2025-03 4533,48|2025-04 4533,48|2025-05 4533,48|2025-06 4533,48 | L95: 0 | M95: 0 | N95: 0 | O95: 12442878 | P95: 0 | Q95: =O95-P95 -> 12442878 | R95: 0 | S95: =Q95-R95 -> 12442878 | T95: 0 | U95: =S95-T95 -> 12442878 | V95: 0 | W95: =U95-V95 -> 12442878 | X95: 0 | Y95: =W95-X95 -> 12442878 | Z95: =L95+N95+P95+R95+T95+V95+X95+AA95+AC95+AE95 -> 0 | AA95: 0 | AB95: =Y95-AA95 -> 12442878 | AC95: 0 | AD95: =AB95-AC95 -> 12442878 | AE95: 0 | AF95: =AD95-AE95 -> 12442878 | AG95: 0 | AH95: =AF95-AG95 -> 12442878 | AI95: 0 | AJ95: =AH95-AI95 -> 12442878 | AK95: 0 | AL95: =AJ95-AK95 -> 12442878 | AM95: 0 | AN95: =AL95-AM95 -> 12442878
B96: HOBECO SUDAMERICANA LTDA. | C96: ATIVO | D96: 03.548.170/0001-01 | E96: 0063-FM/2025/0001 | F96: CONTRATO DE AQUISIÇÃO | G96: 45946 | H96: 46859 | I96: SD-ADM-2025/01347 | J96: DNAT/ DNLO/ DNUL/ DNVT | K96: 0 | L96: 0 | M96: 0 | N96: 0 | O96: 0 | P96: 0 | Q96: =O96-P96 -> 0 | R96: 0 | S96: =Q96-R96 -> 0 | T96: 0 | U96: 662400 | V96: 0 | W96: =U96-V96 -> 662400 | X96: 220800 | Y96: =W96-X96 -> 441600 | Z96: =L96+N96+P96+R96+T96+V96+X96+AA96+AC96+AE96 -> 220800 | AA96: 0 | AB96: =Y96-AA96 -> 441600 | AC96: 0 | AD96: =AB96-AC96 -> 441600 | AE96: 0 | AF96: =AD96-AE96 -> 441600 | AG96: 0 | AH96: =AF96-AG96 -> 441600 | AI96: 0 | AJ96: =AH96-AI96 -> 441600 | AK96: 0 | AL96: =AJ96-AK96 -> 441600 | AM96: 0 | AN96: =AL96-AM96 -> 441600
B97: HOBECO SUDAMERICANA LTDA. | C97: ENCERRADO | D97: 03.548.170/0001-01 | E97: 0008-FM/2022/0001 | F97: PRESTAÇÃO DE SERVIÇO SEM MÃO DE OBRA DEDICADA | G97: 44810 | H97: 44990 | I97: SEDE-ADM-2022/00760 | J97: DNAT, DNUL, DNLO e DNVT | K97: 2024-12 19271,32|2025-02 1839522023-12 2115,62|2024-01 4533,48|2024-02 4533,48|2024-03 4533,48|2024-04 4533,48|2024-05 4533,48|2024-06 4533,48|2024-07 4533,48|2024-08 4533,48|2024-09 4533,48|2024-10 4533,48|2024-11 4533,48|2024-12 4533,48|2025-01 4533,48|2025-02 4533,48|2025-03 4533,48|2025-04 4533,48|2025-05 4533,48|2025-06 4533,48 | L97: 0 | M97: 0 | N97: 0 | O97: 0 | P97: 0 | Q97: =O97-P97 -> 0 | R97: 0 | S97: =Q97-R97 -> 0 | T97: 0 | U97: =S97-T97 -> 0 | V97: 0 | W97: =U97-V97 -> 0 | X97: 0 | Y97: =W97-X97 -> 0 | Z97: =L97+N97+P97+R97+T97+V97+X97+AA97+AC97+AE97 -> 0 | AA97: 0 | AB97: 0 | AC97: 0 | AD97: =AB97-AC97 -> 0 | AE97: 0 | AF97: =AD97-AE97 -> 0 | AG97: 0 | AH97: =AF97-AG97 -> 0 | AI97: 0 | AJ97: =AH97-AI97 -> 0 | AK97: 0 | AL97: =AJ97-AK97 -> 0 | AM97: 0 | AN97: =AL97-AM97 -> 0
B98: HORUS SERVIÇOS E CONSULTORIA LTDA. | C98: ATIVO | D98: 22.480.059/0001-67 | E98: 0042-SL/2023/0015 | F98: PRESTAÇÃO DE SERVIÇO DE CONSERVAÇÃO E LIMPEZA COM MÃO DE OBRA EXCLUSIVA | G98: 45225 | H98: 47052 | I98: SEDE-ADM-2023/01468 | J98: DNIZ | K98: 2023-12 2115,62|2024-01 4533,48|2024-02 4533,48|2024-03 4533,48|2024-04 4533,48|2024-05 4533,48|2024-06 4533,48|2024-07 4533,48|2024-08 4533,48|2024-09 4533,48|2024-10 4533,48|2024-11 4533,48|2024-12 4533,48|2025-01 4533,48|2025-02 4533,48|2025-03 4533,48|2025-04 4533,48|2025-05 4533,48|2025-06 4533,482025-07 4.621,37 | L98: 31822.25 | M98: 52286.41 | N98: 4621.37 | O98: 50469.14 | P98: 4621.37 | Q98: =O98-P98 -> 45847.77 | R98: 6473.62 | S98: =Q98-R98 -> 39374.15 | T98: 4621.37 | U98: =S98-T98 -> 34752.78 | V98: 4621.37 | W98: =U98-V98 -> 30131.41 | X98: 4621.37 | Y98: =W98-X98 -> 25510.04 | Z98: =L98+N98+P98+R98+T98+V98+X98+AA98+AC98+AE98 -> 75266.83 | AA98: 4621.37 | AB98: =Y98-AA98 -> 20888.67 | AC98: 4621.37 | AD98: =AB98-AC98 -> 16267.3 | AE98: 4621.37 | AF98: =AD98-AE98 -> 11645.93 | AG98: 4621.37 | AH98: 277449.87 | AI98: 4621.37 | AJ98: 277449.87 | AK98: 4621.37 | AL98: =AJ98-AK98 -> 272828.5 | AM98: 4621.37 | AN98: 277449.87
B99: IACIT SOLUÇÕES TECNOLÓGICAS S.A. | C99: ATIVO | D99: 56.035.876/0001-28 | E99: 0070-FM/2025/0001 | F99: CONTRATO DE AQUISIÇÃO | G99: 45996 | H99: 46482 | I99: SD-ADM-2025/01692 | J99: DNME | K99: 0 | L99: 0 | M99: 0 | N99: 0 | O99: 0 | P99: 0 | Q99: =O99-P99 -> 0 | R99: 0 | S99: =Q99-R99 -> 0 | T99: 0 | U99: =S99-T99 -> 0 | V99: 0 | W99: =U99-V99 -> 0 | X99: 0 | Y99: 4099613.4 | Z99: =L99+N99+P99+R99+T99+V99+X99+AA99+AC99+AE99 -> 0 | AA99: 0 | AB99: =Y99-AA99 -> 4099613.4 | AC99: 0 | AD99: =AB99-AC99 -> 4099613.4 | AE99: 0 | AF99: =AD99-AE99 -> 4099613.4 | AG99: 89500.93 | AH99: =AF99-AG99 -> 4010112.5 | AI99: 0 | AJ99: =AH99-AI99 -> 4010112.5 | AK99: 0 | AL99: =AJ99-AK99 -> 4010112.5 | AM99: 689913.86 | AN99: =AL99-AM99 -> 3320198.6
B100: IC SUPPLY ENGENHARIA LTDA. | C100: ENCERRADO | D100: 32.596.173/0001-00 | E100: 0068-ML/2021/0062 | F100: PRESTAÇÃO DE SERVIÇO SEM MÃO DE OBRA DEDICADA | G100: 44341 | H100: 46166 | I100: SEDE-ADM-2022/00151 | J100: DNRJ | K100: 2023-12 12869,43|2024-01 8983,46|2024-02 9553,17|2024-03 10005,28|2024-04 9955,68|2024-05 14599,44|2024-06 11581,64|2024-07 15599,41|2024-08 12114,51|2024-09 14511,82|2024-10 11499,2|2024-11 14649,91|2024-12 11261,16|2025-01 13375,27|2025-02 14955,71|2025-03 12201,32|2025-04 16605,53|2025-05 11211,682025-06 15646,72|2025-07 11131,75 | L100: 95127.98 | M100: 284730.54 | N100: 15646.72 | O100: 273598.79 | P100: 11131.75 | Q100: =O100-P100 -> 262467.04 | R100: 11131.75 | S100: =Q100-R100 -> 251335.29 | T100: 16852.82 | U100: =S100-T100 -> 234482.47 | V100: 26849.58 | W100: =U100-V100 -> 207632.89 | X100: 11145.11 | Y100: =W100-X100 -> 196487.78 | Z100: =L100+N100+P100+R100+T100+V100+X100+AA100+AC100+AE100 -> 224891.03 | AA100: 11131.75 | AB100: =Y100-AA100 -> 185356.03 | AC100: 11289.21 | AD100: =AB100-AC100 -> 174066.82 | AE100: 14584.36 | AF100: 300377.26 | AG100: 11131.75 | AH100: =AF100-AG100 -> 289245.51 | AI100: 11131.75 | AJ100: =AH100-AI100 -> 278113.76 | AK100: 11131.75 | AL100: =AJ100-AK100 -> 266982.01 | AM100: 12603.75 | AN100: =AL100-AM100 -> 254378.26
B101: IKAROS SERVICOS DE SEGURANCA LTDA. | C101: ENCERRADO | D101: 06.001.216/0002-39 | E101: 0004-SV/2023/0037 | F101: PRESTAÇÃO DE SERVIÇO DE VIGILÂNCIA COM MÃO DE OBRA EXCLUSIVA | G101: 44993 | H101: 45908 | I101: SEDE-ADM-2022/01424 | J101: DNKP | K101: 2023-06 24906,97|2023-07 49813,94|2023-08 24906,972022-06 2298,63|2022-07 7264,04|2022-08 1673,56|2022-09 4125,52|2022-10 2296,28|2022-11 2413,04|2022-12 3541,72|2023-01 4125,52|2023-02 4475,8|2023-03 5487,72|2023-04 3147,04|2023-05 6071,52|2023-06 6538,56|2023-07 4787,16|2023-08 5409,88|2023-09 8212,12|2023-10 5020,68|2023-11 5370,96|2023-12 4592,56|2024-01 6343,96|2024-02 2529,8|2024-03 5954,76|2024-04 4125,52|2024-05 3191,44|2024-06 1712,48|2024-07 9146,2|2024-08 4320,12|2024-09 2919|2024-10 2101,68|2024-11 2919|2024-12 4514,72|2025-01 3853,08|2025-02 3152,52|2025-03 3308,2|2025-04 3799,56|2025-05 6997,88|2025-06 5760,45|2025-07 10795,51 | 2025-08 5973,80 | L101: 1558.96 | M101: 647581.22 | N101: 0 | O101: =M101-N101 -> 647581.22 | P101: 0 | Q101: =O101-P101 -> 647581.22 | R101: 0 | S101: =Q101-R101 -> 647581.22 | T101: 0 | U101: =S101-T101 -> 647581.22 | V101: 0 | W101: =U101-V101 -> 647581.22 | X101: 0 | Y101: =W101-X101 -> 647581.22 | Z101: =L101+N101+P101+R101+T101+V101+X101+AA101+AC101+AE101 -> 1558.96 | AA101: 0 | AB101: 0 | AC101: 0 | AD101: =AB101-AC101 -> 0 | AE101: 0 | AF101: =AD101-AE101 -> 0 | AG101: 0 | AH101: =AF101-AG101 -> 0 | AI101: 0 | AJ101: =AH101-AI101 -> 0 | AK101: 0 | AL101: =AJ101-AK101 -> 0 | AM101: 0 | AN101: =AL101-AM101 -> 0
B102: IMPRENSA NACIONAL | C102: ATIVO | D102: 04.196.645/0001-00 | E102: 0005-PS/2022/0001 | F102: PRESTAÇÃO DE SERVIÇO SEM MÃO DE OBRA DEDICADA | G102: 44715 | H102: 46540 | I102: SEDE-ADM-2022/00320 | J102: SEDE | K102: 2022-06 2298,63|2022-07 7264,04|2022-08 1673,56|2022-09 4125,52|2022-10 2296,28|2022-11 2413,04|2022-12 3541,72|2023-01 4125,52|2023-02 4475,8|2023-03 5487,72|2023-04 3147,04|2023-05 6071,52|2023-06 6538,56|2023-07 4787,16|2023-08 5409,88|2023-09 8212,12|2023-10 5020,68|2023-11 5370,96|2023-12 4592,56|2024-01 6343,96|2024-02 2529,8|2024-03 5954,76|2024-04 4125,52|2024-05 3191,44|2024-06 1712,48|2024-07 9146,2|2024-08 4320,12|2024-09 2919|2024-10 2101,68|2024-11 2919|2024-12 4514,72|2025-01 3853,08|2025-02 3152,52|2025-03 3308,2|2025-04 3799,56|2025-05 6997,88|2025-06 5760,45|2025-07 10795,51 | 2025-08 5973,802024-10 403.408,37 | L102: 37667.2 | M102: 93606.42 | N102: 12502.31 | O102: 82810.91 | P102: 5973.8 | Q102: =O102-P102 -> 76837.11 | R102: 3072.24 | S102: =Q102-R102 -> 73764.87 | T102: 6955.21 | U102: =S102-T102 -> 66809.66 | V102: 1408.11 | W102: =U102-V102 -> 65401.55 | X102: 2560.2 | Y102: =W102-X102 -> 62841.35 | Z102: =L102+N102+P102+R102+T102+V102+X102+AA102+AC102+AE102 -> 81277.64 | AA102: 5205.74 | AB102: =Y102-AA102 -> 57635.61 | AC102: 2133.5 | AD102: =AB102-AC102 -> 55502.11 | AE102: 3799.33 | AF102: =AD102-AE102 -> 51702.78 | AG102: 6956.4 | AH102: =AF102-AG102 -> 44746.38 | AI102: 4667.52 | AJ102: =AH102-AI102 -> 40078.86 | AK102: =1166.88+179.52 -> 1346.4 | AL102: =AJ102-AK102 -> 38732.46 | AM102: =538.56+718.08+807.84+224.4+897.6+583.44+538.56 -> 4308.48 | AN102: =AL102-AM102 -> 34423.98
B103: INFRAERO | C103: ENCERRADO | D103: 00.352.294/0001-10 | E103: 0026-PS/2023/0001 | F103: N/A | G103: 45138 | H103: 45596 | I103: SEDE-ADM-2023/01210 | J103: SEDE | K103: 2024-10 403.408,37 2025-02 1738847,42|2025-03 1675904,18|2025-04 1812176,33|2025-05 1742521,47|2025-06 1659412,52 | L103: 10271470 | M103: 28805956 | N103: 0 | O103: =M103-N103 -> 28805956 | P103: 0 | Q103: =O103-P103 -> 28805956 | R103: 0 | S103: =Q103-R103 -> 28805956 | T103: 0 | U103: =S103-T103 -> 28805956 | V103: 0 | W103: =U103-V103 -> 28805956 | X103: 0 | Y103: =W103-X103 -> 28805956 | Z103: =L103+N103+P103+R103+T103+V103+X103+AA103+AC103+AE103 -> 10271470 | AA103: 0 | AB103: 0 | AC103: 0 | AD103: =AB103-AC103 -> 0 | AE103: 0 | AF103: =AD103-AE103 -> 0 | AG103: 0 | AH103: =AF103-AG103 -> 0 | AI103: 0 | AJ103: =AH103-AI103 -> 0 | AK103: 0 | AL103: =AJ103-AK103 -> 0 | AM103: 0 | AN103: =AL103-AM103 -> 0
B104: INFRAERO | C104: ENCERRADO | D104: 00.352.294/0001-10 | E104: 0001-PS/2022/0110 | F104: N/A | G104: 44575 | H104: 45107 | I104: SEDE-ADM-2021/00072 | J104: SEDE | K104: 2023-09 | 3867354,59 2023-11 | 5370870,01 2023-12 | 6760728,47 2024-01 | 4166511,08 2024-03 | 4089576,27 2024-04 | 8161896,69 2024-05 | 1410309,6 2024-06 | 5236536,69 2024-07 | 1858878,31 2024-08 | 1660429,17 2024-09 | 1657669,31 2024-10 | 1689059,15 2024-11 | 1807614,97 2024-12 | 1617345,73 2025-01 | 1642607,92 2025-02 | 1738847,42 2025-03 | 1675904,18 2025-04 | 1812176,33 2025-05 | 1742521,47 2025-06 | 1659412,52 | L104: 0 | M104: 2446278.2 | N104: 0 | O104: 2446278.2 | P104: 0 | Q104: =O104-P104 -> 2446278.2 | R104: 0 | S104: =Q104-R104 -> 2446278.2 | T104: 0 | U104: =S104-T104 -> 2446278.2 | V104: 0 | W104: =U104-V104 -> 2446278.2 | X104: 0 | Y104: =W104-X104 -> 2446278.2 | Z104: =L104+N104+P104+R104+T104+V104+X104+AA104+AC104+AE104 -> 0 | AA104: 0 | AB104: 0 | AC104: 0 | AD104: =AB104-AC104 -> 0 | AE104: 0 | AF104: =AD104-AE104 -> 0 | AG104: 0 | AH104: =AF104-AG104 -> 0 | AI104: 0 | AJ104: =AH104-AI104 -> 0 | AK104: 0 | AL104: =AJ104-AK104 -> 0 | AM104: 0 | AN104: =AL104-AM104 -> 0
B105: INSTITUTO DE PROMOÇÃO HUMANA, APRENDIZAGEM E CULTURA - IPHAC | C105: ATIVO | D105: 11.595.331/0001-38 | E105: 0026-PS/2025/0001 | F105: PRESTAÇÃO DE SERVIÇO SEM MÃO DE OBRA DEDICADA | G105: 45786 | H105: 46700 | I105: SEDE-ADM-2025/00536 | J105: DNVT | K105: 0 | L105: 0 | M105: 152145 | N105: 0 | O105: =M105-N105 -> 152145 | P105: 0 | Q105: =O105-P105 -> 152145 | R105: 0 | S105: =Q105-R105 -> 152145 | T105: 0 | U105: =S105-T105 -> 152145 | V105: 0 | W105: =U105-V105 -> 152145 | X105: 0 | Y105: =W105-X105 -> 152145 | Z105: =L105+N105+P105+R105+T105+V105+X105+AA105+AC105+AE105 -> 0 | AA105: 0 | AB105: =Y105-AA105 -> 152145 | AC105: 0 | AD105: =AB105-AC105 -> 152145 | AE105: 0 | AF105: =AD105-AE105 -> 152145 | AG105: 0 | AH105: =AF105-AG105 -> 152145 | AI105: 0 | AJ105: =AH105-AI105 -> 152145 | AK105: 0 | AL105: =AJ105-AK105 -> 152145 | AM105: 0 | AN105: =AL105-AM105 -> 152145
B106: INSTITUTO DE PROMOÇÃO HUMANA, APRENDIZAGEM E CULTURA - IPHAC | C106: ATIVO | D106: 11.595.331/0001-38 | E106: 0027-PS/2025/0001 | F106: PRESTAÇÃO DE SERVIÇO SEM MÃO DE OBRA DEDICADA | G106: 45786 | H106: 46700 | I106: SEDE-ADM-2025/00539 | J106: DNGO | K106: 0 | L106: 0 | M106: 100096.2 | N106: 0 | O106: =M106-N106 -> 100096.2 | P106: 0 | Q106: =O106-P106 -> 100096.2 | R106: 0 | S106: =Q106-R106 -> 100096.2 | T106: 0 | U106: =S106-T106 -> 100096.2 | V106: 2001.92 | W106: =U106-V106 -> 98094.28 | X106: 3336.54 | Y106: =W106-X106 -> 94757.74 | Z106: =L106+N106+P106+R106+T106+V106+X106+AA106+AC106+AE106 -> 11955.93 | AA106: 0 | AB106: =Y106-AA106 -> 94757.74 | AC106: 3336.54 | AD106: =AB106-AC106 -> 91421.2 | AE106: 3280.93 | AF106: =AD106-AE106 -> 88140.27 | AG106: 3392.15 | AH106: =AF106-AG106 -> 84748.12 | AI106: 3392.15 | AJ106: =AH106-AI106 -> 81355.97 | AK106: 3058.5 | AL106: =AJ106-AK106 -> 78297.47 | AM106: =3336.64+664.65 -> 4001.29 | AN106: =AL106-AM106 -> 74296.18
B107: INSTITUTO DOS AUDITORES INTERNOS DO BRASIL | C107: ATIVO | D107: 62.070.115/0001-00 | E107: 0028-ST/2025/0001 | F107: PRESTAÇÃO DE SERVIÇO SEM MÃO DE OBRA DEDICADA | G107: 45839 | H107: 46204 | I107: SEDE-ADM-2025/00437 | J107: SEDE | K107: 0 | L107: 0 | M107: 0 | N107: 0 | O107: 33825 | P107: 0 | Q107: =O107-P107 -> 33825 | R107: 0 | S107: =Q107-R107 -> 33825 | T107: 8325 | U107: =S107-T107 -> 25500 | V107: 17325 | W107: =U107-V107 -> 8175 | X107: 0 | Y107: =W107-X107 -> 8175 | Z107: =L107+N107+P107+R107+T107+V107+X107+AA107+AC107+AE107 -> 25650 | AA107: 0 | AB107: =Y107-AA107 -> 8175 | AC107: 0 | AD107: =AB107-AC107 -> 8175 | AE107: 0 | AF107: =AD107-AE107 -> 8175 | AG107: 0 | AH107: =AF107-AG107 -> 8175 | AI107: 0 | AJ107: =AH107-AI107 -> 8175 | AK107: 9000 | AL107: =AJ107-AK107 -> -825 | AM107: 0 | AN107: =AL107-AM107 -> -825
...

Sheet Sheet1
B2: 7C SEGURANÇA E VIGILÂNCIA LTDA. | C2: 0003-SV/2026/0036 | D2: =VLOOKUP(C2,'Execução Financeira'!E:AM,36,0) -> #REF! | E2: 0 | F2: 0 | G2: =IF(D2=F2,"ok","verificar") -> #REF!
B3: A. BORGES NETO & CIA. LTDA. | C3: 0040-TG-2023/0044 | D3: =VLOOKUP(C3,'Execução Financeira'!E:AM,36,0) -> #REF! | E3: 20912.2 | F3: 20921.2 | G3: =IF(D3=F3,"ok","verificar") -> #REF!
B4: AIR LIQUIDE BRASIL LTDA. | C4: 0009-FM/2025/0042 | D4: =VLOOKUP(C4,'Execução Financeira'!E:AM,36,0) -> #REF! | E4: 16200 | F4: 16200 | G4: =IF(D4=F4,"ok","verificar") -> #REF!
B5: ALELO INSTITUIÇÃO DE PAGAMENTO S.A. | C5: 6004-PS/2025/0001 | D5: =VLOOKUP(C5,'Execução Financeira'!E:AM,36,0) -> #REF! | E5: 84463.18 | F5: 84463.18 | G5: =IF(D5=F5,"ok","verificar") -> #REF!
B6: B CARVALHO LTDA. | C6: 0018-SL/2024/0019 | D6: =VLOOKUP(C6,'Execução Financeira'!E:AM,36,0) -> #REF! | E6: 9604.12 | F6: 9604.12 | G6: =IF(D6=F6,"ok","verificar") -> #REF!
B7: BAZZANEZE AUDITORES INDEPENDENTES S/S | C7: 0016-AE/2022/0001 | D7: =VLOOKUP(C7,'Execução Financeira'!E:AM,36,0) -> #REF! | E7: 16414.52 | F7: 16414.52 | G7: =IF(D7=F7,"ok","verificar") -> #REF!
B8: BIQ BENEFÍCIOS LTDA. | C8: 6005-PS/2025/0001 | D8: =VLOOKUP(C8,'Execução Financeira'!E:AM,36,0) -> #REF! | E8: 0 | F8: 0 | G8: =IF(D8=F8,"ok","verificar") -> #REF!
B9: BRASIL TECPAR SERVIÇOS DE TELECOMUNICAÇÕES S.A | C9: 0002-PS/2024/0001 | D9: =VLOOKUP(C9,'Execução Financeira'!E:AM,36,0) -> #REF! | E9: 82485.26 | F9: 82485.26 | G9: =IF(D9=F9,"ok","verificar") -> #REF!
B10: BRASILSEG COMPANHIA DE SEGUROS | C10: 0008-SS/2023/0001 | D10: =VLOOKUP(C10,'Execução Financeira'!E:AM,36,0) -> #REF! | E10: 343555.13 | F10: 343555.13 | G10: =IF(D10=F10,"ok","verificar") -> #REF!
B11: BRASOFTWARE INFORMÁTICA LTDA. | C11: 0037-LW/2025/0001 | D11: =VLOOKUP(C11,'Execução Financeira'!E:AM,36,0) -> #REF! | E11: 5959209.2 | F11: 5959209.2 | G11: =IF(D11=F11,"ok","verificar") -> #REF!
B12: BRASOFTWARE INFORMÁTICA LTDA. | C12: 0003-LW/2023/0001 | D12: =VLOOKUP(C12,'Execução Financeira'!E:AM,36,0) -> #REF! | E12: 0 | F12: 0 | G12: =IF(D12=F12,"ok","verificar") -> #REF!
B13: CARELI COMÉRCIO DE MÓVEIS LTDA. | C13: 0039-FM/2024/0001 | D13: =VLOOKUP(C13,'Execução Financeira'!E:AM,36,0) -> #REF! | E13: 0 | F13: 0 | G13: =IF(D13=F13,"ok","verificar") -> #REF!
... B135: TECNO2000 INDÚSTRIA E COMÉRCIO LTDA. | C135: 0037-FM/2024/0001 | D135: =VLOOKUP(C135,'Execução Financeira'!E:AM,36,0) -> #REF! | E135: 3534 | F135: 3534 | G135: =IF(D135=F135,"ok","verificar") -> #REF!
B136: TECNO2000 INDÚSTRIA E COMÉRCIO LTDA. | C136: 0002-FM/2025/0001 | D136: =VLOOKUP(C136,'Execução Financeira'!E:AM,36,0) -> #REF! | G136: =IF(D136=F136,"ok","verificar") -> #REF!
B137: TECNO2000 INDÚSTRIA E COMÉRCIO LTDA. | C137: 0003-FM/2025/0001 | D137: =VLOOKUP(C137,'Execução Financeira'!E:AM,36,0) -> #REF! | E137: 1200 | F137: 1200 | G137: =IF(D137=F137,"ok","verificar") -> #REF!
B138: TECNO2000 INDÚSTRIA E COMÉRCIO LTDA. | C138: 0038-FM/2024/0001 | D138: =VLOOKUP(C138,'Execução Financeira'!E:AM,36,0) -> #REF! | E138: 8247.68 | F138: 8247.68 | G138: =IF(D138=F138,"ok","verificar") -> #REF!
B139: TECNO2000 INDÚSTRIA E COMÉRCIO LTDA. | C139: 0001-FM/2025/0001 | D139: =VLOOKUP(C139,'Execução Financeira'!E:AM,36,0) -> #REF! | E139: 4500 | F139: 4500 | G139: =IF(D139=F139,"ok","verificar") -> #REF!
B140: THS TECNOLOGIA, INFORMAÇÃO E COMUNICAÇÃO LTDA. | C140: 0019-SF/2023/0001 | D140: =VLOOKUP(C140,'Execução Financeira'!E:AM,36,0) -> #REF! | E140: 98098.34 | F140: 98098.34 | G140: =IF(D140=F140,"ok","verificar") -> #REF!
B141: TICKET SERVIÇOS S/A | C141: 6001-PS/2025/0001 | D141: =VLOOKUP(C141,'Execução Financeira'!E:AM,36,0) -> #REF! | E141: 2060291.5 | F141: 2060291.5 | G141: =IF(D141=F141,"ok","verificar") -> #REF!
B142: TICKET SOLUÇÕES HDFGT S/A | C142: 0020-PS/2022/0001 | D142: =VLOOKUP(C142,'Execução Financeira'!E:AM,36,0) -> #REF! | E142: 394713.78 | F142: 394713.78 | G142: =IF(D142=F142,"ok","verificar") -> #REF!
B143: TRANSFORT-GESTAO EM SERVICOS TERCEIRIZADOS E LIMPEZA LTDA. | C143: 0041-SL/2023/0025 | D143: =VLOOKUP(C143,'Execução Financeira'!E:AM,36,0) -> #REF! | E143: 11010.01 | F143: 11010.01 | G143: =IF(D143=F143,"ok","verificar") -> #REF!
B144: TRIVALE INSTITUIÇÃO DE PAGAMENTO LTDA. | C144: 6006-PS/2025/0001 | D144: =VLOOKUP(C144,'Execução Financeira'!E:AM,36,0) -> #REF! | E144: 0 | F144: 0 | G144: =IF(D144=F144,"ok","verificar") -> #REF!
B145: UP BRASIL ADMINISTRAÇÃO E SERVIÇOS LTDA. | C145: 6008-PS/2025/0001 | D145: =VLOOKUP(C145,'Execução Financeira'!E:AM,36,0) -> #REF! | E145: 136781.44 | F145: 136781.44 | G145: =IF(D145=F145,"ok","verificar") -> #REF!
B146: VAISALA OYJ | C146: 0062-FM/2025/0001 | D146: =VLOOKUP(C146,'Execução Financeira'!E:AM,36,0) -> #REF! | E146: 0 | F146: 0 | G146: =IF(D146=F146,"ok","verificar") -> #REF!
B147: VEROCHEQUE REFEIÇÕES LTDA. | C147: 6007-PS/2025/0001 | D147: =VLOOKUP(C147,'Execução Financeira'!E:AM,36,0) -> #REF! | E147: 26419.5 | F147: 26419.5 | G147: =IF(D147=F147,"ok","verificar") -> #REF!
B148: VR BENEFÍCIOS E SERVIÇOS DE PROCESSAMENTO S.A. | C148: 6009-PS/2025/0001 | D148: =VLOOKUP(C148,'Execução Financeira'!E:AM,36,0) -> #REF! | E148: 17345.6 | F148: 17345.6 | G148: =IF(D148=F148,"ok","verificar") -> #REF!
... B152: SV INCORPORADORA CONSTRUTORA E SERVICOS LTDA. | C152: 0011-SV/2024/0041 | D152: =VLOOKUP(C152,'Execução Financeira'!E:AM,36,0) -> #REF! | E152: 0 | F152: 0 | G152: =IF(D152=F152,"ok","verificar") -> #REF!
B153: ALGAR TELECOM S/A | C153: 0015-PS/2021/0001 | D153: =VLOOKUP(C153,'Execução Financeira'!E:AM,36,0) -> #REF! | E153: =46.24+68.18+63.12 -> 177.54 | F153: 177.54 | G153: =IF(D153=F153,"ok","verificar") -> #REF!
B154: AMAZON DOCUMENTOS E TECNOLOGIA DA INFORMAÇÃO LTDA. | C154: 0034-SF/2021/0001 | D154: =VLOOKUP(C154,'Execução Financeira'!E:AM,36,0) -> #REF! | E154: 0 | F154: 0 | G154: =IF(D154=F154,"ok","verificar") -> #REF!
B155: ATM SERVIÇOS ESPECIALIZADOS LTDA. | C155: 0045-SL/2023/0046 | D155: =VLOOKUP(C155,'Execução Financeira'!E:AM,36,0) -> #REF! | E155: 0 | F155: 0 | G155: =IF(D155=F155,"ok","verificar") -> #REF!
B156: BASTILLE SEGURANÇA PATRIMONIAL LTDA.- EPP | C156: 0024-SV/2023/0030 | D156: =VLOOKUP(C156,'Execução Financeira'!E:AM,36,0) -> #REF! | E156: 0 | F156: 0 | G156: =IF(D156=F156,"ok","verificar") -> #REF!
B157: ELO ADMINISTRAÇÃO & TERCEIRIZAÇÃO LTDA. | C157: 0038-SV/2023/0042 | D157: =VLOOKUP(C157,'Execução Financeira'!E:AM,36,0) -> #REF! | E157: 0 | F157: 0 | G157: =IF(D157=F157,"ok","verificar") -> #REF!
B158: HAWK SERVIÇOS DE CONSERVAÇÃO E LIMPEZA LTDA. | C158: 0043-PS/2023/0001 | D158: =VLOOKUP(C158,'Execução Financeira'!E:AM,36,0) -> #REF! | E158: 0 | F158: 0 | G158: =IF(D158=F158,"ok","verificar") -> #REF!
B159: MERIDIAN LTDA. | C159: 0014-SF/2024/0001 | D159: =VLOOKUP(C159,'Execução Financeira'!E:AM,36,0) -> #REF! | E159: 0 | F159: 0 | G159: =IF(D159=F159,"ok","verificar") -> #REF!
B160: OI S/A | C160: 0013-PS/2021/0001 | D160: =VLOOKUP(C160,'Execução Financeira'!E:AM,36,0) -> #REF! | E160: 0 | F160: 0 | G160: =IF(D160=F160,"ok","verificar") -> #REF!
B161: QUATRO - ADMINISTRAÇÃO E SERVIÇOS LTDA. | C161: 0044-SL/2023/0035 | D161: =VLOOKUP(C161,'Execução Financeira'!E:AM,36,0) -> #REF! | E161: 0 | F161: 0 | G161: =IF(D161=F161,"ok","verificar") -> #REF!
B162: ROTA LIVRE TURISMO LTDA. | C162: 0037-TG/2023/0021 | D162: =VLOOKUP(C162,'Execução Financeira'!E:AM,36,0) -> #REF! | E162: 0 | F162: 0 | G162: =IF(D162=F162,"ok","verificar") -> #REF!
B163: NAVESA MERCANTIL DE VEÍCULOS LTDA | C163: 0007-FM/2026/0001 | D163: =VLOOKUP(C163,'Execução Financeira'!E:AM,36,0) -> #REF! | E163: 0 | F163: 0 | G163: =IF(D163=F163,"ok","verificar") -> #REF!
B164: NGN DISTRIBUIDORA DE VEÍCULOS LTDA | C164: 0006-FM/2026/0001 | D164: =VLOOKUP(C164,'Execução Financeira'!E:AM,36,0) -> #REF! | E164: 0 | F164: 0 | G164: =IF(D164=F164,"ok","verificar") -> #REF!
B165: CSE ADMINISTRAÇÃO E SERVIÇOS LTDA. | C165: 0012-SL/2026/0037 | D165: =VLOOKUP(C165,'Execução Financeira'!E:AM,36,0) -> #REF! | E165: 0 | F165: 37029.99 | G165: =IF(D165=F165,"ok","verificar") -> #REF!
... B177: JUMPER SEGURANÇA E VIGILÂNCIA PATRIMONIAL LTDA. | C177: 0024-SV/2026/0030 | D177: =VLOOKUP(C177,'Execução Financeira'!E:AM,36,0) -> #REF! | E177: 0 | F177: 0 | G177: =IF(D177=F177,"ok","verificar") -> #REF!
D178: =SUM(D2:D177) -> #REF! | E178: =SUM(E2:E177) -> 15474906 | F178: =SUM(F2:F177) -> 15466254
E180: =D178-E178 -> #REF!
