Workbook

Sheet Execução Financeira
B8: GERÊNCIA DE COMPRAS E CONTRATOS | RELATÓRIO DE EXECUÇÃO FINANCEIRA |ATUALIZADO ATÉ JULHO DE 2026
Z9: =SUBTOTAL(9,Z11:Z234) -> 1.5552446e+08
B10: Contratada | C10: Status Atual | D10: CNPJ | E10: Termo de Contrato | F10: Natureza do Contrato | G10: Início da Vigência | H10: Término da Vigência | I10: PA do Contrato | J10: Localidade | K10: Saldo Legado (Smart) | L10: Total Realizado de Jan/25 - Jun/25 | M10: Saldo junho/25 | N10: Realizado - Julho | O10: Saldo julho/25 | P10: Realizado - Agosto | Q10: Saldo de Agosto | R10: Realizado - Setembro | S10: Saldo de Setembro | T10: Realizado - Outubro | U10: Saldo de Outubro | V10: Realizado - Novembro | W10: Saldo de Novembro | X10: Realizado - Dezembro | Y10: Saldo de Dezembro | Z10: Total realizado - 2025 | AA10: Realizado - Janeiro | AB10: Saldo de Janeiro | AC10: Realizado - Fevereiro | AD10: Saldo de Fevereiro | AE10: Realizado - Março | AF10: Saldo de Março | AG10: Realizado - Abril | AH10: Saldo de Abril | AI10: Realizado - Maio | AJ10: Saldo de Maio | AK10: Realizado - Junho | AL10: Saldo de Junho | AM10: Realizado - Julho | AN10: Saldo de Julho
B11: 7C SEGURANÇA E VIGILÂNCIA LTDA. | C11: ATIVO | D11: 30.536.943/0001-02 | E11: 0003-SV/2026/0036 | F11: PRESTAÇÃO DE SERVIÇO DE VIGILÂNCIA COM MÃO DE OBRA EXCLUSIVA | G11: 46104 | H11: 47019 | I11: SD-ADM-2025/01844 | J11: DNVT | K11: 0 | L11: 0 | M11: 0 | N11: 0 | O11: 0 | P11: 0 | Q11: =O11-P11 -> 0 | R11: 0 | S11: =Q11-R11 -> 0 | T11: 0 | U11: =S11-T11 -> 0 | V11: 0 | W11: =U11-V11 -> 0 | X11: 0 | Y11: =W11-X11 -> 0 | Z11: =L11+N11+P11+R11+T11+V11+X11+AA11+AC11+AE11 -> 0 | AA11: 0 | AB11: =Y11-AA11 -> 0 | AC11: 0 | AD11: =AB11-AC11 -> 0 | AE11: 0 | AF11: =AD11-AE11 -> 0 | AG11: 0 | AH11: 944465.1 | AI11: 0 | AJ11: 944465.1 | AK11: =17839.89+31450.69 -> 49290.58 | AL11: =AJ11-AK11 -> 895174.52 | AM11: 0 | AN11: 944465.1
B12: A. BORGES NETO & CIA. LTDA. | C12: ATIVO | D12: 05.081.243/0001-15 | E12: 0040-TG-2023/0044 | F12: PRESTAÇÃO DE SERVIÇO SEM MÃO DE OBRA DEDICADA | G12: 45208 | H12: 47035 | I12: SEDE-ADM-2023/01203 | J12: DNBW | K12: 0 | L12: 146448.4 | M12: 193172.26 | N12: 20921.2 | O12: =M12-N12 -> 172251.06 | P12: 20921.2 | Q12: =O12-P12 -> 151329.86 | R12: 20921.2 | S12: =Q12-R12 -> 130408.66 | T12: 20921.2 | U12: =S12-T12 -> 109487.46 | V12: 20921.2 | W12: =U12-V12 -> 88566.26 | X12: 20921.2 | Y12: =W12-X12 -> 67645.06 | Z12: =L12+N12+P12+R12+T12+V12+X12+AA12+AC12+AE12 -> 334739.2 | AA12: 20921.2 | AB12: =Y12-AA12 -> 46723.86 | AC12: 20921.2 | AD12: =AB12-AC12 -> 25802.66 | AE12: 20921.2 | AF12: 1255272 | AG12: 20921.2 | AH12: =AF12-AG12 -> 1234350.8 | AI12: 20921.2 | AJ12: =AH12-AI12 -> 1213429.6 | AK12: 20921.2 | AL12: =AJ12-AK12 -> 1192508.4 | AM12: 20921.2 | AN12: =AL12-AM12 -> 1171587.2
B13: ADDUNT SERVIÇOS DE CONSULTORIA E GESTÃO LTDA. | C13: ENCERRADO | D13: 17.887.641/0001-02 | E13: 0022-PS/2022/0001 | F13: PRESTAÇÃO DE SERVIÇO SEM MÃO DE OBRA DEDICADA | G13: 44837 | H13: 44929 | I13: SEDE-ADM-2022/00968 | J13: SEDE | K13: 0 | L13: 0 | M13: 0 | N13: 0 | O13: 0 | P13: 0 | Q13: =O13-P13 -> 0 | R13: 0 | S13: =Q13-R13 -> 0 | T13: 0 | U13: =S13-T13 -> 0 | V13: 0 | W13: =U13-V13 -> 0 | X13: 0 | Y13: =W13-X13 -> 0 | Z13: =L13+N13+P13+R13+T13+V13+X13+AA13+AC13+AE13 -> 0 | AA13: 0 | AB13: 0 | AC13: 0 | AD13: =AB13-AC13 -> 0 | AE13: 0 | AF13: =AD13-AE13 -> 0 | AG13: 0 | AH13: =AF13-AG13 -> 0 | AI13: 0 | AJ13: =AH13-AI13 -> 0 | AK13: 0 | AL13: =AJ13-AK13 -> 0 | AM13: 0 | AN13: =AL13-AM13 -> 0
B14: AÉCIO OZÉIAS RIBEIRO DA SILVA | C14: ENCERRADO | D14: 00.499.359/0001-55 | E14: 0104-ML/2020/0035 | F14: PRESTAÇÃO DE SERVIÇO SEM MÃO DE OBRA DEDICADA | G14: 44115 | H14: 45940 | I14: SEDE-ADM-2022/00138 | J14: DNLO | K14: 2023-04 11181,04|2023-05 12706,38|2023-06 11241,93|2023-07 10194,5|2023-08 12711,16|2023-09 11663,72|2023-10 10409,07|2023-11 13317,55|2023-12 10210,52|2024-01 11170,3|2024-02 12542,94|2024-03 10766,46|2024-04 9537,77|2024-05 25085,08|2024-06 10802,48|2024-07 10622,5|2024-08 11278,6|2024-09 10470,2|2024-10 10457,92|2024-11 13317,55|2024-12 11228,97|2025-01 10188,83|2025-02 10931,95|2025-03 10327,32|2025-04 9622,932025-05 12084,91|2025-06 49099,83 | L14: 118116.01 | M14: 379527.31 | N14: 12042.59 | O14: =M14-N14 -> 367484.72 | P14: 15860.24 | Q14: =O14-P14 -> 351624.48 | R14: 12361.57 | S14: =Q14-R14 -> 339262.91 | T14: 12103.25 | U14: =S14-T14 -> 327159.66 | V14: 0 | W14: =U14-V14 -> 327159.66 | X14: 12249.43 | Y14: =W14-X14 -> 314910.23 | Z14: =L14+N14+P14+R14+T14+V14+X14+AA14+AC14+AE14 -> 182733.09 | AA14: 0 | AB14: 0 | AC14: 0 | AD14: =AB14-AC14 -> 0 | AE14: 0 | AF14: =AD14-AE14 -> 0 | AG14: 0 | AH14: =AF14-AG14 -> 0 | AI14: 0 | AJ14: =AH14-AI14 -> 0 | AK14: 0 | AL14: =AJ14-AK14 -> 0 | AM14: 0 | AN14: =AL14-AM14 -> 0
B15: AGIL LTDA. | C15: ENCERRADO | D15: 26.427.482/0001-54 | E15: 0017-SL/2024/0021 | F15: PRESTAÇÃO DE SERVIÇO DE CONSERVAÇÃO E LIMPEZA COM MÃO DE OBRA EXCLUSIVA | G15: 45455 | H15: 46368 | I15: SEDE-ADM-2023/02158 | J15: DNCJ | K15: 2025-02 3735|2025-03 10236,67|2025-05 4150|2025-06 41502024-09 9054,62|2024-10 4527,31|2024-11 4527,31|2024-12 4527,31|2025-01 4527,31|2025-02 4527,31|2025-03 4527,31|2025-04 4527,31|2025-02 16200 | L15: 18409.24 | M15: 95073.44 | N15: 0 | O15: =M15-N15 -> 95073.44 | P15: 0 | Q15: =O15-P15 -> 95073.44 | R15: 0 | S15: =Q15-R15 -> 95073.44 | T15: 0 | U15: =S15-T15 -> 95073.44 | V15: 0 | W15: =U15-V15 -> 95073.44 | X15: 4527.31 | Y15: =W15-X15 -> 90546.13 | Z15: =L15+N15+P15+R15+T15+V15+X15+AA15+AC15+AE15 -> 22936.55 | AA15: 0 | AB15: 90546.13 | AC15: 0 | AD15: =AB15-AC15 -> 90546.13 | AE15: 0 | AF15: =AD15-AE15 -> 90546.13 | AG15: 0 | AH15: =AF15-AG15 -> 90546.13 | AI15: 0 | AJ15: =AH15-AI15 -> 90546.13 | AK15: 0 | AL15: =AJ15-AK15 -> 90546.13 | AM15: 0 | AN15: =AL15-AM15 -> 90546.13
B16: AGIL LTDA. | C16: ENCERRADO | D16: 26.427.482/0001-54 | E16: 0028-SL/2024/0018 | F16: PRESTAÇÃO DE SERVIÇO DE CONSERVAÇÃO E LIMPEZA COM MÃO DE OBRA EXCLUSIVA | G16: 45569 | H16: 46481 | I16: SEDE-ADM-2023/02143 | J16: DNHT | K16: 2025-02 3735|2025-03 10236,67|2025-05 4150|2025-06 41502024-09 9054,62|2024-10 4527,31|2024-11 4527,31|2024-12 4527,31|2025-01 4527,31|2025-02 4527,31|2025-03 4527,31|2025-04 4527,31|2025-02 16200 | L16: 22271.67 | M16: 102228.33 | N16: 0 | O16: =M16-N16 -> 102228.33 | P16: 0 | Q16: =O16-P16 -> 102228.33 | R16: 0 | S16: =Q16-R16 -> 102228.33 | T16: 0 | U16: =S16-T16 -> 102228.33 | V16: 0 | W16: =U16-V16 -> 102228.33 | X16: 0 | Y16: =W16-X16 -> 102228.33 | Z16: =L16+N16+P16+R16+T16+V16+X16+AA16+AC16+AE16 -> 22271.67 | AA16: 0 | AB16: 102228.33 | AC16: 0 | AD16: =AB16-AC16 -> 102228.33 | AE16: 0 | AF16: =AD16-AE16 -> 102228.33 | AG16: 0 | AH16: =AF16-AG16 -> 102228.33 | AI16: 0 | AJ16: =AH16-AI16 -> 102228.33 | AK16: 0 | AL16: =AJ16-AK16 -> 102228.33 | AM16: 0 | AN16: =AL16-AM16 -> 102228.33
B17: AIR LIQUIDE BRASIL LTDA. | C17: ATIVO | D17: 00.331.788/0093-37 | E17: 0009-FM/2025/0042 | F17: PRESTAÇÃO DE SERVIÇO SEM MÃO DE OBRA DEDICADA | G17: 45671 | H17: 46582 | I17: SEDE-ADM-2025/00038 | J17: DNUL | K17: 2025-02 16200|2025-03 24300|2025-04 24300|2025-05 8100|2025-06 16200|2025-07 243002025-04 172898,6|2025-07 293038,31|2023-05 591387,63|2023-08 269510,01|2023-10 258028,82|2023-12 228198,67|2024-02 230561,71|2024-05 260549,44|2024-06 335601,14|2024-09 229804,16|2024-11 266115,51|2023-05 694007,75|2023-08 247472,53|2023-10 265386,99|2023-12 379796,84|2024-02 245596,42|2024-04 244788,94|2024-05 455501,27|2024-06 412321,04|2024-09 311570,46|2024-11 372629,07 | L17: 113400 | M17: 1582650 | N17: 24300 | O17: =M17-N17 -> 1558350 | P17: 16200 | Q17: =O17-P17 -> 1542150 | R17: 16200 | S17: =Q17-R17 -> 1525950 | T17: 16200 | U17: =S17-T17 -> 1509750 | V17: 24300 | W17: =U17-V17 -> 1485450 | X17: 16200 | Y17: =W17-X17 -> 1469250 | Z17: =L17+N17+P17+R17+T17+V17+X17+AA17+AC17+AE17 -> 267300 | AA17: 16200 | AB17: =Y17-AA17 -> 1453050 | AC17: 8100 | AD17: =AB17-AC17 -> 1444950 | AE17: 16200 | AF17: =AD17-AE17 -> 1428750 | AG17: 16200 | AH17: =AF17-AG17 -> 1412550 | AI17: 16200 | AJ17: =AH17-AI17 -> 1396350 | AK17: 8100 | AL17: =AJ17-AK17 -> 1388250 | AM17: =8100+8100 -> 16200 | AN17: =AL17-AM17 -> 1372050
B18: ALELO INSTITUIÇÃO DE PAGAMENTO S.A. | C18: ATIVO | D18: 04.740.876/0001-25 | E18: 6004-PS/2025/0001 | F18: CONTRATO DE CREDENCIAMENTO | G18: 45874 | H18: 47700 | I18: SD-ADM-2025/01214 | J18: SEDE | K18: 0 | L18: 0 | M18: 0 | N18: 0 | O18: 0 | P18: 0 | Q18: =O18-P18 -> 0 | R18: 0 | S18: =Q18-R18 -> 0 | T18: 0 | U18: =S18-T18 -> 0 | V18: 0 | W18: =U18-V18 -> 0 | X18: 3957.97 | Y18: =W18-X18 -> -3957.97 | Z18: =L18+N18+P18+R18+T18+V18+X18+AA18+AC18+AE18 -> 152315.63 | AA18: 8684.05 | AB18: =Y18-AA18 -> -12642.02 | AC18: 66742.5 | AD18: =AB18-AC18 -> -79384.52 | AE18: 72931.11 | AF18: =AD18-AE18 -> -152315.63 | AG18: 73799.16 | AH18: =AF18-AG18 -> -226114.79 | AI18: 73799.16 | AJ18: =AH18-AI18 -> -299913.95 | AK18: 86819.08 | AL18: =AJ18-AK18 -> -386733.03 | AM18: =1767.77+60667.4+15931.41+6096.6 -> 84463.18 | AN18: =AL18-AM18 -> -471196.21
B19: ALGAR TELECOM S/A | C19: ENCERRADO | D19: 71.208.516/0001-74 | E19: 0015-PS/2021/0001 | F19: PRESTAÇÃO DE SERVIÇO SEM MÃO DE OBRA DEDICADA | G19: 44302 | H19: 46127 | I19: SEDE-ADM-2022/00101 | J19: DNUL- DNUR | K19: 2024-09 179,36|2024-10 178,77|2024-11 178,57|2024-12 178,98|2025-01 176,47|2025-02 177,24|2025-03 177,19|2025-04 177,39|2025-05 178,03|2025-06 223,41|2025-07 177,35 |2023-12 26583,21|2024-01 26583,21|2024-03 389906,02|2024-04 125086,1|2024-05 26583,21|2024-06 26583,21|2024-07 26583,21|2024-08 95340,96 | L19: 1287.08 | M19: 17864.69 | N19: 177.25 | O19: =M19-N19 -> 17687.44 | P19: 177.43 | Q19: =O19-P19 -> 17510.01 | R19: 177.52 | S19: =Q19-R19 -> 17332.49 | T19: 177.69 | U19: =S19-T19 -> 17154.8 | V19: 46.24 | W19: =U19-V19 -> 17108.56 | X19: 131.26 | Y19: =W19-X19 -> 16977.3 | Z19: =L19+N19+P19+R19+T19+V19+X19+AA19+AC19+AE19 -> 2621.83 | AA19: 92.48 | AB19: 0 | AC19: 177.45 | AD19: =AB19-AC19 -> -177.45 | AE19: 177.43 | AF19: =AD19-AE19 -> -354.88 | AG19: 308.74 | AH19: =AF19-AG19 -> -663.62 | AI19: 46.24 | AJ19: =AH19-AI19 -> -709.86 | AK19: =68.18+63.01+46.24 -> 177.43 | AL19: =AJ19-AK19 -> -887.29 | AM19: =46.24+68.18+63.12 -> 177.54 | AN19: =AL19-AM19 -> -1064.83
B20: AMAZON DOCUMENTOS E TECNOLOGIA DA INFORMAÇÃO LTDA. | C20: ENCERRADO | D20: 00.734.255/0001-88 | E20: 0034-SF/2021/0001 | F20: PRESTAÇÃO DE SERVIÇO SEM MÃO DE OBRA DEDICADA | G20: 44286 | H20: 46111 | I20: SEDE-ADM-2022/00061 | J20: SEDE | K20: 0 | L20: 342223.9 | M20: 247048.67 | N20: 0 | O20: 218985.28 | P20: 0 | Q20: =O20-P20 -> 218985.28 | R20: 0 | S20: =Q20-R20 -> 218985.28 | T20: 0 | U20: =S20-T20 -> 218985.28 | V20: 0 | W20: =U20-V20 -> 218985.28 | X20: 0 | Y20: =W20-X20 -> 218985.28 | Z20: =L20+N20+P20+R20+T20+V20+X20+AA20+AC20+AE20 -> 342223.9 | AA20: 0 | AB20: =Z20-AA20 -> 342223.9 | AC20: 0 | AD20: =AB20-AC20 -> 342223.9 | AE20: 0 | AF20: =AD20-AE20 -> 342223.9 | AG20: 0 | AH20: =AF20-AG20 -> 342223.9 | AI20: 0 | AJ20: =AH20-AI20 -> 342223.9 | AK20: 0 | AL20: =AJ20-AK20 -> 342223.9 | AM20: 0 | AN20: =AL20-AM20 -> 342223.9
B21: ATM SERVIÇOS ESPECIALIZADOS LTDA. | C21: ENCERRADO | D21: 32.984.752/0001-20 | E21: 0045-SL/2023/0046 | F21: PRESTAÇÃO DE SERVIÇO DE CONSERVAÇÃO E LIMPEZA COM MÃO DE OBRA EXCLUSIVA | G21: 45251 | H21: 46163 | I21: SEDE-ADM-2023/01366 | J21: DNAT | K21: 2023-12 5268,63|2024-01 5268,63|2024-03 5268,63|2024-04 5268,63|2024-05 5268,63|2024-06 4741,77|2024-07 4741,77 | L21: 0 | M21: 131013.42 | N21: 0 | O21: =M21-N21 -> 131013.42 | P21: 0 | Q21: =O21-P21 -> 131013.42 | R21: 0 | S21: =Q21-R21 -> 131013.42 | T21: 0 | U21: =S21-T21 -> 131013.42 | V21: 0 | W21: =U21-V21 -> 131013.42 | X21: 0 | Y21: =W21-X21 -> 131013.42 | Z21: =L21+N21+P21+R21+T21+V21+X21+AA21+AC21+AE21 -> 0 | AA21: 0 | AB21: 131013.42 | AC21: 0 | AD21: =AB21-AC21 -> 131013.42 | AE21: 0 | AF21: =AD21-AE21 -> 131013.42 | AG21: 0 | AH21: =AF21-AG21 -> 131013.42 | AI21: 0 | AJ21: =AH21-AI21 -> 131013.42 | AK21: 0 | AL21: =AJ21-AK21 -> 131013.42 | AM21: 0 | AN21: =AL21-AM21 -> 131013.42
B22: AZUL LINHAS AÉREAS BRASILEIRAS S/A | C22: ENCERRADO | D22: 09.740.766/0001-60 | E22: 05-2020-149-0001 | F22: PRESTAÇÃO DE SERVIÇO SEM MÃO DE OBRA DEDICADA | G22: 44114 | H22: 45939 | I22: SEDE-ADM-2021/00067 | J22: DNSJ | K22: 0 | L22: 0 | M22: 0 | N22: 0 | O22: 0 | P22: 0 | Q22: =O22-P22 -> 0 | R22: 0 | S22: =Q22-R22 -> 0 | T22: 0 | U22: =S22-T22 -> 0 | V22: 0 | W22: =U22-V22 -> 0 | X22: 0 | Y22: =W22-X22 -> 0 | Z22: =L22+N22+P22+R22+T22+V22+X22+AA22+AC22+AE22 -> 0 | AA22: 0 | AB22: 0 | AC22: 0 | AD22: =AB22-AC22 -> 0 | AE22: 0 | AF22: =AD22-AE22 -> 0 | AG22: 0 | AH22: =AF22-AG22 -> 0 | AI22: 0 | AJ22: =AH22-AI22 -> 0 | AK22: 0 | AL22: =AJ22-AK22 -> 0 | AM22: 0 | AN22: =AL22-AM22 -> 0
B23: B CARVALHO LTDA. | C23: ATIVO | D23: 50.190.142/0001-37 | E23: 0018-SL/2024/0019 | F23: PRESTAÇÃO DE SERVIÇO DE CONSERVAÇÃO E LIMPEZA COM MÃO DE OBRA EXCLUSIVA | G23: 45503 | H23: 46417 | I23: SEDE-ADM-2024/00642 | J23: DNSN | K23: 2024-10 7638,9|2024-11 9166,67|2024-12 9166,67|2025-01 9166,67|2025-02 9166,67|2025-03 9166,67|2025-04 9166,67|2025-05 9166,67|2025-06 18333,34 | L23: 77038.88 | M23: 184861.07 | N23: 12872.19 | O23: =M23-N23 -> 171988.88 | P23: 12872.19 | Q23: =O23-P23 -> 159116.69 | R23: 0 | S23: =Q23-R23 -> 159116.69 | T23: 9604.12 | U23: =S23-T23 -> 149512.57 | V23: 19208.24 | W23: =U23-V23 -> 130304.33 | X23: 28812.36 | Y23: =W23-X23 -> 101491.97 | Z23: =L23+N23+P23+R23+T23+V23+X23+AA23+AC23+AE23 -> 179616.22 | AA23: 0 | AB23: =Y23-AA23 -> 101491.97 | AC23: 9604.12 | AD23: =AB23-AC23 -> 91887.85 | AE23: 9604.12 | AF23: =AD23-AE23 -> 82283.73 | AG23: 9604.12 | AH23: =AF23-AG23 -> 72679.61 | AI23: 9604.12 | AJ23: =AH23-AI23 -> 63075.49 | AK23: 9604.12 | AL23: =AJ23-AK23 -> 53471.37 | AM23: 9604.12 | AN23: =AL23-AM23 -> 43867.25
B24: B7 EMPREENDIMENTOS LTDA. | C24: ENCERRADO | D24: 17.298.685/0001-05 | E24: 0036-PS/2022/0001 | F24: PRESTAÇÃO DE SERVIÇO SEM MÃO DE OBRA DEDICADA | G24: 44910 | H24: 45092 | I24: SEDE-ADM-2022/01172 | J24: SEDE | K24: 0 | L24: 0 | M24: 0 | N24: 0 | O24: 0 | P24: 0 | Q24: =O24-P24 -> 0 | R24: 0 | S24: =Q24-R24 -> 0 | T24: 0 | U24: =S24-T24 -> 0 | V24: 0 | W24: =U24-V24 -> 0 | X24: 0 | Y24: =W24-X24 -> 0 | Z24: =L24+N24+P24+R24+T24+V24+X24+AA24+AC24+AE24 -> 0 | AA24: 0 | AB24: 0 | AC24: 0 | AD24: =AB24-AC24 -> 0 | AE24: 0 | AF24: =AD24-AE24 -> 0 | AG24: 0 | AH24: =AF24-AG24 -> 0 | AI24: 0 | AJ24: =AH24-AI24 -> 0 | AK24: 0 | AL24: =AJ24-AK24 -> 0 | AM24: 0 | AN24: =AL24-AM24 -> 0
B25: BAKERTILLY | C25: ENCERRADO | D25: 13.859.935/0001-70 | E25: 0002-AE/2022/0110 | F25: PRESTAÇÃO DE SERVIÇO SEM MÃO DE OBRA DEDICADA | G25: 44610 | H25: 45065 | I25: SEDE-ADM-2022/00164 | J25: SEDE | K25: 0 | L25: 0 | M25: 0 | N25: 0 | O25: 0 | P25: 0 | Q25: =O25-P25 -> 0 | R25: 0 | S25: =Q25-R25 -> 0 | T25: 0 | U25: =S25-T25 -> 0 | V25: 0 | W25: =U25-V25 -> 0 | X25: 0 | Y25: =W25-X25 -> 0 | Z25: =L25+N25+P25+R25+T25+V25+X25+AA25+AC25+AE25 -> 0 | AA25: 0 | AB25: 0 | AC25: 0 | AD25: =AB25-AC25 -> 0 | AE25: 0 | AF25: =AD25-AE25 -> 0 | AG25: 0 | AH25: =AF25-AG25 -> 0 | AI25: 0 | AJ25: =AH25-AI25 -> 0 | AK25: 0 | AL25: =AJ25-AK25 -> 0 | AM25: 0 | AN25: =AL25-AM25 -> 0
B26: BASTILLE SEGURANÇA PATRIMONIAL LTDA.- EPP | C26: ATIVO | D26: 37.766.665/0001-10 | E26: 0024-SV/2023/0030 | F26: PRESTAÇÃO DE SERVIÇO DE VIGILÂNCIA COM MÃO DE OBRA EXCLUSIVA | G26: 45119 | H26: 46946 | I26: SEDE-ADM-2023/00765 | J26: DNGR | K26: 2023-08 26130,04|2023-09 55992,94|2023-10 55992,94|2023-11 55992,94|2023-12 111985,88|2024-02 55992,94|2024-03 55992,94|2024-04 55992,94|2024-05 55992,94|2024-06 55992,94|2024-07 55992,94|2024-08 55992,94|2024-09 55992,94|2024-10 55992,94|2024-11 55992,94|2024-12 111985,88|2025-02 111985,88|2025-03 55992,942025-04 35402,1|2025-05 116706,16|2025-06 58353,08|2025-07 58353,08 | L26: 436793.24 | M26: 380925.44 | N26: 58353.08 | O26: =M26-N26 -> 322572.36 | P26: 0 | Q26: =O26-P26 -> 322572.36 | R26: 0 | S26: =Q26-R26 -> 322572.36 | T26: 58353.08 | U26: =S26-T26 -> 264219.28 | V26: 58353.08 | W26: =U26-V26 -> 205866.2 | X26: 116706.16 | Y26: =W26-X26 -> 89160.04 | Z26: =L26+N26+P26+R26+T26+V26+X26+AA26+AC26+AE26 -> 786911.72 | AA26: 58353.08 | AB26: 3487968 | AC26: 0 | AD26: =AB26-AC26 -> 3487968 | AE26: 0 | AF26: =AD26-AE26 -> 3487968 | AG26: 0 | AH26: =AF26-AG26 -> 3487968 | AI26: 0 | AJ26: =AH26-AI26 -> 3487968 | AK26: 0 | AL26: =AJ26-AK26 -> 3487968 | AM26: 0 | AN26: =AL26-AM26 -> 3487968
B27: BAZZANEZE AUDITORES INDEPENDENTES S/S | C27: ATIVO | D27: 40.184.046/0001-22 | E27: 0016-AE/2022/0001 | F27: PRESTAÇÃO DE SERVIÇO SEM MÃO DE OBRA DEDICADA | G27: 44807 | H27: 46633 | I27: SEDE-ADM-2022/00491 | J27: DNRJ | K27: 2024-08 5980|2024-09 5980 | 2024-11 6232,37|2025-04 9348,56|2025-07 3116,19 | L27: 12464.75 | M27: 504.75 | N27: 0 | O27: 504.75 | P27: 3116.19 | Q27: 123790.9 | R27: 12798.18 | S27: =Q27-R27 -> 110992.72 | T27: 7000 | U27: =S27-T27 -> 103992.72 | V27: 0 | W27: =U27-V27 -> 103992.72 | X27: 6565.81 | Y27: =W27-X27 -> 97426.91 | Z27: =L27+N27+P27+R27+T27+V27+X27+AA27+AC27+AE27 -> 51944.93 | AA27: 0 | AB27: 156619.93 | AC27: 10000 | AD27: =AB27-AC27 -> 146619.93 | AE27: 0 | AF27: =AD27-AE27 -> 146619.93 | AG27: 0 | AH27: =AF27-AG27 -> 146619.93 | AI27: 0 | AJ27: =AH27-AI27 -> 146619.93 | AK27: 0 | AL27: =AJ27-AK27 -> 146619.93 | AM27: =6565.81+9848.71 -> 16414.52 | AN27: =AL27-AM27 -> 130205.41
B28: BIQ BENEFÍCIOS LTDA. | C28: ATIVO | D28: 07.878.237/0001-19 | E28: 6005-PS/2025/0001 | F28: CONTRATO DE CREDENCIAMENTO | G28: 45873 | H28: 47699 | I28: SD-ADM-2025/01215 | J28: SEDE | K28: 0 | L28: 0 | M28: 0 | N28: 0 | O28: 0 | P28: 0 | Q28: =O28-P28 -> 0 | R28: 0 | S28: =Q28-R28 -> 0 | T28: 0 | U28: =S28-T28 -> 0 | V28: 0 | W28: =U28-V28 -> 0 | X28: 0 | Y28: =W28-X28 -> 0 | Z28: =L28+N28+P28+R28+T28+V28+X28+AA28+AC28+AE28 -> 0 | AA28: 0 | AB28: =Y28-AA28 -> 0 | AC28: 0 | AD28: =AB28-AC28 -> 0 | AE28: 0 | AF28: =AD28-AE28 -> 0 | AG28: 0 | AH28: =AF28-AG28 -> 0 | AI28: 0 | AJ28: =AH28-AI28 -> 0 | AK28: 0 | AL28: =AJ28-AK28 -> 0 | AM28: 0 | AN28: =AL28-AM28 -> 0
B29: BLUE LOGÍSTICA INTEGRADA S/A. | C29: ENCERRADO | D29: 31.959.959/0001-82 | E29: 0037-PS/2022/0001 | F29: PRESTAÇÃO DE SERVIÇO SEM MÃO DE OBRA DEDICADA | G29: 44984 | H29: 45343 | I29: SEDE-ADM-2022/01004 | J29: SEDE | K29: 0 | L29: 0 | M29: 0 | N29: 0 | O29: 0 | P29: 0 | Q29: =O29-P29 -> 0 | R29: 0 | S29: =Q29-R29 -> 0 | T29: 0 | U29: =S29-T29 -> 0 | V29: 0 | W29: =U29-V29 -> 0 | X29: 0 | Y29: =W29-X29 -> 0 | Z29: =L29+N29+P29+R29+T29+V29+X29+AA29+AC29+AE29 -> 0 | AA29: 0 | AB29: 0 | AC29: 0 | AD29: =AB29-AC29 -> 0 | AE29: 0 | AF29: =AD29-AE29 -> 0 | AG29: 0 | AH29: =AF29-AG29 -> 0 | AI29: 0 | AJ29: =AH29-AI29 -> 0 | AK29: 0 | AL29: =AJ29-AK29 -> 0 | AM29: 0 | AN29: =AL29-AM29 -> 0
B30: BOZZA SOLUÇÕES ESTRATÉGICAS EM RECURSOS HUMANOS LTDA. | C30: ENCERRADO | D30: 15.190.840/0001-31 | E30: 0019-PS/2022/0001 | F30: PRESTAÇÃO DE SERVIÇO SEM MÃO DE OBRA DEDICADA | G30: 44820 | H30: 44870 | I30: SEDE-ADM-2022/01239 | J30: SEDE | K30: 0 | L30: 0 | M30: 0 | N30: 0 | O30: 0 | P30: 0 | Q30: =O30-P30 -> 0 | R30: 0 | S30: =Q30-R30 -> 0 | T30: 0 | U30: =S30-T30 -> 0 | V30: 0 | W30: =U30-V30 -> 0 | X30: 0 | Y30: =W30-X30 -> 0 | Z30: =L30+N30+P30+R30+T30+V30+X30+AA30+AC30+AE30 -> 0 | AA30: 0 | AB30: 0 | AC30: 0 | AD30: =AB30-AC30 -> 0 | AE30: 0 | AF30: =AD30-AE30 -> 0 | AG30: 0 | AH30: =AF30-AG30 -> 0 | AI30: 0 | AJ30: =AH30-AI30 -> 0 | AK30: 0 | AL30: =AJ30-AK30 -> 0 | AM30: 0 | AN30: =AL30-AM30 -> 0
B31: BRASIL TECPAR SERVIÇOS DE TELECOMUNICAÇÕES S.A. | C31: ATIVO | D31: 07.756.651/0001-55 | E31: 0002-PS/2024/0001 | F31: PRESTAÇÃO DE SERVIÇO SEM MÃO DE OBRA DEDICADA | G31: 45329 | H31: 47156 | I31: SEDE-ADM-2023/02085 | J31: SEDE | K31: 2024-03 1339,29|2024-05 36150,48|2024-06 50054,05|2024-07 62738,65|2024-08 71983,85|2024-09 78784|2024-10 82648,92|2024-11 82166,86|2024-12 165188,35|2025-02 81198,05|2025-03 82455,22|2025-04 80192,4|2025-05 80376,45|2025-06 81496,74|2025-07 82227,152023-06 86645,32|2023-07 137739,31|2023-08 68677,04|2023-09 68532,44|2023-10 139341,79|2023-12 144777,98|2024-01 72478,1|2024-02 72180,26|2024-04 72224,86|2024-05 71812,72|2024-06 74364,15|2024-07 74398,32|2024-08 149087,03|2024-10 152118,65|2024-11 75789,63|2024-12 76649,5|2025-01 76501,2|2025-02 76253,07|2025-03 75540,45|2025-04 75453,53|2025-05 75264,69|2025-06 150058,48 | L31: 487946.01 | M31: 3960105.3 | N31: 163723.89 | O31: 3877878.1 | P31: 82047.85 | Q31: =O31-P31 -> 3795830.3 | R31: 0 | S31: =Q31-R31 -> 3795830.3 | T31: 82720.07 | U31: =S31-T31 -> 3713110.2 | V31: 82498.86 | W31: =U31-V31 -> 3630611.4 | X31: 82432.11 | Y31: =W31-X31 -> 3548179.3 | Z31: =L31+N31+P31+R31+T31+V31+X31+AA31+AC31+AE31 -> 1229236.5 | AA31: 82525.42 | AB31: =Y31-AA31 -> 3465653.8 | AC31: 0 | AD31: =AB31-AC31 -> 3465653.8 | AE31: 165342.31 | AF31: =AD31-AE31 -> 3300311.5 | AG31: 82835.99 | AH31: =AF31-AG31 -> 3217475.5 | AI31: 81114.61 | AJ31: =AH31-AI31 -> 3136360.9 | AK31: 81735.98 | AL31: =AJ31-AK31 -> 3054624.9 | AM31: 82485.26 | AN31: =AL31-AM31 -> 2972139.7
B32: BRASILSEG COMPANHIA DE SEGUROS | C32: ATIVO | D32: 28.196.889/0001-43 | E32: 0008-SS/2023/0001 | F32: PRESTAÇÃO DE SERVIÇO SEM MÃO DE OBRA DEDICADA | G32: 45008 | H32: 46835 | I32: SEDE-ADM-2023/00207 | J32: SEDE | K32: 2023-06 86645,32|2023-07 137739,31|2023-08 68677,04|2023-09 68532,44|2023-10 139341,79|2023-12 144777,98|2024-01 72478,1|2024-02 72180,26|2024-04 72224,86|2024-05 71812,72|2024-06 74364,15|2024-07 74398,32|2024-08 149087,03|2024-10 152118,65|2024-11 75789,63|2024-12 76649,5|2025-01 76501,2|2025-02 76253,07|2025-03 75540,45|2025-04 75453,53|2025-05 75264,69|2025-06 150058,482025-03 339.975,90 | L32: 529071.42 | M32: 494317.18 | N32: 151765.89 | O32: =M32-N32 -> 342551.29 | P32: 75029.24 | Q32: =O32-P32 -> 267522.05 | R32: 75298.51 | S32: =Q32-R32 -> 192223.54 | T32: 0 | U32: =S32-T32 -> 192223.54 | V32: 76968.34 | W32: =U32-V32 -> 115255.2 | X32: 152294.38 | Y32: 7048555.7 | Z32: =L32+N32+P32+R32+T32+V32+X32+AA32+AC32+AE32 -> 1202172.2 | AA32: 76616.18 | AB32: =Y32-AA32 -> 6971939.5 | AC32: 0 | AD32: =AB32-AC32 -> 6971939.5 | AE32: 65128.29 | AF32: =AD32-AE32 -> 6906811.2 | AG32: 527226.48 | AH32: =AF32-AG32 -> 6379584.7 | AI32: 527226.48 | AJ32: =AH32-AI32 -> 5852358.2 | AK32: 163270.83 | AL32: =AJ32-AK32 -> 5689087.4 | AM32: =172770.21+170784.92 -> 343555.13 | AN32: =AL32-AM32 -> 5345532.3
B33: BRASOFTWARE INFORMÁTICA LTDA. | C33: ATIVO | D33: 57.142.978/0001-05 | E33: 0037-LW/2025/0001 | F33: CONTRATO DE AQUISIÇÃO E PRESTAÇÃO DE SERVIÇO | G33: 45818 | H33: 46914 | I33: SEDE-ADM-2025/00378 | J33: SEDE | K33: 0 | L33: 5079096.4 | M33: 0 | N33: 5079096.4 | O33: 29943875 | P33: 0 | Q33: =O33-P33 -> 29943875 | R33: 0 | S33: =Q33-R33 -> 29943875 | T33: 0 | U33: =S33-T33 -> 29943875 | V33: 0 | W33: =U33-V33 -> 29943875 | X33: 0 | Y33: =W33-X33 -> 29943875 | Z33: =L33+N33+P33+R33+T33+V33+X33+AA33+AC33+AE33 -> 10158193 | AA33: 0 | AB33: =Y33-AA33 -> 29943875 | AC33: 0 | AD33: =AB33-AC33 -> 29943875 | AE33: 0 | AF33: =AD33-AE33 -> 29943875 | AG33: 0 | AH33: =AF33-AG33 -> 29943875 | AI33: 0 | AJ33: =AH33-AI33 -> 29943875 | AK33: 0 | AL33: =AJ33-AK33 -> 29943875 | AM33: 5959209.2 | AN33: =AL33-AM33 -> 23984666
B34: BRASOFTWARE INFORMÁTICA LTDA. | C34: ENCERRADO | D34: 57.142.978/0001-05 | E34: 0003-LW/2022/0110 | F34: CONTRATO DE AQUISIÇÃO | G34: 44575 | H34: 45730 | I34: SEDE-ADM-2022/00358 | J34: SEDE | K34: 0 | L34: 0 | M34: 0 | N34: 0 | O34: 0 | P34: 0 | Q34: =O34-P34 -> 0 | R34: 0 | S34: =Q34-R34 -> 0 | T34: 0 | U34: =S34-T34 -> 0 | V34: 0 | W34: =U34-V34 -> 0 | X34: 0 | Y34: =W34-X34 -> 0 | Z34: =L34+N34+P34+R34+T34+V34+X34+AA34+AC34+AE34 -> 0 | AA34: 0 | AB34: 0 | AC34: 0 | AD34: =AB34-AC34 -> 0 | AE34: 0 | AF34: =AD34-AE34 -> 0 | AG34: 0 | AH34: =AF34-AG34 -> 0 | AI34: 0 | AJ34: =AH34-AI34 -> 0 | AK34: 0 | AL34: =AJ34-AK34 -> 0 | AM34: 0 | AN34: =AL34-AM34 -> 0
B35: BRASOFTWARE INFORMÁTICA LTDA. | C35: ATIVO | D35: 57.142.978/0001-05 | E35: 0003-LW/2023/0001 | F35: CONTRATO DE CREDENCIAMENTO | G35: 44995 | H35: 46456 | I35: SEDE-ADM-2023/00310 | J35: SEDE | K35: 0 | L35: 339975.9 | M35: 6199369.4 | N35: 0 | O35: =M35-N35 -> 6199369.4 | P35: 0 | Q35: =O35-P35 -> 6199369.4 | R35: 0 | S35: =Q35-R35 -> 6199369.4 | T35: 0 | U35: =S35-T35 -> 6199369.4 | V35: 0 | W35: =U35-V35 -> 6199369.4 | X35: 0 | Y35: =W35-X35 -> 6199369.4 | Z35: =L35+N35+P35+R35+T35+V35+X35+AA35+AC35+AE35 -> 339975.9 | AA35: 0 | AB35: =Y35-AA35 -> 6199369.4 | AC35: 0 | AD35: =AB35-AC35 -> 6199369.4 | AE35: 0 | AF35: 15944557 | AG35: 0 | AH35: =AF35-AG35 -> 15944557 | AI35: 339975.9 | AJ35: =AH35-AI35 -> 15604581 | AK35: 0 | AL35: =AJ35-AK35 -> 15604581 | AM35: 0 | AN35: =AL35-AM35 -> 15604581
B36: CARE PLUS ODONTOLOGIA ASSISTENCIAL LTDA. (INPAO DENTAL) | C36: ENCERRADO | D36: 00.856.424/0001-52 | E36: 0496-AO/2019/0001 | F36: CONTRATO DE CREDENCIAMENTO | G36: 45287 | H36: 45853 | I36: SEDE-ADM-2021/00079 | J36: SEDE | K36: 2025-04 70.232,67 | 2025-07 26.000,00 | L36: 549959.22 | M36: 0 | N36: 0 | O36: 480835.98 | P36: 0 | Q36: =O36-P36 -> 480835.98 | R36: 0 | S36: =Q36-R36 -> 480835.98 | T36: 0 | U36: =S36-T36 -> 480835.98 | V36: 0 | W36: =U36-V36 -> 480835.98 | X36: 0 | Y36: =W36-X36 -> 480835.98 | Z36: =L36+N36+P36+R36+T36+V36+X36+AA36+AC36+AE36 -> 549959.22 | AA36: 0 | AB36: 0 | AC36: 0 | AD36: =AB36-AC36 -> 0 | AE36: 0 | AF36: =AD36-AE36 -> 0 | AG36: 0 | AH36: =AF36-AG36 -> 0 | AI36: 0 | AJ36: =AH36-AI36 -> 0 | AL36: =AJ36-AK36 -> 0 | AM36: 0 | AN36: =AL36-AM36 -> 0
B37: CARELI COMÉRCIO DE MÓVEIS LTDA. | C37: ATIVO | D37: 34.747.664/0001-30 | E37: 0039-FM/2024/0001 | F37: PRESTAÇÃO DE SERVIÇO SEM MÃO DE OBRA DEDICADA | G37: 45642 | H37: 46554 | I37: SEDE-ADM-2024/01955 | J37: SEDE | K37: 2025-07 26.000,00 | L37: 0 | M37: 0 | N37: 26000 | O37: 52000 | P37: 0 | Q37: =O37-P37 -> 52000 | R37: 26000 | S37: =Q37-R37 -> 26000 | T37: 0 | U37: =S37-T37 -> 26000 | V37: 0 | W37: =U37-V37 -> 26000 | X37: 11000 | Y37: =W37-X37 -> 15000 | Z37: =L37+N37+P37+R37+T37+V37+X37+AA37+AC37+AE37 -> 66600 | AA37: 3600 | AB37: =Y37-AA37 -> 11400 | AC37: 0 | AD37: =AB37-AC37 -> 11400 | AE37: 0 | AF37: =AD37-AE37 -> 11400 | AG37: 0 | AH37: =AF37-AG37 -> 11400 | AI37: 0 | AJ37: =AH37-AI37 -> 11400 | AK37: 0 | AL37: =AJ37-AK37 -> 11400 | AM37: 0 | AN37: =AL37-AM37 -> 11400
B38: CARELI COMÉRCIO DE MÓVEIS LTDA. | C38: ATIVO | D38: 34.747.664/0001-30 | E38: 0040-FM/2024/0001 | F38: PRESTAÇÃO DE SERVIÇO SEM MÃO DE OBRA DEDICADA | G38: 45642 | H38: 46554 | I38: SEDE-ADM-2024/01956 | J38: SEDE | K38: 2025-07 15.500,00 | L38: 0 | M38: 0 | N38: 15500 | O38: 79000 | P38: 0 | Q38: =O38-P38 -> 79000 | R38: 36600 | S38: =Q38-R38 -> 42400 | T38: 0 | U38: =S38-T38 -> 42400 | V38: 0 | W38: =U38-V38 -> 42400 | X38: 0 | Y38: =W38-X38 -> 42400 | Z38: =L38+N38+P38+R38+T38+V38+X38+AA38+AC38+AE38 -> 52100 | AA38: 0 | AB38: =Y38-AA38 -> 42400 | AC38: 0 | AD38: =AB38-AC38 -> 42400 | AE38: 0 | AF38: =AD38-AE38 -> 42400 | AG38: 5400 | AH38: =AF38-AG38 -> 37000 | AI38: 5400 | AJ38: =AH38-AI38 -> 31600 | AK38: 0 | AL38: =AJ38-AK38 -> 31600 | AM38: 14000 | AN38: =AL38-AM38 -> 17600
B39: CARVALHO MULTISSERVIÇOS EIRELI | C39: ENCERRADO | D39: 03.662.899/0001-04 | E39: 0012-SL/2022/0023 | F39: PRESTAÇÃO DE SERVIÇO DE CONSERVAÇÃO E LIMPEZA COM MÃO DE OBRA EXCLUSIVA | G39: 44787 | H39: 45702 | I39: SEDE-ADM-2022/00799 | J39: DNRT | K39: 0 | L39: 18813 | M39: 0 | N39: 0 | O39: 0 | P39: 0 | Q39: =O39-P39 -> 0 | R39: 0 | S39: =Q39-R39 -> 0 | T39: 0 | U39: =S39-T39 -> 0 | V39: 0 | W39: =U39-V39 -> 0 | X39: 0 | Y39: =W39-X39 -> 0 | Z39: =L39+N39+P39+R39+T39+V39+X39+AA39+AC39+AE39 -> 18813 | AA39: 0 | AB39: 0 | AC39: 0 | AD39: =AB39-AC39 -> 0 | AE39: 0 | AF39: =AD39-AE39 -> 0 | AG39: 0 | AH39: =AF39-AG39 -> 0 | AI39: 0 | AJ39: =AH39-AI39 -> 0 | AK39: 0 | AL39: =AJ39-AK39 -> 0 | AM39: 0 | AN39: =AL39-AM39 -> 0
B40: CENTRO BRASILEIRO DE PESQUISA EM AVALIAÇÃO E SELEÇÃO E DE PROMOÇÃO DE EVENTOS - CEBRASPE | C40: ENCERRADO | D40: 18.284.407/0001-53 | E40: 0001-PS/2024/0001 | F40: PRESTAÇÃO DE SERVIÇO SEM MÃO DE OBRA DEDICADA | G40: 45299 | H40: 45665 | I40: SEDE-ADM-2023/01665 | J40: SEDE | K40: 0 | L40: 0 | M40: 0 | N40: 0 | O40: 0 | P40: 0 | Q40: =O40-P40 -> 0 | R40: 0 | S40: =Q40-R40 -> 0 | T40: 0 | U40: =S40-T40 -> 0 | V40: 0 | W40: =U40-V40 -> 0 | X40: 0 | Y40: =W40-X40 -> 0 | Z40: =L40+N40+P40+R40+T40+V40+X40+AA40+AC40+AE40 -> 0 | AA40: 0 | AB40: 0 | AC40: 0 | AD40: =AB40-AC40 -> 0 | AE40: 0 | AF40: =AD40-AE40 -> 0 | AG40: 0 | AH40: =AF40-AG40 -> 0 | AI40: 0 | AJ40: =AH40-AI40 -> 0 | AK40: 0 | AL40: =AJ40-AK40 -> 0 | AM40: 0 | AN40: =AL40-AM40 -> 0
B41: CENTRO DE INTEGRAÇÃO EMPRESA - ESCOLA DO ESTADO DO RIO DE JANEIRO – CIEE RIO | C41: ATIVO | D41: 33.661.745/0001-50 | E41: 0025-PS/2025/0001 | F41: PRESTAÇÃO DE SERVIÇO DE CONTRATAÇÃO DE JOVEM APRENDIZ COM MÃO DE OBRA DEDICADA | G41: 45786 | H41: 46700 | I41: SEDE-ADM-2025/00534 | J41: SEDE/ DNME/ DNRJ/ DNCP/ DNJR/ DNGL | K41: 2020-12 27178,66|2021-02 22041,21|2021-03 23302,262021-04 26146,46|2021-05 19993,28|2021-06 20226,94|2021-07 22077,45|2021-08 22059,49 2021-09 24534,91|2021-12 7137,57|2022-01 7640|2022-02 7989,18|2022-03 5571,24|2022-04 6563,73|2022-05 6328,36|2022-06 5228,48|2022-07 13248|2022-08 5916,88|2022-09 6411,82|2022-10 3986,85|2022-11 5355,85|2022-12 6264,26|2023-01 6415,61|2023-02 8073,68|2023-03 5895,9|2023-04 6029,05|2023-05 4928,39|2023-06 5954,6|2023-07 6899,22|2023-08 5361,92|2023-09 5514,5|2023-10 7419,65|2023-11 4204,35|2023-12 6567,52|2024-01 6510,31|2024-02 5458,06|2024-03 5121,64|2024-04 4545,54|2024-05 5131,96|2024-06 5277,56|2024-07 5205,18|2024-08 5396,19|2024-09 5088,85|2024-10 5219,89|2024-11 10136,97|2024-12 16265,35|2025-01 17094,48|2025-02 11407,04|2025-03 23030,64|2025-04 18978,92|2025-05 18205,25|2025-06 17230,95 | L41: 21783.33 | M41: 692074.5 | N41: 21783.33 | O41: =M41-N41 -> 670291.17 | P41: 28423.24 | Q41: =O41-P41 -> 641867.93 | R41: 14900.52 | S41: =Q41-R41 -> 626967.41 | T41: 19132.7 | U41: =S41-T41 -> 607834.71 | V41: 6224.54 | W41: 865093.12 | X41: 36210.07 | Y41: =W41-X41 -> 828883.05 | Z41: =L41+N41+P41+R41+T41+V41+X41+AA41+AC41+AE41 -> 200173.67 | AA41: 22244.38 | AB41: =Y41-AA41 -> 806638.67 | AC41: 6479.02 | AD41: =AB41-AC41 -> 800159.65 | AE41: 22992.54 | AF41: =AD41-AE41 -> 777167.11 | AG41: 14524.16 | AH41: =AF41-AG41 -> 762642.95 | AI41: 31887.72 | AJ41: =AH41-AI41 -> 730755.23 | AK41: 21310.14 | AL41: =AJ41-AK41 -> 709445.09 | AM41: =1135.96+1935.01+2178.32+1135.96+3407.88+5891.6+1135.96+1961.06+567.98+567.98+2394.28+2271.92+3741.94+995.51 -> 29321.36 | AN41: =AL41-AM41 -> 680123.73
B42: CENTRO DE INTEGRAÇÃO EMPRESA - ESCOLA DO ESTADO DO RIO DE JANEIRO – CIEE RIO | C42: ENCERRADO | D42: 33.661.745/0001-50 | E42: 0313-PS/2020/0001 | F42: PRESTAÇÃO DE SERVIÇO SEM MÃO DE OBRA DEDICADA | G42: 44166 | H42: 45991 | I42: SEDE-ADM-2021/00085 | SEDE-ADM-2020/01625 | J42: DNGL / DNJR / DNRJ | K42: 2020-12 27178,66|2021-02 22041,21|2021-03 23302,262021-04 26146,46|2021-05 19993,28|2021-06 20226,94|2021-07 22077,45|2021-08 22059,49 2021-09 24534,91|2021-12 7137,57|2022-01 7640|2022-02 7989,18|2022-03 5571,24|2022-04 6563,73|2022-05 6328,36|2022-06 5228,48|2022-07 13248|2022-08 5916,88|2022-09 6411,82|2022-10 3986,85|2022-11 5355,85|2022-12 6264,26|2023-01 6415,61|2023-02 8073,68|2023-03 5895,9|2023-04 6029,05|2023-05 4928,39|2023-06 5954,6|2023-07 6899,22|2023-08 5361,92|2023-09 5514,5|2023-10 7419,65|2023-11 4204,35|2023-12 6567,52|2024-01 6510,31|2024-02 5458,06|2024-03 5121,64|2024-04 4545,54|2024-05 5131,96|2024-06 5277,56|2024-07 5205,18|2024-08 5396,19|2024-09 5088,85|2024-10 5219,89|2024-11 10136,97|2024-12 16265,35|2025-01 17094,48|2025-02 11407,04|2025-03 23030,64|2025-04 18978,92|2025-05 18205,25|2025-06 17230,95 | L42: 105947.28 | M42: 8601.73 | N42: 0 | O42: =M42-N42 -> 8601.73 | P42: 0 | Q42: =O42-P42 -> 8601.73 | R42: 0 | S42: =Q42-R42 -> 8601.73 | T42: 0 | U42: =S42-T42 -> 8601.73 | V42: 0 | W42: =U42-V42 -> 8601.73 | X42: 0 | Y42: =W42-X42 -> 8601.73 | Z42: =L42+N42+P42+R42+T42+V42+X42+AA42+AC42+AE42 -> 105947.28 | AA42: 0 | AB42: 0 | AC42: 0 | AD42: =AB42-AC42 -> 0 | AE42: 0 | AF42: =AD42-AE42 -> 0 | AG42: 0 | AH42: =AF42-AG42 -> 0 | AI42: 0 | AJ42: =AH42-AI42 -> 0 | AK42: 0 | AL42: =AJ42-AK42 -> 0 | AM42: 0 | AN42: =AL42-AM42 -> 0
B43: CENTRO DE INTEGRACAO EMPRESA ESCOLA CIEE | C43: ENCERRADO | D43: 61.600.839/0001-55 | E43: 0301-PS/2020/0001 | F43: PRESTAÇÃO DE SERVIÇO DE CONTRATAÇÃO DE JOVEM APRENDIZ COM MÃO DE OBRA DEDICADA | G43: 44152 | H43: 45978 | I43: SEDE-ADM-2022/00066 | J43: DNDN | K43: 2020-12 44622,51|2021-01 100512,34|2021-02 109377,392021-03 90186,57|2021-04 106224,03|2021-05 92644,22|2021-06 91217,34|2021-07 88532,05|2021-08 84437,24|2021-09 76393,03 2023-06 1196,74|2023-07 1349,13|2023-08 1369,53|2023-09 1389,52|2023-10 1186,33|2023-11 1369,55|2023-12 1332,39|2024-01 1352,58|2024-02 2338,94|2024-03 1339,07|2024-04 1365,13|2024-05 1365,75|2024-06 952,04|2024-08 1360,37|2024-09 1560,39|2024-10 1518,85|2024-11 1569,41|2024-12 1477,52|2025-01 1580,35|2025-02 1541,5|2025-03 1480,55|2025-04 1962,84|2025-05 1335,3|2025-06 1368,1|2025-07 1337,61 | L43: 10606.25 | M43: 35129.7 | N43: 1337.61 | O43: =M43-N43 -> 33792.09 | P43: 1378.24 | Q43: =O43-P43 -> 32413.85 | R43: 1325.14 | S43: =Q43-R43 -> 31088.71 | T43: 1355.91 | U43: =S43-T43 -> 29732.8 | V43: 1386.07 | W43: =U43-V43 -> 28346.73 | X43: 0 | Y43: =W43-X43 -> 28346.73 | Z43: =L43+N43+P43+R43+T43+V43+X43+AA43+AC43+AE43 -> 19515.48 | AA43: 0 | AB43: =Y43-AA43 -> 28346.73 | AC43: 0 | AD43: =AB43-AC43 -> 28346.73 | AE43: 2126.26 | AF43: =AD43-AE43 -> 26220.47 | AG43: 1324.77 | AH43: =AF43-AG43 -> 24895.7 | AI43: 0 | AJ43: =AH43-AI43 -> 24895.7 | AK43: 0 | AL43: =AJ43-AK43 -> 24895.7 | AM43: 0 | AN43: =AL43-AM43 -> 24895.7
B44: CENTRO DE INTEGRACAO EMPRESA ESCOLA CIEE | C44: ENCERRADO | D44: 61.600.839/0001-55 | E44: 0050-PS/2021/0001 | F44: PRESTAÇÃO DE SERVIÇO DE CONTRATAÇÃO DE ESTAGIÁRIOS COM MÃO DE OBRA DEDICADA | G44: 44315 | H44: 46141 | I44: SEDE-ADM-2022/00650 | J44: SEDE | K44: 2020-12 44622,51|2021-01 100512,34|2021-02 109377,392021-03 90186,57|2021-04 106224,03|2021-05 92644,22|2021-06 91217,34|2021-07 88532,05|2021-08 84437,24|2021-09 76393,03 2023-06 1196,74|2023-07 1349,13|2023-08 1369,53|2023-09 1389,52|2023-10 1186,33|2023-11 1369,55|2023-12 1332,39|2024-01 1352,58|2024-02 2338,94|2024-03 1339,07|2024-04 1365,13|2024-05 1365,75|2024-06 952,04|2024-08 1360,37|2024-09 1560,39|2024-10 1518,85|2024-11 1569,41|2024-12 1477,52|2025-01 1580,35|2025-02 1541,5|2025-03 1480,55|2025-04 1962,84|2025-05 1335,3|2025-06 1368,1|2025-07 1337,61 | L44: 217868.72 | M44: 2632280.1 | N44: 32797.49 | O44: 2599482.6 | P44: 32797.49 | Q44: =O44-P44 -> 2566685.1 | R44: 32749.62 | S44: =Q44-R44 -> 2533935.5 | T44: 29264.22 | U44: =S44-T44 -> 2504671.3 | V44: 25189.7 | W44: =U44-V44 -> 2479481.6 | X44: 55479.78 | Y44: =W44-X44 -> 2424001.8 | Z44: =L44+N44+P44+R44+T44+V44+X44+AA44+AC44+AE44 -> 485224.49 | AA44: 28385.79 | AB44: =Y44-AA44 -> 2395616 | AC44: 29641.68 | AD44: =AB44-AC44 -> 2365974.3 | AE44: 1050 | AF44: =AD44-AE44 -> 2364924.3 | AG44: 25871.43 | AH44: =AF44-AG44 -> 2339052.9 | AI44: 23123.53 | AJ44: =AH44-AI44 -> 2315929.4 | AK44: 0 | AL44: =AJ44-AK44 -> 2315929.4 | AM44: 0 | AN44: =AL44-AM44 -> 2315929.4
B45: CHANGE CONSTRUÇÕES E SERVIÇOS DE ENGENHARIA LTDA. | C45: ENCERRADO | D45: 24.263.422/0001-18 | E45: 0014-PS/2023/0002 | F45: PRESTAÇÃO DE SERVIÇO SEM MÃO DE OBRA DEDICADA | G45: 45050 | H45: 45500 | I45: SEDE-ADM-2023/00077 | J45: DNRJ | K45: 0 | L45: 0 | M45: 0 | N45: 0 | O45: 0 | P45: 0 | Q45: =O45-P45 -> 0 | R45: 0 | S45: =Q45-R45 -> 0 | T45: 0 | U45: =S45-T45 -> 0 | V45: 0 | W45: =U45-V45 -> 0 | X45: 0 | Y45: =W45-X45 -> 0 | Z45: =L45+N45+P45+R45+T45+V45+X45+AA45+AC45+AE45 -> 0 | AA45: 0 | AB45: 0 | AC45: 0 | AD45: =AB45-AC45 -> 0 | AE45: 0 | AF45: =AD45-AE45 -> 0 | AG45: 0 | AH45: =AF45-AG45 -> 0 | AI45: 0 | AJ45: =AH45-AI45 -> 0 | AK45: 0 | AL45: =AJ45-AK45 -> 0 | AM45: 0 | AN45: =AL45-AM45 -> 0
B46: CHUBB SEGUROS BRASIL S.A. | C46: ENCERRADO | D46: 03.502.099/0001-18 | E46: 0033-SS/2022/0001 | F46: PRESTAÇÃO DE SERVIÇO SEM MÃO DE OBRA DEDICADA | G46: 44895 | H46: 45991 | I46: SEDE-ADM-2022/01361 | J46: SEDE | K46: 0 | L46: 0 | M46: 0 | N46: 0 | O46: 0 | P46: 0 | Q46: =O46-P46 -> 0 | R46: 0 | S46: =Q46-R46 -> 0 | T46: 0 | U46: =S46-T46 -> 0 | V46: 0 | W46: =U46-V46 -> 0 | X46: 0 | Y46: =W46-X46 -> 0 | Z46: =L46+N46+P46+R46+T46+V46+X46+AA46+AC46+AE46 -> 122000 | AA46: 122000 | AB46: 0 | AC46: 0 | AD46: =AB46-AC46 -> 0 | AE46: 0 | AF46: =AD46-AE46 -> 0 | AG46: 0 | AH46: =AF46-AG46 -> 0 | AI46: 0 | AJ46: =AH46-AI46 -> 0 | AK46: 0 | AL46: =AJ46-AK46 -> 0 | AM46: 0 | AN46: =AL46-AM46 -> 0
B47: CHUBB SEGUROS BRASIL S.A. | C47: ATIVO | D47: 03.502.099/0001-18 | E47: 0068-SS/2025/0001 | F47: PRESTAÇÃO DE SERVIÇO SEM MÃO DE OBRA DEDICADA | G47: 45987 | H47: 46352 | I47: SD-ADM-2025/01437 | J47: SEDE | K47: 0 | L47: 0 | M47: 0 | N47: 0 | O47: 0 | P47: 0 | Q47: =O47-P47 -> 0 | R47: 0 | S47: =Q47-R47 -> 0 | T47: 0 | U47: =S47-T47 -> 0 | V47: 0 | W47: 122000 | X47: 0 | Y47: =W47-X47 -> 122000 | Z47: =L47+N47+P47+R47+T47+V47+X47+AA47+AC47+AE47 -> 122000 | AA47: 122000 | AB47: =Y47-AA47 -> 0 | AC47: 0 | AD47: =AB47-AC47 -> 0 | AE47: 0 | AF47: =AD47-AE47 -> 0 | AG47: 0 | AH47: =AF47-AG47 -> 0 | AI47: 0 | AJ47: =AH47-AI47 -> 0 | AK47: 0 | AL47: =AJ47-AK47 -> 0 | AM47: 0 | AN47: =AL47-AM47 -> 0
...

Sheet Sheet1
B2: 7C SEGURANÇA E VIGILÂNCIA LTDA. | C2: 0003-SV/2026/0036 | D2: =VLOOKUP(C2,'Execução Financeira'!E:AM,36,0) -> #REF! | E2: 0 | F2: 0 | G2: =IF(D2=F2,"ok","verificar") -> #REF!
B3: A. BORGES NETO & CIA. LTDA. | C3: 0040-TG-2023/0044 | D3: =VLOOKUP(C3,'Execução Financeira'!E:AM,36,0) -> #REF! | E3: 20912.2 | F3: 20921.2 | G3: =IF(D3=F3,"ok","verificar") -> #REF!
B4: AIR LIQUIDE BRASIL LTDA. | C4: 0009-FM/2025/0042 | D4: =VLOOKUP(C4,'Execução Financeira'!E:AM,36,0) -> #REF! | E4: 16200 | F4: 16200 | G4: =IF(D4=F4,"ok","verificar") -> #REF!
B5: ALELO INSTITUIÇÃO DE PAGAMENTO S.A. | C5: 6004-PS/2025/0001 | D5: =VLOOKUP(C5,'Execução Financeira'!E:AM,36,0) -> #REF! | E5: 84463.18 | F5: 84463.18 | G5: =IF(D5=F5,"ok","verificar") -> #REF!
B6: B CARVALHO LTDA. | C6: 0018-SL/2024/0019 | D6: =VLOOKUP(C6,'Execução Financeira'!E:AM,36,0) -> #REF! | E6: 9604.12 | F6: 9604.12 | G6: =IF(D6=F6,"ok","verificar") -> #REF!
B7: BAZZANEZE AUDITORES INDEPENDENTES S/S | C7: 0016-AE/2022/0001 | D7: =VLOOKUP(C7,'Execução Financeira'!E:AM,36,0) -> #REF! | E7: 16414.52 | F7: 16414.52 | G7: =IF(D7=F7,"ok","verificar") -> #REF!
B8: BIQ BENEFÍCIOS LTDA. | C8: 6005-PS/2025/0001 | D8: =VLOOKUP(C8,'Execução Financeira'!E:AM,36,0) -> #REF! | E8: 0 | F8: 0 | G8: =IF(D8=F8,"ok","verificar") -> #REF!
B9: BRASIL TECPAR SERVIÇOS DE TELECOMUNICAÇÕES S.A | C9: 0002-PS/2024/0001 | D9: =VLOOKUP(C9,'Execução Financeira'!E:AM,36,0) -> #REF! | E9: 82485.26 | F9: 82485.26 | G9: =IF(D9=F9,"ok","verificar") -> #REF!
B10: BRASILSEG COMPANHIA DE SEGUROS | C10: 0008-SS/2023/0001 | D10: =VLOOKUP(C10,'Execução Financeira'!E:AM,36,0) -> #REF! | E10: 343555.13 | F10: 343555.13 | G10: =IF(D10=F10,"ok","verificar") -> #REF!
B11: BRASOFTWARE INFORMÁTICA LTDA. | C11: 0037-LW/2025/0001 | D11: =VLOOKUP(C11,'Execução Financeira'!E:AM,36,0) -> #REF! | E11: 5959209.2 | F11: 5959209.2 | G11: =IF(D11=F11,"ok","verificar") -> #REF!
B12: BRASOFTWARE INFORMÁTICA LTDA. | C12: 0003-LW/2023/0001 | D12: =VLOOKUP(C12,'Execução Financeira'!E:AM,36,0) -> #REF! | E12: 0 | F12: 0 | G12: =IF(D12=F12,"ok","verificar") -> #REF!
B13: CARELI COMÉRCIO DE MÓVEIS LTDA. | C13: 0039-FM/2024/0001 | D13: =VLOOKUP(C13,'Execução Financeira'!E:AM,36,0) -> #REF! | E13: 0 | F13: 0 | G13: =IF(D13=F13,"ok","verificar") -> #REF!
... B135: TECNO2000 INDÚSTRIA E COMÉRCIO LTDA. | C135: 0037-FM/2024/0001 | D135: =VLOOKUP(C135,'Execução Financeira'!E:AM,36,0) -> #REF! | E135: 3534 | F135: 3534 | G135: =IF(D135=F135,"ok","verificar") -> #REF!
B136: TECNO2000 INDÚSTRIA E COMÉRCIO LTDA. | C136: 0002-FM/2025/0001 | D136: =VLOOKUP(C136,'Execução Financeira'!E:AM,36,0) -> #REF! | G136: =IF(D136=F136,"ok","verificar") -> #REF!
B137: TECNO2000 INDÚSTRIA E COMÉRCIO LTDA. | C137: 0003-FM/2025/0001 | D137: =VLOOKUP(C137,'Execução Financeira'!E:AM,36,0) -> #REF! | E137: 1200 | F137: 1200 | G137: =IF(D137=F137,"ok","verificar") -> #REF!
B138: TECNO2000 INDÚSTRIA E COMÉRCIO LTDA. | C138: 0038-FM/2024/0001 | D138: =VLOOKUP(C138,'Execução Financeira'!E:AM,36,0) -> #REF! | E138: 8247.68 | F138: 8247.68 | G138: =IF(D138=F138,"ok","verificar") -> #REF!
B139: TECNO2000 INDÚSTRIA E COMÉRCIO LTDA. | C139: 0001-FM/2025/0001 | D139: =VLOOKUP(C139,'Execução Financeira'!E:AM,36,0) -> #REF! | E139: 4500 | F139: 4500 | G139: =IF(D139=F139,"ok","verificar") -> #REF!
B140: THS TECNOLOGIA, INFORMAÇÃO E COMUNICAÇÃO LTDA. | C140: 0019-SF/2023/0001 | D140: =VLOOKUP(C140,'Execução Financeira'!E:AM,36,0) -> #REF! | E140: 98098.34 | F140: 98098.34 | G140: =IF(D140=F140,"ok","verificar") -> #REF!
B141: TICKET SERVIÇOS S/A | C141: 6001-PS/2025/0001 | D141: =VLOOKUP(C141,'Execução Financeira'!E:AM,36,0) -> #REF! | E141: 2060291.5 | F141: 2060291.5 | G141: =IF(D141=F141,"ok","verificar") -> #REF!
B142: TICKET SOLUÇÕES HDFGT S/A | C142: 0020-PS/2022/0001 | D142: =VLOOKUP(C142,'Execução Financeira'!E:AM,36,0) -> #REF! | E142: 394713.78 | F142: 394713.78 | G142: =IF(D142=F142,"ok","verificar") -> #REF!
B143: TRANSFORT-GESTAO EM SERVICOS TERCEIRIZADOS E LIMPEZA LTDA. | C143: 0041-SL/2023/0025 | D143: =VLOOKUP(C143,'Execução Financeira'!E:AM,36,0) -> #REF! | E143: 11010.01 | F143: 11010.01 | G143: =IF(D143=F143,"ok","verificar") -> #REF!
B144: TRIVALE INSTITUIÇÃO DE PAGAMENTO LTDA. | C144: 6006-PS/2025/0001 | D144: =VLOOKUP(C144,'Execução Financeira'!E:AM,36,0) -> #REF! | E144: 0 | F144: 0 | G144: =IF(D144=F144,"ok","verificar") -> #REF!
B145: UP BRASIL ADMINISTRAÇÃO E SERVIÇOS LTDA. | C145: 6008-PS/2025/0001 | D145: =VLOOKUP(C145,'Execução Financeira'!E:AM,36,0) -> #REF! | E145: 136781.44 | F145: 136781.44 | G145: =IF(D145=F145,"ok","verificar") -> #REF!
B146: VAISALA OYJ | C146: 0062-FM/2025/0001 | D146: =VLOOKUP(C146,'Execução Financeira'!E:AM,36,0) -> #REF! | E146: 0 | F146: 0 | G146: =IF(D146=F146,"ok","verificar") -> #REF!
B147: VEROCHEQUE REFEIÇÕES LTDA. | C147: 6007-PS/2025/0001 | D147: =VLOOKUP(C147,'Execução Financeira'!E:AM,36,0) -> #REF! | E147: 26419.5 | F147: 26419.5 | G147: =IF(D147=F147,"ok","verificar") -> #REF!
B148: VR BENEFÍCIOS E SERVIÇOS DE PROCESSAMENTO S.A. | C148: 6009-PS/2025/0001 | D148: =VLOOKUP(C148,'Execução Financeira'!E:AM,36,0) -> #REF! | E148: 17345.6 | F148: 17345.6 | G148: =IF(D148=F148,"ok","verificar") -> #REF!
... B152: SV INCORPORADORA CONSTRUTORA E SERVICOS LTDA. | C152: 0011-SV/2024/0041 | D152: =VLOOKUP(C152,'Execução Financeira'!E:AM,36,0) -> #REF! | E152: 0 | F152: 0 | G152: =IF(D152=F152,"ok","verificar") -> #REF!
B153: ALGAR TELECOM S/A | C153: 0015-PS/2021/0001 | D153: =VLOOKUP(C153,'Execução Financeira'!E:AM,36,0) -> #REF! | E153: =46.24+68.18+63.12 -> 177.54 | F153: 177.54 | G153: =IF(D153=F153,"ok","verificar") -> #REF!
B154: AMAZON DOCUMENTOS E TECNOLOGIA DA INFORMAÇÃO LTDA. | C154: 0034-SF/2021/0001 | D154: =VLOOKUP(C154,'Execução Financeira'!E:AM,36,0) -> #REF! | E154: 0 | F154: 0 | G154: =IF(D154=F154,"ok","verificar") -> #REF!
B155: ATM SERVIÇOS ESPECIALIZADOS LTDA. | C155: 0045-SL/2023/0046 | D155: =VLOOKUP(C155,'Execução Financeira'!E:AM,36,0) -> #REF! | E155: 0 | F155: 0 | G155: =IF(D155=F155,"ok","verificar") -> #REF!
B156: BASTILLE SEGURANÇA PATRIMONIAL LTDA.- EPP | C156: 0024-SV/2023/0030 | D156: =VLOOKUP(C156,'Execução Financeira'!E:AM,36,0) -> #REF! | E156: 0 | F156: 0 | G156: =IF(D156=F156,"ok","verificar") -> #REF!
B157: ELO ADMINISTRAÇÃO & TERCEIRIZAÇÃO LTDA. | C157: 0038-SV/2023/0042 | D157: =VLOOKUP(C157,'Execução Financeira'!E:AM,36,0) -> #REF! | E157: 0 | F157: 0 | G157: =IF(D157=F157,"ok","verificar") -> #REF!
B158: HAWK SERVIÇOS DE CONSERVAÇÃO E LIMPEZA LTDA. | C158: 0043-PS/2023/0001 | D158: =VLOOKUP(C158,'Execução Financeira'!E:AM,36,0) -> #REF! | E158: 0 | F158: 0 | G158: =IF(D158=F158,"ok","verificar") -> #REF!
B159: MERIDIAN LTDA. | C159: 0014-SF/2024/0001 | D159: =VLOOKUP(C159,'Execução Financeira'!E:AM,36,0) -> #REF! | E159: 0 | F159: 0 | G159: =IF(D159=F159,"ok","verificar") -> #REF!
B160: OI S/A | C160: 0013-PS/2021/0001 | D160: =VLOOKUP(C160,'Execução Financeira'!E:AM,36,0) -> #REF! | E160: 0 | F160: 0 | G160: =IF(D160=F160,"ok","verificar") -> #REF!
B161: QUATRO - ADMINISTRAÇÃO E SERVIÇOS LTDA. | C161: 0044-SL/2023/0035 | D161: =VLOOKUP(C161,'Execução Financeira'!E:AM,36,0) -> #REF! | E161: 0 | F161: 0 | G161: =IF(D161=F161,"ok","verificar") -> #REF!
B162: ROTA LIVRE TURISMO LTDA. | C162: 0037-TG/2023/0021 | D162: =VLOOKUP(C162,'Execução Financeira'!E:AM,36,0) -> #REF! | E162: 0 | F162: 0 | G162: =IF(D162=F162,"ok","verificar") -> #REF!
B163: NAVESA MERCANTIL DE VEÍCULOS LTDA | C163: 0007-FM/2026/0001 | D163: =VLOOKUP(C163,'Execução Financeira'!E:AM,36,0) -> #REF! | E163: 0 | F163: 0 | G163: =IF(D163=F163,"ok","verificar") -> #REF!
B164: NGN DISTRIBUIDORA DE VEÍCULOS LTDA | C164: 0006-FM/2026/0001 | D164: =VLOOKUP(C164,'Execução Financeira'!E:AM,36,0) -> #REF! | E164: 0 | F164: 0 | G164: =IF(D164=F164,"ok","verificar") -> #REF!
B165: CSE ADMINISTRAÇÃO E SERVIÇOS LTDA. | C165: 0012-SL/2026/0037 | D165: =VLOOKUP(C165,'Execução Financeira'!E:AM,36,0) -> #REF! | E165: 0 | F165: 37029.99 | G165: =IF(D165=F165,"ok","verificar") -> #REF!
...
